Workbook
Name 特殊: [1]特殊石材!$A$1:$C$65536

Sheet 12月菜單
B1: 屏東縣東寧國小110年12月份午餐菜單
B2: 日期 | C2: 星期 | D2: 主食 | E2: 副食一 | F2: 副食二 | G2: 副食三 | H2: 湯 | I2: 水果 (飲品) | J2: 規格 (克) | K2: 熱量 (大卡)
C3: 一 | K3: =[2]第一週!E40 -> 696.19072
C4: 二 | K4: ='1201-1203'!L38 -> 450
B5: 12/1 | C5: 三 | D5: 什錦飯湯 | F5: 肉包*1 | I5: 水果 | K5: ='1201-1203'!S38 -> 770.72814
B6: 12/2 | C6: 四 | D6: 糙米飯 | E6: 魚丸滷肉燥 | F6: 三色豆腐 | G6: 季節時蔬 | H6: 蘿蔔海帶龍骨湯 | K6: ='1201-1203'!Z38 -> 725.71802
B7: 12/3 | C7: 五 | D7: 白米飯 | E7: 三杯雞 | F7: 西魯肉 | G7: 有機蔬菜 | H7: 冬瓜山粉圓湯 | K7: ='1201-1203'!AG38 -> 676.94644
B8: 12/6 | C8: 一 | D8: 白米飯 | E8: 麻油雞 | F8: 泰式冬粉 | G8: 季節時蔬 | H8: 紫菜豆腐湯 | K8: ='1206-1210'!E38 -> 748.60075
B9: 12/7 | C9: 二 | D9: 糙米飯 | E9: 豆酥魚丁 | F9: 玉米滑蛋 | G9: 季節時蔬 | H9: 味噌蔬菜湯 | K9: ='1206-1210'!L38 -> 732.46839
B10: 12/8 | C10: 三 | D10: 茄汁義大利肉醬麵 | F10: 紅豆包*1 | H10: 南瓜濃湯 | I10: 水果 | K10: ='1206-1210'!S38 -> 856.98358
B11: 12/9 | C11: 四 | D11: 糙米飯 | E11: 義式燒雞 | F11: 蝦皮黃瓜 | G11: 季節時蔬 | H11: 白菜魚丸湯 | K11: ='1206-1210'!Z38 -> 675.01999
B12: 12/10 | C12: 五 | D12: 白米飯 | E12: 黑胡椒肉片 | F12: 銀芽炒甜不辣 | G12: 有機蔬菜 | H12: 冬瓜油腐湯 | K12: ='1206-1210'!AG38 -> 696.3898
B13: 12/13 | C13: 一 | D13: 白米飯 | E13: 五味醬雞丁 | F13: 肉絲青花 | G13: 季節時蔬 | H13: 什錦菇羹湯 | K13: 0
B14: 12/14 | C14: 二 | D14: 糙米飯 | E14: 客家封肉 | F14: 香菇高麗菜 | G14: 季節時蔬 | H14: 海芽蛋花湯 | K14: ='1213-1217'!L38 -> 691.94127
B15: 12/15 | C15: 三 | D15: 香腸肉絲蛋炒飯 | G15: 季節時蔬 | H15: 黃瓜龍骨湯 | I15: 水果 | K15: ='1213-1217'!S38 -> 714.49215
B16: 12/16 | C16: 四 | D16: 糙米飯 | E16: 梅汁雞腿*1 | F16: 翡翠蒸蛋 | G16: 季節時蔬 | H16: 蘿蔔玉米湯 | K16: ='1213-1217'!Z38 -> 692.91743
B17: 12/17 | C17: 五 | D17: 白米飯 | E17: 咕咾肉 | F17: 針菇海帶絲 | G17: 有機蔬菜 | H17: 冬至湯圓 | K17: ='1213-1217'!AG38 -> 788.07036
B18: 12/20 | C18: 一 | D18: 白米飯 | E18: 醬爆豬柳 | F18: 魚丸黃瓜 | G18: 季節時蔬 | H18: 紅燒馬鈴薯湯 | K18: ='1220-1224'!E38 -> 697.83645
B19: 12/21 | C19: 二 | D19: 糙米飯 | E19: 麻醬雞丁 | F19: 培根玉米 | G19: 季節時蔬 | H19: 酸辣湯 | K19: ='1220-1224'!L38 -> 721.84931
B20: 12/22 | C20: 三 | D20: 泡菜豬肉拉麵 | F20: 芋泥包*1 | I20: 水果 | K20: ='1220-1224'!S38 -> 790.63433
B21: 12/23 | C21: 四 | D21: 糙米飯 | E21: 油蔥雞 | F21: 絲瓜燴蛋 | G21: 季節時蔬 | H21: 味噌湯 | I21: 鮮奶 | K21: ='1220-1224'!Z38 -> 811.35007
B22: 12/24 | C22: 五 | D22: 白米飯 | E22: 鼓汁排骨 | F22: 咖哩雙花菜 | G22: 有機蔬菜 | H22: 關東煮 | K22: ='1220-1224'!AG38 -> 714.54722
B23: 12/27 | C23: 一 | D23: 白米飯 | E23: 蘑菇醬肉片 | F23: 番茄蛋豆腐 | G23: 季節時蔬 | H23: 針菇紫菜湯 | K23: ='1220-1224'!AG38 -> 714.54722
B24: 12/28 | C24: 二 | D24: 糙米飯 | E24: 枸杞燉雞 | F24: 蛋香白菜 | G24: 季節時蔬 | H24: 柴魚鍋燒湯 | K24: ='1227-1230'!L38 -> 672.66891
B25: 12/29 | C25: 三 | D25: 豬肉粳飯(湯) | F25: 奶皇包*1 | I25: 水果 | K25: ='1227-1230'!S38 -> 614.08412
B26: 12/30 | C26: 四 | D26: 糙米飯 | E26: 椒鹽雞塊*1 | F26: 肉末咖哩 | G26: 季節時蔬 | H26: 扁蒲蛋花湯 | K26: ='1227-1230'!Z38 -> 725.02885
B27: 12/31 | C27: 五 | D27: 元旦連休 | K27: ='1227-1230'!AG38 -> 741.82517
H28: 食材供應廠商:芳味香食品
B29: 備註:本廠使用的豬肉及其製品原料產地皆為國產豬肉。

Sheet 1201-1203
A1: 屏東縣東寧國小110年12月第一週學生午餐食譜設計表
A2: 供應人數： | C2: 670人+10備份 (份數的備份+30) | P2: 本校/園一律使用國產 豬、牛肉食材 | X2: 食材供應商:芳味香食品企業有限公司 07-7037855
A3: 日期 | B3: 月 日 星期一 | I3: 月 日 星期二 | P3: 12 月 1 日 星期三 | W3: 12 月 2 日 星期四 | AD3: 12 月 3 日 星期五
A4: 項目 | C4: 材料 | D4: 每人(g) | E4: 學校採購量(kg) | F4: C | G4: P | H4: V | J4: 材料 | K4: 每人(g) | L4: 學校採購量(kg) | M4: C | N4: P | O4: V | P4: 菜名/烹調法 | Q4: 材料 | R4: 每人(g) | S4: 學校採購量(kg) | T4: C | U4: P | V4: V | W4: 菜名/烹調法 | X4: 材料 | Y4: 每人(g) | Z4: 學校採購量(kg) | AA4: C | AB4: P | AC4: V | AD4: 菜名/烹調法 | AE4: 材料 | AF4: 每人(g) | AG4: 學校採購量(kg) | AH4: C | AI4: P | AJ4: V
A5: 主食 | F5: 4.5 | I5: 糙米飯 | J5: 白米 | M5: 4.5 | P5: 什錦飯湯 | Q5: 白米飯 | R5: 100 | S5: 35 | T5: =R5/20 -> 5 | W5: 糙米飯 | X5: 白米 | Y5: 52 | Z5: 35 | AA5: 4.5 | AD5: 白米飯 | AE5: 白米 | AF5: 75 | AG5: 50 | AH5: 4.5
J6: 糙米 | Q6: 肉絲 | R6: =S6/670*1000 -> 53.731343 | S6: 36 | U6: =R6/35 -> 1.5351812 | X6: 糙米 | Y6: 22 | Z6: 15
Q7: 虱目魚丸Q | R7: =S7/670*1000 -> 8.9552239 | S7: 6 | U7: =R7/50 -> 0.17910448 | AL7: 東寧雜貨送校
A8: 副 食一 | B8: ='12月菜單'!E3 -> 0 | G8: =D8/35 -> 0 | I8: ='12月菜單'!E4 -> 0 | K8: =L8/690*1000 -> 0 | N8: =K8/40*0.85 -> 0 | Q8: 鮮筍絲Q | R8: =S8/670*1000 -> 14.925373 | S8: 10 | V8: =R8/100 -> 0.14925373 | W8: ='12月菜單'!E6 -> 魚丸滷肉燥 | X8: 絞肉 | Y8: =Z8/670*1000 -> 58.208955 | Z8: 39 | AB8: =Y8/35 -> 1.663113 | AD8: ='12月菜單'!E7 -> 三杯雞 | AE8: 雞腿丁 | AF8: =AG8/670*1000 -> 83.58209 | AG8: 56 | AI8: =AF8/40*0.85 -> 1.7761194
H9: =D9/100 -> 0 | K9: =L9/690*1000 -> 0 | O9: =K9/100 -> 0 | Q9: 高麗菜 | R9: =S9/670*1000 -> 52.238806 | S9: 35 | V9: =R9/100 -> 0.52238806 | X9: 魚丸Q | Y9: =Z9/670*1000 -> 17.910448 | Z9: 12 | AB9: =Y9/50 -> 0.35820896 | AE9: 油豆腐 | AF9: =AG9/670*1000 -> 17.910448 | AG9: 12 | AI9: =AF9/55 -> 0.3256445
H10: =D10/100 -> 0 | K10: =L10/690*1000 -> 0 | O10: =K10/100 -> 0 | Q10: 紅蘿蔔 | R10: =S10/670*1000 -> 7.4626866 | S10: 5 | V10: =R10/100 -> 0.074626866 | X10: 洋蔥 | Y10: =Z10/670*1000 -> 17.910448 | Z10: 12 | AC10: =Y10/100 -> 0.17910448 | AE10: 九層塔 | AF10: =AG10/690*1000 -> 0.72463768 | AG10: 0.5
H11: =D11/100 -> 0 | K11: - | Q11: 蝦皮 | R11: - | S11: 0.6 | X11: 油蔥酥 | Y11: - | Z11: 1包 | AE11: 薑片 | AF11: - | AG11: 0.5
K12: - | Q12: 油蔥酥 | R12: - | S12: 1包 | AE12: 麻油 | AF12: - | AG12: 1桶
AE13: 醬油 | AF13: - | AG13: 1桶
AE14: 米酒 | AF14: - | AG14: 適量
AF15: -
A16: 副 食二 | B16: ='12月菜單'!F3 -> 0 | G16: =D16/50 -> 0 | I16: ='12月菜單'!F4 -> 0 | K16: =L16/690*1000 -> 0 | N16: =K16/55 -> 0 | P16: ='12月菜單'!F5 -> 肉包*1 | Q16: CAS肉包 | R16: 30 | S16: 700粒 | T16: 0.8 | U16: 0.3 | W16: ='12月菜單'!F6 -> 三色豆腐 | X16: 豆腐 | Y16: =Z16/670*1000 -> 67.164179 | Z16: 45 | AB16: =Y16/80 -> 0.83955224 | AD16: ='12月菜單'!F7 -> 西魯肉 | AE16: 肉絲 | AF16: =AG16/670*1000 -> 8.9552239 | AG16: 6 | AI16: =AF16/35 -> 0.25586354
H17: =D17/100 -> 0 | K17: =L17/690*1000 -> 0 | O17: =K17/100 -> 0 | X17: 三色丁CAS | Y17: =Z17/670*1000 -> 11.940299 | Z17: 8 | AA17: 0.1 | AC17: 0.1 | AE17: 蝦皮 | AF17: - | AG17: 0.6
H18: =D18/100 -> 0 | K18: - | AE18: 大白菜 | AF18: =AG18/670*1000 -> 62.686567 | AG18: 42 | AJ18: =AF18/100 -> 0.62686567
AE19: 紅蘿蔔 | AF19: =AG19/670*1000 -> 7.4626866 | AG19: 5 | AJ19: =AF19/100 -> 0.074626866
A22: 副食三 | B22: 時蔬 | H22: =D22/100 -> 0 | I22: 時蔬 | K22: =L22/690*1000 -> 0 | O22: =K22/100 -> 0 | W22: 時蔬 | X22: 青江菜 | Y22: =Z22/670*1000 -> 74.626866 | Z22: 50 | AC22: =Y22/100 -> 0.74626866 | AD22: 時蔬 | AE22: 有機蔬菜 | AF22: =AG22/670*1000 -> 74.626866 | AG22: 50 | AJ22: =AF22/100 -> 0.74626866
X23: 香菇 | Y23: =Z23/670*1000 -> 2.9850746 | Z23: 2
A25: 湯類 | B25: ='12月菜單'!H3 -> 0 | G25: =D25/55 -> 0 | I25: ='12月菜單'!H4 -> 0 | K25: =L25/690*1000 -> 0 | O25: =K25/100 -> 0 | W25: ='12月菜單'!H6 -> 蘿蔔海帶龍骨湯 | X25: 海帶結 | Y25: =Z25/670*1000 -> 7.4626866 | Z25: 5 | AC25: =Y25/100 -> 0.074626866 | AD25: ='12月菜單'!H7 -> 冬瓜山粉圓湯 | AE25: 山粉圓 | AF25: =AG25/670*1000 -> 2.9850746 | AG25: 2 | AH25: =AF25/15 -> 0.19900498
H26: =D26/100 -> 0 | K26: =L26/690*1000 -> 0 | N26: =K26/35 -> 0 | X26: 白蘿蔔 | Y26: =Z26/670*1000 -> 29.850746 | Z26: 20 | AC26: =Y26/100 -> 0.29850746 | AE26: 冬瓜磚 | AF26: - | AG26: 2箱
K27: =L27/690*1000 -> 0 | N27: =K27/35 -> 0 | X27: 肉絲 | Y27: =Z27/670*1000 -> 8.9552239 | Z27: 6 | AB27: =Y27/35 -> 0.25586354 | AF27: =AG27/690*1000 -> 0
K28: - | X28: 龍骨 | Y28: =Z28/670*1000 -> 0.14925373 | Z28: 0.1 | AF28: -
Q29: 蒜碎 | S29: 0.4 | X29: 薑絲 | Y29: - | Z29: 0.1 | AE29: 蒜碎 | AG29: 0.5
A30: 水果 | I30: 水果 | P30: 水果 | Q30: 季節水果 | S30: 670份 | W30: 水果 | X30: 蒜碎 | Z30: 0.8 | AD30: 水果
A31: 其他 | B31: 其他 | I31: 其他 | P31: 其他 | W31: 其他 | AD31: 其他
A32: 營養供應比例 | B32: 油脂類(份) | D32: 3 | E32: =D32*45 -> 135 | I32: 油脂類(份) | K32: 3 | L32: =K32*45 -> 135 | P32: 油脂類(份) | R32: 3 | S32: =R32*45 -> 135 | W32: 油脂類(份) | Y32: 3 | Z32: =Y32*45 -> 135 | AD32: 油脂類(份) | AF32: 3 | AG32: =AF32*45 -> 135
B33: 五榖類(份) | D33: =SUM(F5:F29) -> 4.5 | E33: =D33*70 -> 315 | I33: 五榖類(份) | K33: =SUM(M5:M29) -> 4.5 | L33: =K33*70 -> 315 | P33: 五榖類(份) | R33: =SUM(T5:T29) -> 5.8 | S33: =R33*70 -> 406 | W33: 五榖類(份) | Y33: =SUM(AA5:AA29) -> 4.6 | Z33: =Y33*70 -> 322 | AD33: 五榖類(份) | AF33: =SUM(AH5:AH29) -> 4.699005 | AG33: =AF33*70 -> 328.93035
B34: 豆魚肉蛋類(份) | D34: =SUM(G5:G31) -> 0 | E34: =D34*75 -> 0 | I34: 豆魚肉蛋類(份) | K34: =SUM(N5:N31) -> 0 | L34: =K34*75 -> 0 | P34: 豆魚肉蛋類(份) | R34: =SUM(U5:U31) -> 2.0142857 | S34: =R34*75 -> 151.07143 | W34: 豆魚肉蛋類(份) | Y34: =SUM(AB5:AB31) -> 3.1167377 | Z34: =Y34*75 -> 233.75533 | AD34: 豆魚肉蛋類(份) | AF34: =SUM(AI5:AI31) -> 2.3576274 | AG34: =AF34*75 -> 176.82206
B35: 蔬菜類(份) | D35: =SUM(H5:H29) -> 0 | E35: =D35*25 -> 0 | I35: 蔬菜類(份) | K35: =SUM(O5:O29) -> 0 | L35: =K35*25 -> 0 | P35: 蔬菜類(份) | R35: =SUM(V5:V29) -> 0.74626866 | S35: =R35*25 -> 18.656716 | W35: 蔬菜類(份) | Y35: =SUM(AC5:AC29) -> 1.3985075 | Z35: =Y35*25 -> 34.962687 | AD35: 蔬菜類(份) | AF35: =SUM(AJ5:AJ29) -> 1.4477612 | AG35: =AF35*25 -> 36.19403
B36: 水果類(份) | D36: 0 | E36: =D36*60 -> 0 | I36: 水果類(份) | K36: 0 | L36: =K36*60 -> 0 | P36: 水果類(份) | R36: 1 | S36: =R36*60 -> 60 | W36: 水果類(份) | Y36: 0 | Z36: =Y36*60 -> 0 | AD36: 水果類(份) | AF36: 0 | AG36: =AF36*60 -> 0
B37: 乳製品(份) | D37: 0 | E37: =D37*120 -> 0 | I37: 乳製品(份) | K37: 0 | L37: =K37*120 -> 0 | P37: 乳製品(份) | R37: 0 | S37: =R37*120 -> 0 | W37: 乳製品(份) | Y37: 0 | Z37: =Y37*120 -> 0 | AD37: 乳製品(份) | AF37: 0 | AG37: =AF37*120 -> 0
B38: 熱量 | E38: =SUM(E32:E37) -> 450 | I38: 熱量 | L38: =SUM(L32:L37) -> 450 | P38: 熱量 | S38: =SUM(S32:S37) -> 770.72814 | W38: 熱量 | Z38: =SUM(Z32:Z37) -> 725.71802 | AD38: 熱量 | AG38: =SUM(AG32:AG37) -> 676.94644
A39: 廠商營養師: 趙英茹 午餐秘書: 主任: 校長:
A40: 備註:本廠使用的豬肉及其製品原料產地皆為國產豬肉。

Sheet 1206-1210
A1: 屏東縣東寧國小110年12月第二週學生午餐食譜設計表
A2: 供應人數： | C2: 670人+10備份 (份數的備份+30) | P2: 本校/園一律使用國產 豬、牛肉食材 | X2: 食材供應商:芳味香食品企業有限公司 07-7037855
A3: 日期 | B3: 12月6日 星期一 | I3: 12月7日 星期二 | P3: 12月8日 星期三 | W3: 12月9日星期四 | AD3: 12月10日 星期五
A4: 項目 | B4: 菜名/烹調法 | C4: 材料 | D4: 每人(g) | E4: 學校採購量(kg) | F4: C | G4: P | H4: V | I4: 菜名/烹調法 | J4: 材料 | K4: 每人(g) | L4: 學校採購量(kg) | M4: C | N4: P | O4: V | P4: 菜名/烹調法 | Q4: 材料 | R4: 每人(g) | S4: 學校採購量(kg) | T4: C | U4: P | V4: V | W4: 菜名/烹調法 | X4: 材料 | Y4: 每人(g) | Z4: 學校採購量(kg) | AA4: C | AB4: P | AC4: V | AD4: 菜名/烹調法 | AE4: 材料 | AF4: 每人(g) | AG4: 學校採購量(kg) | AH4: C | AI4: P | AJ4: V
A5: 主食 | B5: 白米飯 | C5: 白米 | D5: 75 | E5: 50 | F5: 4.5 | I5: 糙米飯 | J5: 白米 | K5: 52 | L5: 35 | M5: 4.5 | P5: 什錦炒麵 | Q5: 牛排麵 | R5: 154 | S5: 102 | T5: =R5/30 -> 5.1333333 | W5: 糙米飯 | X5: 白米 | Y5: 52 | Z5: 35 | AA5: 4.5 | AD5: 白米飯 | AE5: 白米 | AF5: 75 | AG5: 50 | AH5: 4.5
J6: 糙米 | K6: 22 | L6: 15 | Q6: 豬肉絲 | R6: =S6/670*1000 -> 62.686567 | S6: 42 | U6: =R6/35 -> 1.7910448 | X6: 糙米 | Y6: 22 | Z6: 15
Q7: 洋蔥 | R7: =S7/670*1000 -> 8.9552239 | S7: 6 | V7: =R7/100 -> 0.089552239
A8: 副 食一 | B8: ='12月菜單'!E8 -> 麻油雞 | C8: 雞腿丁 | D8: =E8/670*1000 -> 83.58209 | E8: 56 | G8: =D8/40*0.85 -> 1.7761194 | I8: ='12月菜單'!E9 -> 豆酥魚丁 | J8: 新鮮魚丁Q | K8: =L8/670*1000 -> 134.32836 | L8: 90 | N8: =K8/35*0.6 -> 2.3027719 | Q8: 高麗菜 | R8: =S8/670*1000 -> 52.238806 | S8: 35 | V8: =R8/100 -> 0.52238806 | W8: ='12月菜單'!E11 -> 義式燒雞 | X8: 雞腿丁 | Y8: =Z8/670*1000 -> 82.089552 | Z8: 55 | AB8: =Y8/40*0.85 -> 1.744403 | AD8: ='12月菜單'!E12 -> 黑胡椒肉片 | AE8: 肉片 | AF8: =AG8/670*1000 -> 76.119403 | AG8: 51 | AI8: =AF8/35 -> 2.1748401
C9: 豆皮 | D9: =E9/670*1000 -> 4.4776119 | E9: 3 | G9: =D9/15 -> 0.29850746 | J9: 百頁 | K9: =L9/670*1000 -> 8.9552239 | L9: 6 | N9: =K9/70 -> 0.12793177 | Q9: 紅蘿蔔 | R9: =S9/670*1000 -> 7.4626866 | S9: 5 | X9: 番茄 | Y9: =Z9/670*1000 -> 11.940299 | Z9: 8 | AC9: =Y9/100 -> 0.11940299 | AE9: 洋蔥 | AF9: =AG9/670*1000 -> 17.910448 | AG9: 12 | AJ9: =AF9/100 -> 0.17910448
C10: 杏鮑菇 | D10: =E10/670*1000 -> 4.4776119 | E10: 3 | H10: =D10/100 -> 0.044776119 | J10: 豆酥 | K10: - | L10: 0.6 | Q10: 生香菇 | R10: =S10/670*1000 -> 4.4776119 | S10: 3 | X10: 洋蔥 | Y10: =Z10/670*1000 -> 17.910448 | Z10: 12 | AC10: =Y10/100 -> 0.17910448 | AE10: 紅蘿蔔 | AF10: =AG10/670*1000 -> 8.9552239 | AG10: 6 | AJ10: =AF10/100 -> 0.089552239
C11: 高麗菜 | D11: =E11/670*1000 -> 26.865672 | E11: 18 | H11: =D11/100 -> 0.26865672 | J11: 蒜末 | K11: - | Q11: 雞蛋 | R11: =S11/670*1000 -> 17.910448 | S11: 12 | U11: =R11/55 -> 0.3256445 | X11: 紅蘿蔔 | Y11: =Z11/670*1000 -> 11.940299 | Z11: 8 | AC11: =Y11/100 -> 0.11940299 | AE11: 黑胡椒醬 | AF11: - | AG11: 2桶
C12: 薑片 | D12: - | E12: 0.5 | J12: 蔥 | K12: - | L12: 0.6 | X12: 義式香料 | Y12: - | Z12: 1包
C13: 麻油 | D13: - | E13: 1桶
A16: 副 食二 | B16: ='12月菜單'!F8 -> 泰式冬粉 | C16: 寬冬粉 | D16: =E16/670*1000 -> 13.432836 | E16: 9 | F16: =D16/15 -> 0.89552239 | I16: ='12月菜單'!F9 -> 玉米滑蛋 | J16: 雞蛋 | K16: =L16/670*1000 -> 29.850746 | L16: 20 | N16: =K16/55 -> 0.54274084 | P16: ='12月菜單'!F10 -> 紅豆包*1 | Q16: 紅豆包 | R16: 30 | S16: 700粒 | T16: 1 | W16: ='12月菜單'!F11 -> 蝦皮黃瓜 | X16: 大黃瓜 | Y16: =Z16/670*1000 -> 67.164179 | Z16: 45 | AC16: =Y16/100 -> 0.67164179 | AD16: ='12月菜單'!F12 -> 銀芽炒甜不辣 | AE16: 黑輪片 | AF16: =AG16/670*1000 -> 22.38806 | AG16: 15 | AH16: =AF16/70 -> 0.31982942
C17: 高麗菜 | D17: =E17/670*1000 -> 37.313433 | E17: 25 | H17: =D17/100 -> 0.37313433 | J17: 玉米粒 | K17: =L17/670*1000 -> 37.313433 | L17: 25 | M17: =K17/85 -> 0.43898156 | X17: 紅蘿蔔 | Y17: =Z17/670*1000 -> 7.4626866 | Z17: 5 | AC17: =Y17/100 -> 0.074626866 | AE17: 豆芽菜 | AF17: =AG17/670*1000 -> 44.776119 | AG17: 30 | AJ17: =AF17/100 -> 0.44776119
C18: 紅蘿蔔 | D18: =E18/670*1000 -> 4.4776119 | E18: 3 | H18: =D18/100 -> 0.044776119 | J18: 紅蘿蔔 | K18: =L18/670*1000 -> 10.447761 | L18: 7 | X18: 蝦皮 | Y18: =Z18/670*1000 -> 0.89552239 | Z18: 0.6 | AE18: 韭菜 | AF18: =AG18/670*1000 -> 2.9850746 | AG18: 2 | AJ18: =AF18/100 -> 0.029850746
C19: 肉片 | D19: =E19/670*1000 -> 4.4776119 | E19: 3 | G19: =D19/15 -> 0.29850746 | V19: =R19/100 -> 0 | X19: 肉片 | Y19: =Z19/670*1000 -> 8.9552239 | Z19: 6 | AB19: =Y19/35 -> 0.25586354
V20: =R20/100 -> 0
A22: 副食三 | B22: 時蔬 | C22: 油菜 | D22: =E22/670*1000 -> 74.626866 | E22: 50 | H22: =D22/100 -> 0.74626866 | I22: 時蔬 | J22: 鵝白菜 | K22: =L22/670*1000 -> 74.626866 | L22: 50 | O22: =K22/100 -> 0.74626866 | W22: 時蔬 | X22: 莧菜 | Y22: =Z22/670*1000 -> 74.626866 | Z22: 50 | AC22: =Y22/100 -> 0.74626866 | AD22: 時蔬 | AE22: 有機蔬菜 | AF22: =AG22/670*1000 -> 74.626866 | AG22: 50 | AJ22: =AF22/100 -> 0.74626866
C23: 黑木耳 | D23: =E23/670*1000 -> 2.9850746 | E23: 2 | J23: 薑絲 | K23: - | L23: 0.2 | X23: 枸杞 | Z23: 1包
A25: 湯類 | B25: ='12月菜單'!H8 -> 紫菜豆腐湯 | C25: 豆腐 | D25: =E25/670*1000 -> 22.38806 | E25: 15 | G25: =D25/80 -> 0.27985075 | I25: ='12月菜單'!H9 -> 味噌蔬菜湯 | J25: 大白菜 | K25: =L25/670*1000 -> 29.850746 | L25: 20 | O25: =K25/100 -> 0.29850746 | P25: ='12月菜單'!H10 -> 南瓜濃湯 | Q25: 雞蛋 | R25: =S25/670*1000 -> 11.940299 | S25: 8 | U25: =R25/55 -> 0.21709634 | W25: ='12月菜單'!H11 -> 白菜魚丸湯 | X25: 虱目魚丸 | Y25: =Z25/670*1000 -> 13.432836 | Z25: 9 | AB25: =Y25/50 -> 0.26865672 | AD25: ='12月菜單'!H12 -> 冬瓜油腐湯 | AE25: 油豆腐 | AF25: =AG25/670*1000 -> 10.447761 | AG25: 7 | AI25: =AF25/55 -> 0.18995929
C26: 紫菜-包 | D26: =E26/690*1000 -> 2.8985507 | E26: 2 | J26: 金針菇 | K26: =L26/670*1000 -> 5.9701493 | L26: 4 | O26: =K26/100 -> 0.059701493 | Q26: 南瓜 | R26: =S26/670*1000 -> 22.38806 | S26: 15 | T26: =R26/85 -> 0.26338894 | X26: 小白菜 | Y26: =Z26/670*1000 -> 22.38806 | Z26: 15 | AC26: =Y26/100 -> 0.2238806 | AE26: 冬瓜 | AF26: =AG26/670*1000 -> 37.313433 | AG26: 25 | AJ26: =AF26/100 -> 0.37313433
J27: 紅蘿蔔 | K27: =L27/670*1000 -> 4.4776119 | L27: 3 | O27: =K27/100 -> 0.044776119 | Q27: 馬鈴薯 | R27: =S27/670*1000 -> 26.865672 | S27: 18 | T27: =R27/90 -> 0.29850746 | X27: 金針菇 | Y27: =Z27/670*1000 -> 5.9701493 | Z27: 4 | AC27: =Y27/100 -> 0.059701493 | AE27: 油蔥酥 | AF27: - | AG27: 1包
J28: 小魚乾 | K28: - | L28: 0.6 | Q28: 紅蘿蔔 | R28: =S28/670*1000 -> 11.940299 | S28: 8 | V28: =R28/100 -> 0.11940299 | X28: 冬菜 | Y28: - | Z28: 2包
C29: 蒜碎 | E29: 0.5 | J29: 味噌 | K29: - | L29: 2盒 | Q29: 蒜碎 | S29: 0.4 | X29: 蒜碎 | Z29: 0.8 | AE29: 蒜碎 | AG29: 0.8
A30: 水果 | I30: 水果 | J30: 蒜碎 | L30: 0.8 | P30: 水果 | Q30: 季節水果 | S30: 670份 | W30: 水果 | AD30: 水果
A31: 其他 | B31: 其他 | I31: 其他 | P31: 其他 | W31: 其他 | AD31: 其他
A32: 營養供應比例 | B32: 油脂類(份) | D32: 3 | E32: =D32*45 -> 135 | I32: 油脂類(份) | K32: 3 | L32: =K32*45 -> 135 | P32: 油脂類(份) | R32: 3 | S32: =R32*45 -> 135 | W32: 油脂類(份) | Y32: 3 | Z32: =Y32*45 -> 135 | AD32: 油脂類(份) | AF32: 3 | AG32: =AF32*45 -> 135
B33: 五榖類(份) | D33: =SUM(F5:F29) -> 5.3955224 | E33: =D33*70 -> 377.68657 | I33: 五榖類(份) | K33: =SUM(M5:M29) -> 4.9389816 | L33: =K33*70 -> 345.72871 | P33: 五榖類(份) | R33: =SUM(T5:T29) -> 6.6952297 | S33: =R33*70 -> 468.66608 | W33: 五榖類(份) | Y33: =SUM(AA5:AA29) -> 4.5 | Z33: =Y33*70 -> 315 | AD33: 五榖類(份) | AF33: =SUM(AH5:AH29) -> 4.8198294 | AG33: =AF33*70 -> 337.38806
B34: 豆魚肉蛋類(份) | D34: =SUM(G5:G31) -> 2.6529851 | E34: =D34*75 -> 198.97388 | I34: 豆魚肉蛋類(份) | K34: =SUM(N5:N31) -> 2.9734445 | L34: =K34*75 -> 223.00833 | P34: 豆魚肉蛋類(份) | R34: =SUM(U5:U31) -> 2.3337856 | S34: =R34*75 -> 175.03392 | W34: 豆魚肉蛋類(份) | Y34: =SUM(AB5:AB31) -> 2.2689232 | Z34: =Y34*75 -> 170.16924 | AD34: 豆魚肉蛋類(份) | AF34: =SUM(AI5:AI31) -> 2.3647994 | AG34: =AF34*75 -> 177.35995
B35: 蔬菜類(份) | D35: =SUM(H5:H29) -> 1.4776119 | E35: =D35*25 -> 36.940299 | I35: 蔬菜類(份) | K35: =SUM(O5:O29) -> 1.1492537 | L35: =K35*25 -> 28.731343 | P35: 蔬菜類(份) | R35: =SUM(V5:V29) -> 0.73134328 | S35: =R35*25 -> 18.283582 | W35: 蔬菜類(份) | Y35: =SUM(AC5:AC29) -> 2.1940299 | Z35: =Y35*25 -> 54.850746 | AD35: 蔬菜類(份) | AF35: =SUM(AJ5:AJ29) -> 1.8656716 | AG35: =AF35*25 -> 46.641791
B36: 水果類(份) | D36: 0 | E36: =D36*60 -> 0 | I36: 水果類(份) | K36: 0 | L36: =K36*60 -> 0 | P36: 水果類(份) | R36: 1 | S36: =R36*60 -> 60 | W36: 水果類(份) | Y36: 0 | Z36: =Y36*60 -> 0 | AD36: 水果類(份) | AF36: 0 | AG36: =AF36*60 -> 0
B37: 乳製品(份) | D37: 0 | E37: =D37*120 -> 0 | I37: 乳製品(份) | K37: 0 | L37: =K37*120 -> 0 | P37: 乳製品(份) | R37: 0 | S37: =R37*120 -> 0 | W37: 乳製品(份) | Y37: 0 | Z37: =Y37*120 -> 0 | AD37: 乳製品(份) | AF37: 0 | AG37: =AF37*120 -> 0
B38: 熱量 | E38: =SUM(E32:E37) -> 748.60075 | I38: 熱量 | L38: =SUM(L32:L37) -> 732.46839 | P38: 熱量 | S38: =SUM(S32:S37) -> 856.98358 | W38: 熱量 | Z38: =SUM(Z32:Z37) -> 675.01999 | AD38: 熱量 | AG38: =SUM(AG32:AG37) -> 696.3898
A39: 廠商營養師: 趙英茹 午餐秘書: 主任: 校長:
A40: 備註:本廠使用的豬肉及其製品原料產地皆為國產豬肉。

Sheet 1213-1217
A1: 屏東縣東寧國小110年12月第三週學生午餐食譜設計表
A2: 供應人數： | C2: 670人+10備份 (份數的備份+30) | P2: 本校/園一律使用國產 豬、牛肉食材 | X2: 食材供應商:芳味香食品企業有限公司 07-7037855
A3: 日期 | B3: 12月13日 星期一 | I3: 12月14日 星期二 | P3: 12月15日 星期三 | W3: 12月16日 星期四 | AD3: 12月17日星期五
A4: 項目 | B4: 菜名/烹調法 | C4: 材料 | D4: 每人(g) | E4: 學校採購量(kg) | F4: C | G4: P | H4: V | I4: 菜名/烹調法 | J4: 材料 | K4: 每人(g) | L4: 學校採購量(kg) | M4: C | N4: P | O4: V | P4: 菜名/烹調法 | Q4: 材料 | R4: 每人(g) | S4: 學校採購量(kg) | T4: C | U4: P | V4: V | W4: 菜名/烹調法 | X4: 材料 | Y4: 每人(g) | Z4: 學校採購量(kg) | AA4: C | AB4: P | AC4: V | AD4: 菜名/烹調法 | AE4: 材料 | AF4: 每人(g) | AG4: 學校採購量(kg) | AH4: C | AI4: P | AJ4: V
A5: 主食 | B5: 白米飯 | C5: 白米 | D5: 75 | E5: 50 | F5: 4.5 | I5: 糙米飯 | J5: 白米 | K5: 52 | L5: 35 | M5: 4.5 | P5: 香腸肉絲蛋炒飯 | Q5: 白米 | R5: =S5/690*1000 -> 36.231884 | S5: 25 | T5: 4.5 | W5: 糙米飯 | X5: 白米 | Y5: 52 | Z5: 35 | AA5: 4.5 | AD5: 白米飯 | AE5: 白米 | AF5: 75 | AG5: 50 | AH5: 4.5
J6: 糙米 | K6: 22 | L6: 15 | Q6: 肉絲 | R6: =S6/670*1000 -> 40.298507 | S6: 27 | U6: =R6/35 -> 1.1513859 | X6: 糙米 | Y6: 22 | Z6: 15
Q7: 雞蛋 | R7: =S7/670*1000 -> 26.865672 | S7: 18 | U7: =R7/55 -> 0.48846676
A8: 副 食一 | B8: ='12月菜單'!E13 -> 五味醬雞丁 | C8: 雞腿丁 | D8: =E8/670*1000 -> 83.58209 | E8: 56 | G8: =D8/40*0.85 -> 1.7761194 | I8: ='12月菜單'!E14 -> 客家封肉 | J8: 肉丁 | K8: =L8/670*1000 -> 76.119403 | L8: 51 | N8: =K8/35 -> 2.1748401 | Q8: 洋蔥 | R8: =S8/670*1000 -> 17.910448 | S8: 12 | V8: =R8/100 -> 0.17910448 | W8: ='12月菜單'!E16 -> 梅汁雞腿*1 | X8: 雞腿 | Y8: 120 | Z8: 700片 | AB8: =Y8/40*0.5 -> 1.5 | AD8: ='12月菜單'!E17 -> 咕咾肉 | AE8: 豬肉丁 | AF8: =AG8/670*1000 -> 76.119403 | AG8: 51 | AI8: =AF8/35 -> 2.1748401
C9: 地瓜 | D9: =E9/670*1000 -> 26.865672 | E9: 18 | F9: =D9/85 -> 0.31606673 | J9: 冬瓜 | K9: =L9/670*1000 -> 26.865672 | L9: 18 | O9: =K9/100 -> 0.26865672 | Q9: 紅蘿蔔 | R9: =S9/670*1000 -> 11.940299 | S9: 8 | V9: =R9/100 -> 0.11940299 | X9: 梅子-包 | Z9: 1包 | AE9: 紅蘿蔔 | AF9: =AG9/670*1000 -> 14.925373 | AG9: 10 | AJ9: =AG9/35 -> 0.28571429
C10: 白芝麻 | D10: - | E10: 1包 | J10: 筍乾 | K10: =L10/670*1000 -> 14.925373 | L10: 10 | O10: =K10/100 -> 0.14925373 | Q10: 毛豆 | R10: =S10/670*1000 -> 4.4776119 | S10: 3 | U10: =R10/50 -> 0.089552239 | AE10: 洋蔥 | AF10: =AG10/670*1000 -> 22.38806 | AG10: 15 | AJ10: =AG10/35 -> 0.42857143
C11: 糖 | D11: - | E11: 適量 | Q11: 香腸CAS | R11: =S11/670*1000 -> 13.432836 | S11: 9 | U11: =R11/50 -> 0.26865672 | AE11: 鳳梨 | AF11: - | AG11: 25
C12: 醬油 | D12: - | E12: 1桶
C13: 烏醋 | D13: - | E13: 少許
C14: 醬油 | D14: - | E14: 1桶
C15: 豆瓣醬 | D15: - | E15: 1桶
A16: 副 食二 | B16: ='12月菜單'!F13 -> 肉絲青花 | C16: 肉絲 | D16: 6 | E16: 6 | G16: =D16/35 -> 0.17142857 | I16: ='12月菜單'!F14 -> 香菇高麗菜 | J16: 香菇 | K16: =L16/670*1000 -> 7.4626866 | L16: 5 | O16: =K16/100 -> 0.074626866 | P16: ='12月菜單'!F15 -> 0 | W16: ='12月菜單'!F16 -> 翡翠蒸蛋 | X16: 雞蛋 | Y16: =Z16/670*1000 -> 61.19403 | Z16: 41 | AB16: =Y16/55 -> 1.1126187 | AD16: ='12月菜單'!F17 -> 針菇海帶絲 | AE16: 金針菇 | AF16: =AG16/670*1000 -> 11.940299 | AG16: 8 | AJ16: =AG16/35 -> 0.22857143
C17: 青花菜 | D17: =E17/670*1000 -> 62.686567 | E17: 42 | H17: =D17/100 -> 0.62686567 | J17: 高麗菜 | K17: =L17/670*1000 -> 67.164179 | L17: 45 | O17: =K17/100 -> 0.67164179 | X17: 翡翠-盒 | Y17: =Z17/690*1000 -> 4.3478261 | Z17: 3 | AE17: 海帶絲 | AF17: =AG17/670*1000 -> 23.880597 | AG17: 16 | AJ17: =AG17/35 -> 0.45714286
C18: 紅蘿蔔 | D18: =E18/670*1000 -> 7.4626866 | E18: 5 | H18: =D18/100 -> 0.074626866 | J18: 紅蘿蔔 | K18: =L18/670*1000 -> 4.4776119 | L18: 3 | O18: =K18/100 -> 0.044776119 | V18: =R18/100 -> 0 | AE18: 紅蘿蔔 | AF18: =AG18/670*1000 -> 5.9701493 | AG18: 4 | AJ18: =AG18/35 -> 0.11428571
J19: 肉絲 | K19: =L19/670*1000 -> 4.4776119 | L19: 3 | N19: =K19/35 -> 0.12793177 | V19: =R19/100 -> 0 | AC19: =Z19/35 -> 0 | AE19: 肉絲 | AF19: =AG19/670*1000 -> 8.9552239 | AG19: 6 | AI19: =AF19/35 -> 0.25586354
V20: =R20/100 -> 0 | AB20: =Y20/35 -> 0
A22: 副食三 | B22: 時蔬 | C22: 小白菜 | D22: =E22/670*1000 -> 74.626866 | E22: 50 | H22: =D22/100 -> 0.74626866 | I22: 時蔬 | J22: 青江菜 | K22: =L22/670*1000 -> 74.626866 | L22: 50 | O22: =K22/100 -> 0.74626866 | P22: 時蔬 | Q22: 時蔬 | R22: =S22/670*1000 -> 74.626866 | S22: 50 | V22: =R22/100 -> 0.74626866 | W22: 時蔬 | X22: 鵝白菜 | Y22: =Z22/670*1000 -> 74.626866 | Z22: 50 | AC22: =Y22/100 -> 0.74626866 | AD22: 時蔬 | AE22: 有機蔬菜 | AF22: =AG22/670*1000 -> 74.626866 | AG22: 50 | AJ22: =AF22/100 -> 0.74626866
C23: 薑絲 | D23: - | E23: 0.2 | J23: 沙茶醬
C24: 雞蛋 | D24: =E24/670*1000 -> 8.9552239 | E24: 6 | G24: =D24/55 -> 0.16282225
A25: 湯類 | B25: ='12月菜單'!H13 -> 什錦菇羹湯 | C25: 香菇 | D25: =E25/670*1000 -> 4.4776119 | E25: 3 | H25: =D25/100 -> 0.044776119 | I25: ='12月菜單'!H14 -> 海芽蛋花湯 | J25: 雞蛋 | K25: =L25/670*1000 -> 14.925373 | L25: 10 | N25: =K25/55 -> 0.27137042 | P25: ='12月菜單'!H15 -> 黃瓜龍骨湯 | Q25: 大黃瓜 | R25: =S25/670*1000 -> 37.313433 | S25: 25 | V25: =R25/100 -> 0.37313433 | W25: ='12月菜單'!H16 -> 蘿蔔玉米湯 | X25: 白蘿蔔 | Y25: =Z25/670*1000 -> 14.925373 | Z25: 10 | AC25: =Y25/100 -> 0.14925373 | AD25: ='12月菜單'!H17 -> 冬至湯圓 | AE25: 紅豆 | AF25: =AG25/670*1000 -> 14.925373 | AG25: 10 | AH25: =AF25/25 -> 0.59701493
C26: 金針菇 | D26: =E26/670*1000 -> 5.9701493 | E26: 4 | H26: =D26/100 -> 0.059701493 | J26: 乾海帶芽 | K26: - | L26: 1包 | Q26: 龍骨 | R26: =S26/670*1000 -> 8.9552239 | S26: 6 | X26: 玉米粒 | Y26: =Z26/670*1000 -> 29.850746 | Z26: 20 | AA26: =Y26/85 -> 0.35118525 | AE26: 薏仁 | AF26: =AG26/670*1000 -> 4.4776119 | AG26: 3 | AH26: =AF26/20 -> 0.2238806
C27: 大白菜 | D27: =E27/670*1000 -> 22.38806 | E27: 15 | H27: =D27/100 -> 0.2238806 | N27: =K27/35 -> 0 | Q27: 肉絲 | R27: =S27/670*1000 -> 8.9552239 | S27: 6 | U27: =R27/35 -> 0.25586354 | X27: 冬菜 | Y27: - | Z27: 2包 | AE27: 白湯圓 | AF27: =AG27/670*1000 -> 8.9552239 | AG27: 6 | AH27: =AF27/30 -> 0.29850746
C28: 紅蘿蔔 | D28: =E28/670*1000 -> 4.4776119 | E28: 3 | H28: =D28/100 -> 0.044776119 | O28: =K28/100 -> 0 | AB28: =Y28/35 -> 0 | AE28: 紅湯圓 | AF28: =AG28/670*1000 -> 8.9552239 | AG28: 6 | AH28: =AF28/30 -> 0.29850746
C29: 木耳 | D29: =E29/670*1000 -> 2.9850746 | E29: 2 | H29: =D29/100 -> 0.029850746 | J29: 蒜碎 | L29: 0.8 | O29: =K29/100 -> 0 | Q29: 蒜碎 | S29: 0.6 | X29: 蒜碎 | Z29: 0.2 | AE29: 蒜碎 | AG29: 0.8
A30: 水果 | C30: 蒜碎 | E30: 0.6 | I30: 水果 | W30: 水果 | AD30: 水果
A31: 其他 | I31: 其他 | P31: 其他 | Q31: 季節水果 | S31: 674份 | W31: 其他 | AD31: 其他
A32: 營養供應比例 | B32: 油脂類(份) | D32: 3 | E32: =D32*45 -> 135 | I32: 油脂類(份) | K32: 3 | L32: =K32*45 -> 135 | P32: 油脂類(份) | R32: 3 | S32: =R32*45 -> 135 | W32: 油脂類(份) | Y32: 3 | Z32: =Y32*45 -> 135 | AD32: 油脂類(份) | AF32: 3 | AG32: =AF32*45 -> 135
B33: 五榖類(份) | D33: =SUM(F5:F29) -> 4.8160667 | E33: =D33*70 -> 337.12467 | I33: 五榖類(份) | K33: =SUM(M5:M29) -> 4.5 | L33: =K33*70 -> 315 | P33: 五榖類(份) | R33: =SUM(T5:T29) -> 4.5 | S33: =R33*70 -> 315 | W33: 五榖類(份) | Y33: =SUM(AA5:AA29) -> 4.8511853 | Z33: =Y33*70 -> 339.58297 | AD33: 五榖類(份) | AF33: =SUM(AH5:AH29) -> 5.9179104 | AG33: =AF33*70 -> 414.25373
B34: 豆魚肉蛋類(份) | D34: =SUM(G5:G31) -> 2.1103702 | E34: =D34*75 -> 158.27777 | I34: 豆魚肉蛋類(份) | K34: =SUM(N5:N31) -> 2.5741423 | L34: =K34*75 -> 193.06067 | P34: 豆魚肉蛋類(份) | R34: =SUM(U5:U31) -> 2.2539252 | S34: =R34*75 -> 169.04439 | W34: 豆魚肉蛋類(份) | Y34: =SUM(AB5:AB31) -> 2.6126187 | Z34: =Y34*75 -> 195.9464 | AD34: 豆魚肉蛋類(份) | AF34: =SUM(AI5:AI31) -> 2.4307036 | AG34: =AF34*75 -> 182.30277
B35: 蔬菜類(份) | D35: =SUM(H5:H29) -> 1.8507463 | E35: =D35*25 -> 46.268657 | I35: 蔬菜類(份) | K35: =SUM(O5:O29) -> 1.9552239 | L35: =K35*25 -> 48.880597 | P35: 蔬菜類(份) | R35: =SUM(V5:V29) -> 1.4179104 | S35: =R35*25 -> 35.447761 | W35: 蔬菜類(份) | Y35: =SUM(AC5:AC29) -> 0.89552239 | Z35: =Y35*25 -> 22.38806 | AD35: 蔬菜類(份) | AF35: =SUM(AJ5:AJ29) -> 2.2605544 | AG35: =AF35*25 -> 56.513859
B36: 水果類(份) | D36: 0 | E36: =D36*60 -> 0 | I36: 水果類(份) | K36: 0 | L36: =K36*60 -> 0 | P36: 水果類(份) | R36: 1 | S36: =R36*60 -> 60 | W36: 水果類(份) | Y36: 0 | Z36: =Y36*60 -> 0 | AD36: 水果類(份) | AF36: 0 | AG36: =AF36*60 -> 0
B37: 乳製品(份) | D37: 0 | E37: =D37*120 -> 0 | I37: 乳製品(份) | K37: 0 | L37: =K37*120 -> 0 | P37: 乳製品(份) | R37: 0 | S37: =R37*120 -> 0 | W37: 乳製品(份) | Y37: 0 | Z37: =Y37*120 -> 0 | AD37: 乳製品(份) | AF37: 0 | AG37: =AF37*120 -> 0
B38: 熱量 | E38: =SUM(E32:E37) -> 676.67109 | I38: 熱量 | L38: =SUM(L32:L37) -> 691.94127 | P38: 熱量 | S38: =SUM(S32:S37) -> 714.49215 | W38: 熱量 | Z38: =SUM(Z32:Z37) -> 692.91743 | AD38: 熱量 | AG38: =SUM(AG32:AG36) -> 788.07036
A39: 廠商營養師: 趙英茹 午餐秘書: 主任: 校長:
A40: 備註:本廠使用的豬肉及其製品原料產地皆為國產豬肉。

Sheet 1220-1224
A1: 屏東縣東寧國小110年12月第四週學生午餐食譜設計表
A2: 供應人數： | C2: 670人+10備份 (份數的備份+30) | P2: 本校/園一律使用國產 豬、牛肉食材 | X2: 食材供應商:芳味香食品企業有限公司 07-7037855
A3: 日期 | B3: 12月20日星期一 | I3: 12月21日星期二 | P3: 12月22日星期三 | W3: 12月23日星期四 | AD3: 12月24日星期五
A4: 項目 | B4: 菜名/烹調法 | C4: 材料 | D4: 每人(g) | E4: 學校採購量(kg) | F4: C | G4: P | H4: V | I4: 菜名/烹調法 | J4: 材料 | K4: 每人(g) | L4: 學校採購量(kg) | M4: C | N4: P | O4: V | P4: 菜名/烹調法 | Q4: 材料 | R4: 每人(g) | S4: 學校採購量(kg) | T4: C | U4: P | V4: V | W4: 菜名/烹調法 | X4: 材料 | Y4: 每人(g) | Z4: 學校採購量(kg) | AA4: C | AB4: P | AC4: V | AD4: 菜名/烹調法 | AE4: 材料 | AF4: 每人(g) | AG4: 學校採購量(kg) | AH4: C | AI4: P | AJ4: V
A5: 主食 | B5: 白米飯 | C5: 白米 | D5: 75 | E5: 50 | F5: 4.5 | I5: 糙米飯 | J5: 白米 | K5: 52 | L5: 35 | M5: 4.5 | P5: 泡菜豬肉拉麵 | Q5: 小拉麵 | R5: 100 | S5: 200 | T5: 5 | W5: 糙米飯 | X5: 白米 | Y5: 52 | Z5: 35 | AA5: 4.5 | AD5: 白米飯 | AE5: 白米 | AF5: 75 | AG5: 50 | AH5: 4.5
J6: 糙米 | K6: 22 | L6: 15 | Q6: 肉片 | R6: =S6/670*1000 -> 62.686567 | S6: 42 | U6: =R6/35 -> 1.7910448 | X6: 糙米 | Y6: 22 | Z6: 15
Q7: 虱目魚丸Q | R7: =S7/670*1000 -> 13.432836 | S7: 9 | U7: =R7/50 -> 0.26865672
A8: 副 食一 | B8: ='12月菜單'!E18 -> 醬爆豬柳 | C8: 豬柳 | D8: =E8/670*1000 -> 76.119403 | E8: 51 | G8: =D8/35 -> 2.1748401 | I8: ='12月菜單'!E19 -> 麻醬雞丁 | J8: 雞腿丁 | K8: =L8/670*1000 -> 80.597015 | L8: 54 | N8: =K8/40*0.85 -> 1.7126866 | Q8: 紅蘿蔔 | R8: =S8/670*1000 -> 7.4626866 | S8: 5 | V8: =R8/100 -> 0.074626866 | W8: ='12月菜單'!E21 -> 油蔥雞 | X8: 雞腿丁 | Y8: =Z8/670*1000 -> 80.597015 | Z8: 54 | AB8: =Y8/40*0.85 -> 1.7126866 | AD8: ='12月菜單'!E22 -> 鼓汁排骨 | AE8: 肉丁 | AF8: =AG8/670*1000 -> 49.253731 | AG8: 33 | AI8: =AF8/35 -> 1.4072495
C9: 洋蔥 | D9: =E9/670*1000 -> 22.38806 | E9: 15 | H9: =D9/100 -> 0.2238806 | J9: 油豆腐 | K9: =L9/670*1000 -> 11.940299 | L9: 8 | N9: =K9/55 -> 0.21709634 | Q9: 金針菇 | R9: =S9/670*1000 -> 5.9701493 | S9: 4 | V9: =R9/100 -> 0.059701493 | X9: 白蘿蔔 | Y9: =Z9/670*1000 -> 22.38806 | Z9: 15 | AC9: =Y9/100 -> 0.2238806 | AE9: 軟排骨 | AF9: =AG9/670*1000 -> 31.343284 | AG9: 21 | AI9: =AF9/35 -> 0.89552239
C10: 紅蘿蔔 | D10: =E10/670*1000 -> 8.9552239 | E10: 6 | H10: =D10/100 -> 0.089552239 | J10: 洋蔥 | K10: =L10/670*1000 -> 11.940299 | L10: 8 | O10: =K10/100 -> 0.11940299 | Q10: 鮑魚菇 | R10: =S10/670*1000 -> 4.4776119 | S10: 3 | V10: =R10/100 -> 0.044776119 | X10: 蔥 | Y10: - | Z10: 1 | AE10: 蔥 | AF10: =AG10/670*1000 -> 0.89552239 | AG10: 0.6 | AJ10: =AF10/100 -> 0.0089552239
C11: 蔥 | D11: - | E11: 1 | J11: 蔥 | K11: - | L11: 0.6 | Q11: 高麗菜 | R11: =S11/670*1000 -> 67.164179 | S11: 45 | V11: =R11/100 -> 0.67164179 | AE11: 豆鼓 | AF11: - | AG11: 0.6
C12: 甜麵醬 | E12: 2桶 | Q12: 泡菜 | R12: =S12/670*1000 -> 14.925373 | S12: 10 | V12: =R12/100 -> 0.14925373 | AE12: 蒜末 | AF12: -
A16: 副 食二 | B16: ='12月菜單'!F18 -> 魚丸黃瓜 | C16: 魚丸Q | D16: =E16/670*1000 -> 13.432836 | E16: 9 | G16: =D16/50 -> 0.26865672 | I16: ='12月菜單'!F19 -> 培根玉米 | J16: CAS培根 | K16: =L16/670*1000 -> 17.910448 | L16: 12 | N16: =K16/50 -> 0.35820896 | P16: 芋泥包 | Q16: 芋泥包 | R16: 30 | S16: 700粒 | T16: 1 | W16: ='12月菜單'!F21 -> 絲瓜燴蛋 | X16: 雞蛋 | Y16: =Z16/670*1000 -> 22.38806 | Z16: 15 | AB16: =Y16/55 -> 0.40705563 | AD16: ='12月菜單'!F22 -> 咖哩雙花菜 | AE16: 白花菜 | AF16: =AG16/670*1000 -> 44.776119 | AG16: 30 | AJ16: =AF16/100 -> 0.44776119
C17: 大黃瓜 | D17: =E17/670*1000 -> 62.686567 | E17: 42 | H17: =D17/100 -> 0.62686567 | J17: 玉米粒 | K17: =L17/670*1000 -> 64.179104 | L17: 43 | M17: =K17/85 -> 0.75504829 | X17: 絲瓜 | Y17: =Z17/670*1000 -> 82.089552 | Z17: 55 | AC17: =Y17/100 -> 0.82089552 | AE17: 青花菜 | AF17: =AG17/670*1000 -> 35.820896 | AG17: 24 | AJ17: =AF17/100 -> 0.35820896
C18: 紅蘿蔔 | D18: =E18/670*1000 -> 7.4626866 | E18: 5 | H18: =D18/100 -> 0.074626866 | V18: =R18/100 -> 0 | X18: 枸杞 | Y18: - | Z18: 1包 | AE18: 紅蘿蔔 | AF18: =AG18/670*1000 -> 4.4776119 | AG18: 3 | AJ18: =AF18/100 -> 0.044776119
V19: =R19/100 -> 0 | AE19: 咖哩 | AF19: - | AG19: 2盒
V20: =R20/100 -> 0
A22: 副食三 | B22: 時蔬 | C22: 大陸妹 | D22: =E22/670*1000 -> 74.626866 | E22: 50 | H22: =D22/100 -> 0.74626866 | I22: 時蔬 | J22: 莧菜 | K22: =L22/670*1000 -> 74.626866 | L22: 50 | O22: =K22/100 -> 0.74626866 | P22: 時蔬 | R22: =S22/670*1000 -> 74.626866 | S22: 50 | V22: =R22/100 -> 0.74626866 | W22: 時蔬 | X22: 高麗菜 | Y22: =Z22/670*1000 -> 74.626866 | Z22: 50 | AC22: =Y22/100 -> 0.74626866 | AD22: 時蔬 | AE22: 有機蔬菜 | AF22: =AG22/670*1000 -> 74.626866 | AG22: 50 | AJ22: =AF22/100 -> 0.74626866
C23: 油蔥酥 | D23: =E23/670*1000 -> 2.9850746 | E23: 2 | H23: =D23/100 -> 0.029850746 | J23: 蝦米 | K23: - | L23: 0.5 | X23: 紅蘿蔔絲 | Y23: =Z23/670*1000 -> 4.4776119 | Z23: 3
X24: 香菇 | Y24: =Z24/670*1000 -> 2.9850746 | Z24: 2
A25: 湯類 | B25: ='12月菜單'!H18 -> 紅燒馬鈴薯湯 | C25: 馬鈴薯 | D25: =E25/670*1000 -> 10.447761 | E25: 7 | F25: =D25/85 -> 0.12291484 | I25: ='12月菜單'!H19 -> 酸辣湯 | J25: 木耳 | K25: =L25/670*1000 -> 2.9850746 | L25: 2 | O25: =K25/100 -> 0.029850746 | P25: ='12月菜單'!H20 -> 0 | U25: =R25/55 -> 0 | W25: ='12月菜單'!H21 -> 味噌湯 | X25: 豆腐 | Y25: =Z25/670*1000 -> 37.313433 | Z25: 25 | AB25: =Y25/80 -> 0.46641791 | AD25: ='12月菜單'!H22 -> 關東煮 | AE25: 白蘿蔔 | AF25: =AG25/670*1000 -> 22.38806 | AG25: 15 | AJ25: =AF25/100 -> 0.2238806
C26: 番茄 | D26: =E26/670*1000 -> 14.925373 | E26: 10 | H26: =D26/100 -> 0.14925373 | J26: 豆腐 | K26: =L26/670*1000 -> 11.044776 | L26: 7.4 | N26: =K26/80 -> 0.1380597 | V26: =R26/100 -> 0 | X26: 高麗菜 | Y26: =Z26/670*1000 -> 5.9701493 | Z26: 4 | AC26: =Y26/100 -> 0.059701493 | AE26: 玉米塊 | AF26: =AG26/670*1000 -> 17.910448 | AG26: 12 | AH26: =AF26/85 -> 0.21071115
C27: 紅蘿蔔 | D27: =E27/670*1000 -> 14.925373 | E27: 10 | H27: =D27/100 -> 0.14925373 | J27: 雞蛋 | K27: =L27/670*1000 -> 7.4626866 | L27: 5 | N27: =K27/55 -> 0.13568521 | X27: 味噌 | Y27: =Z27/670*1000 -> 4.4776119 | Z27: 3 | AC27: =Y27/100 -> 0.044776119 | AE27: 米血 | AF27: =AG27/670*1000 -> 8.9552239 | AG27: 6 | AH27: =AF27/35 -> 0.25586354 | AJ27: =AF27/100 -> 0.089552239
C28: 香菇 | D28: =E28/670*1000 -> 7.4626866 | E28: 5 | H28: =D28/100 -> 0.074626866 | J28: 桶筍絲 | K28: =L28/670*1000 -> 11.940299 | L28: 8 | O28: =K28/100 -> 0.11940299 | X28: 柴魚片 | Y28: - | Z28: 1包 | AE28: 黑輪條 | AF28: =AG28/670*1000 -> 4.4776119 | AG28: 3 | AH28: =AF28/70 -> 0.063965885
C29: 高麗菜 | D29: =E29/670*1000 -> 7.4626866 | E29: 5 | H29: =D29/100 -> 0.074626866 | J29: 紅蘿蔔 | K29: =L29/670*1000 -> 5.9701493 | L29: 4 | O29: =K29/100 -> 0.059701493 | Q29: 蒜碎 | S29: 0.4 | X29: 蒜碎 | Z29: 0.5 | AE29: 虱目魚丸 | AF29: =AG29/670*1000 -> 4.4776119 | AG29: 3 | AI29: =AF29/50 -> 0.089552239
A30: 水果 | C30: 雞骨熬湯 | E30: 3 | I30: 水果 | J30: 蒜碎 | L30: 0.8 | P30: 水果 | Q30: 季節水果 | S30: 670份 | W30: 水果 | X30: ='12月菜單'!I21 -> 鮮奶 | Z30: 670份 | AD30: 水果 | AE30: 蒜碎 | AG30: 0.8
A31: 其他 | C31: 蒜碎 | E31: 0.8 | I31: 其他 | P31: 其他 | W31: 加菜 | AD31: 其他
A32: 營養供應比例 | B32: 油脂類(份) | D32: 3 | E32: =D32*45 -> 135 | I32: 油脂類(份) | K32: 3 | L32: =K32*45 -> 135 | P32: 油脂類(份) | R32: 2.5 | S32: =R32*45 -> 112.5 | W32: 油脂類(份) | Y32: 3 | Z32: =Y32*45 -> 135 | AD32: 油脂類(份) | AF32: 3 | AG32: =AF32*45 -> 135
B33: 五榖類(份) | D33: =SUM(F5:F29) -> 4.6229148 | E33: =D33*70 -> 323.60404 | I33: 五榖類(份) | K33: =SUM(M5:M29) -> 5.2550483 | L33: =K33*70 -> 367.85338 | P33: 五榖類(份) | R33: =SUM(T5:T29) -> 6 | S33: =R33*70 -> 420 | W33: 五榖類(份) | Y33: =SUM(AA5:AA29) -> 4.5 | Z33: =Y33*70 -> 315 | AD33: 五榖類(份) | AF33: =SUM(AH5:AH29) -> 5.0305406 | AG33: =AF33*70 -> 352.13784
B34: 豆魚肉蛋類(份) | D34: =SUM(G5:G31) -> 2.4434968 | E34: =D34*75 -> 183.26226 | I34: 豆魚肉蛋類(份) | K34: =SUM(N5:N31) -> 2.5617368 | L34: =K34*75 -> 192.13026 | P34: 豆魚肉蛋類(份) | R34: =SUM(U5:U31) -> 2.0597015 | S34: =R34*75 -> 154.47761 | W34: 豆魚肉蛋類(份) | Y34: =SUM(AB5:AB31) -> 2.5861601 | Z34: =Y34*75 -> 193.96201 | AD34: 豆魚肉蛋類(份) | AF34: =SUM(AI5:AI31) -> 2.3923241 | AG34: =AF34*75 -> 179.42431
B35: 蔬菜類(份) | D35: =SUM(H5:H29) -> 2.238806 | E35: =D35*25 -> 55.970149 | I35: 蔬菜類(份) | K35: =SUM(O5:O29) -> 1.0746269 | L35: =K35*25 -> 26.865672 | P35: 蔬菜類(份) | R35: =SUM(V5:V29) -> 1.7462687 | S35: =R35*25 -> 43.656716 | W35: 蔬菜類(份) | Y35: =SUM(AC5:AC29) -> 1.8955224 | Z35: =Y35*25 -> 47.38806 | AD35: 蔬菜類(份) | AF35: =SUM(AJ5:AJ29) -> 1.919403 | AG35: =AF35*25 -> 47.985075
B36: 水果類(份) | D36: 0 | E36: =D36*60 -> 0 | I36: 水果類(份) | K36: 0 | L36: =K36*60 -> 0 | P36: 水果類(份) | R36: 1 | S36: =R36*60 -> 60 | W36: 水果類(份) | Y36: 0 | Z36: =Y36*60 -> 0 | AD36: 水果類(份) | AF36: 0 | AG36: =AF36*60 -> 0
B37: 乳製品(份) | D37: 0 | E37: =D37*120 -> 0 | I37: 乳製品(份) | K37: 0 | L37: =K37*120 -> 0 | P37: 乳製品(份) | R37: 0 | S37: =R37*120 -> 0 | W37: 乳製品(份) | Y37: 1 | Z37: =Y37*120 -> 120 | AD37: 乳製品(份) | AF37: 0 | AG37: =AF37*120 -> 0
B38: 熱量 | E38: =SUM(E32:E37) -> 697.83645 | I38: 熱量 | L38: =SUM(L32:L37) -> 721.84931 | P38: 熱量 | S38: =SUM(S32:S37) -> 790.63433 | W38: 熱量 | Z38: =SUM(Z32:Z37) -> 811.35007 | AD38: 熱量 | AG38: =SUM(AG32:AG37) -> 714.54722
A39: 廠商營養師: 趙英茹 午餐秘書: 主任: 校長:
A40: 備註:本廠使用的豬肉及其製品原料產地皆為國產豬肉。

Sheet 1227-1230
A1: 屏東縣東寧國小110年12月第五週學生午餐食譜設計表
A2: 供應人數： | C2: 670人+10備份 (份數的備份+30) | P2: 本校/園一律使用國產 豬、牛肉食材 | X2: 食材供應商:芳味香食品企業有限公司 07-7037855
A3: 日期 | B3: 12月27日星期一 竹田全校停餐 | I3: 12月28日 星期二 | P3: 12月29日 星期三 | W3: 12月30日 星期四 | AD3: 12月31日 星期五
A4: 項目 | B4: 菜名/烹調法 | C4: 材料 | D4: 每人(g) | E4: 學校採購量(kg) | F4: C | G4: P | H4: V | I4: 菜名/烹調法 | J4: 材料 | K4: 每人(g) | L4: 學校採購量(kg) | M4: C | N4: P | O4: V | P4: 菜名/烹調法 | Q4: 材料 | R4: 每人(g) | S4: 學校採購量(kg) | T4: C | U4: P | V4: V | W4: 菜名/烹調法 | X4: 材料 | Y4: 每人(g) | Z4: 學校採購量(kg) | AA4: C | AB4: P | AC4: V | AD4: 菜名/烹調法 | AE4: 材料 | AF4: 每人(g) | AG4: 學校採購量(kg) | AH4: C | AI4: P | AJ4: V
A5: 主食 | B5: 白米飯 | C5: 白米 | D5: 75 | E5: 50 | F5: 4.5 | I5: ='12月菜單'!D24 -> 糙米飯 | J5: 白米 | K5: 52 | L5: 35 | M5: 4.5 | P5: 豬肉粳飯 | Q5: 白米 | R5: 75 | S5: 50 | T5: =R5/30 -> 2.5 | W5: ='12月菜單'!D26 -> 糙米飯 | X5: 白米 | Y5: 52 | Z5: 35 | AA5: 4.5 | AD5: ='12月菜單'!D27 -> 元旦連休 | AE5: 白米 | AH5: 4.5
J6: 糙米 | K6: 22 | L6: 15 | Q6: 肉片 | R6: =S6/670*1000 -> 62.686567 | S6: 42 | U6: =R6/35 -> 1.7910448 | X6: 糙米 | Y6: 22 | Z6: 15
Q7: 雞蛋 | R7: =S7/670*1000 -> 14.925373 | S7: 10 | U7: =R7/55 -> 0.27137042
A8: 副 食一 | B8: ='12月菜單'!E23 -> 蘑菇醬肉片 | C8: 肉片 | D8: =E8/670*1000 -> 53.731343 | E8: 36 | G8: =D8/35 -> 1.5351812 | I8: ='12月菜單'!E24 -> 枸杞燉雞 | J8: 雞腿丁 | K8: =L8/670*1000 -> 80.597015 | L8: 54 | N8: =K8/40*0.85 -> 1.7126866 | Q8: 大白菜 | R8: =S8/670*1000 -> 59.701493 | S8: 40 | V8: =R8/100 -> 0.59701493 | W8: ='12月菜單'!E26 -> 椒鹽雞塊*1 | X8: 雞排 | Y8: 120 | Z8: 700片 | AB8: =Y8/40*0.6 -> 1.8 | AD8: ='12月菜單'!E27 -> 0 | AF8: =AG8/690*1000 -> 78.26087 | AG8: 54 | AI8: =AF8/40*0.85 -> 1.6630435
C9: 洋蔥 | D9: =E9/670*1000 -> 11.940299 | E9: 8 | H9: =D9/100 -> 0.11940299 | J9: 白蘿蔔 | K9: =L9/670*1000 -> 26.865672 | L9: 18 | O9: =K9/100 -> 0.26865672 | Q9: 金針菇 | R9: =S9/670*1000 -> 5.9701493 | S9: 4 | V9: =R9/100 -> 0.059701493 | X9: 椒鹽粉 | Y9: - | Z9: 1包 | AF9: =AG9/690*1000 -> 28.985507 | AG9: 20 | AJ9: =AF9/100 -> 0.28985507
C10: 紅蘿蔔 | D10: =E10/670*1000 -> 5.9701493 | E10: 4 | H10: =D10/100 -> 0.059701493 | J10: 枸杞 | K10: - | L10: 1包 | Q10: 紅蘿蔔 | R10: =S10/670*1000 -> 7.4626866 | S10: 5 | V10: =R10/100 -> 0.074626866 | X10: 九層塔 | Y10: - | Z10: 1 | AG10: 1包
C11: 蘑菇醬 | D11: - | E11: 2桶 | Q11: 木耳 | R11: =S11/670*1000 -> 4.4776119 | S11: 3 | V11: =R11/100 -> 0.044776119
H12: =D12/100 -> 0
H13: =D13/100 -> 0
A16: 副 食二 | B16: ='12月菜單'!F23 -> 番茄蛋豆腐 | C16: 豆腐 | D16: =E16/670*1000 -> 44.776119 | E16: 30 | G16: =D16/80 -> 0.55970149 | I16: ='12月菜單'!F24 -> 蛋香白菜 | J16: 肉絲 | K16: =L16/670*1000 -> 4.4776119 | L16: 3 | N16: =K16/55 -> 0.081411126 | P16: ='12月菜單'!F25 -> 奶皇包*1 | Q16: 奶皇包 | R16: 30 | S16: 700粒 | T16: 1 | W16: ='12月菜單'!F26 -> 肉末咖哩 | X16: 絞肉 | Y16: =Z16/670*1000 -> 17.910448 | Z16: 12 | AB16: =Y16/35 -> 0.51172708 | AD16: ='12月菜單'!F27 -> 0 | AF16: =AG16/690*1000 -> 69.565217 | AG16: 48 | AI16: =AF16/80 -> 0.86956522
C17: 雞蛋 | D17: =E17/670*1000 -> 11.940299 | E17: 8 | G17: =D17/55 -> 0.21709634 | J17: 雞蛋 | K17: =L17/670*1000 -> 13.432836 | L17: 9 | M17: =K17/85 -> 0.15803336 | X17: 馬鈴薯 | Y17: =Z17/670*1000 -> 49.253731 | Z17: 33 | AA17: =Y17/85 -> 0.57945566 | AF17: =AG17/690*1000 -> 4.3478261 | AG17: 3 | AI17: =AF17/35 -> 0.1242236
C18: 番茄 | D18: =E18/670*1000 -> 8.9552239 | E18: 6 | H18: =D18/100 -> 0.089552239 | J18: 大白菜 | K18: =L18/670*1000 -> 59.701493 | L18: 40 | O18: =K18/100 -> 0.59701493 | X18: 紅蘿蔔 | Y18: =Z18/670*1000 -> 14.925373 | Z18: 10 | AC18: =Y18/100 -> 0.14925373 | AF18: =AG18/615*1000 -> 0.97560976 | AG18: 0.6 | AJ18: =AF18/100 -> 0.0097560976
J19: 紅蘿蔔 | K19: =L19/670*1000 -> 5.9701493 | L19: 4 | X19: 咖哩粉 | Y19: -
J20: 木耳 | K20: =L20/670*1000 -> 4.4776119 | L20: 3
A22: 副食三 | B22: 時蔬 | C22: 小白菜 | D22: =E22/670*1000 -> 52.238806 | E22: 35 | H22: =D22/100 -> 0.52238806 | I22: 時蔬 | J22: 時蔬 | K22: =L22/670*1000 -> 74.626866 | L22: 50 | O22: =K22/100 -> 0.74626866 | W22: 時蔬 | X22: 青江菜 | Y22: =Z22/670*1000 -> 74.626866 | Z22: 50 | AC22: =Y22/100 -> 0.74626866 | AD22: 時蔬 | AE22: 有機蔬菜 | AF22: =AG22/690*1000 -> 72.463768 | AG22: 50 | AJ22: =AF22/100 -> 0.72463768
C23: 薑絲 | D23: - | E23: 0.2
J24: 柴魚片 | K24: - | L24: 1包
A25: 湯類 | B25: ='12月菜單'!H23 -> 針菇紫菜湯 | C25: 金針菇 | D25: =E25/670*1000 -> 5.9701493 | E25: 4 | H25: =D25/100 -> 0.059701493 | I25: ='12月菜單'!H24 -> 柴魚鍋燒湯 | J25: 高麗菜 | K25: =L25/670*1000 -> 26.865672 | L25: 18 | O25: =K25/100 -> 0.26865672 | W25: ='12月菜單'!H26 -> 扁蒲蛋花湯 | X25: 雞蛋 | Y25: =Z25/670*1000 -> 14.925373 | Z25: 10 | AB25: =Y25/35 -> 0.42643923 | AD25: ='12月菜單'!H27 -> 0 | AF25: =AG25/690*1000 -> 20.289855 | AG25: 14 | AH25: =AF25/25 -> 0.8115942
C26: 紫菜-包 | D26: 0 | E26: 2包 | H26: =D26/100 -> 0 | J26: 小黑輪條 | K26: =L26/670*1000 -> 8.9552239 | L26: 6 | M26: =K26/70 -> 0.12793177 | X26: 扁蒲 | Y26: =Z26/670*1000 -> 26.865672 | Z26: 18 | AC26: =Y26/100 -> 0.26865672 | AF26: =AG26/690*1000 -> 2.8985507 | AG26: 2 | AH26: =AF26/20 -> 0.14492754
J27: 小魚丸 | K27: =L27/670*1000 -> 8.9552239 | L27: 6 | N27: =K27/55 -> 0.16282225
J28: 玉米塊 | K28: =L28/670*1000 -> 8.9552239 | L28: 6 | M28: =K28/85 -> 0.10535558
C29: 蒜碎 | E29: 0.8 | J29: 海帶結 | K29: =L29/670*1000 -> 5.9701493 | L29: 4 | O29: =K29/100 -> 0.059701493 | Q29: 蒜碎 | S29: 0.3 | X29: 蒜碎 | Z29: 0.5 | AE29: 蒜碎 | AG29: 0.6
A30: 水果 | J30: 蒜碎 | L30: 0.8 | Q30: 季節水果 | S30: 670份
A31: 其他 | I31: 其他 | P31: 其他 | W31: 加菜 | AD31: 其他
A32: 營養供應比例 | B32: 油脂類(份) | D32: 3 | E32: =D32*45 -> 135 | I32: 油脂類(份) | K32: 3 | L32: =K32*45 -> 135 | P32: 油脂類(份) | R32: 3 | S32: =R32*45 -> 135 | W32: 油脂類(份) | Y32: 3 | Z32: =Y32*45 -> 135 | AD32: 油脂類(份) | AF32: 3 | AG32: =AF32*45 -> 135
B33: 五榖類(份) | D33: =SUM(F5:F29) -> 4.5 | E33: =D33*70 -> 315 | I33: 五榖類(份) | K33: =SUM(M5:M29) -> 4.8913207 | L33: =K33*70 -> 342.39245 | P33: 五榖類(份) | R33: =SUM(T5:T29) -> 3.5 | S33: =R33*70 -> 245 | W33: 五榖類(份) | Y33: =SUM(AA5:AA29) -> 5.0794557 | Z33: =Y33*70 -> 355.5619 | AD33: 五榖類(份) | AF33: =SUM(AH5:AH29) -> 5.4565217 | AG33: =AF33*70 -> 381.95652
B34: 豆魚肉蛋類(份) | D34: =SUM(G5:G31) -> 2.3119791 | E34: =D34*75 -> 173.39843 | I34: 豆魚肉蛋類(份) | K34: =SUM(N5:N31) -> 1.9569199 | L34: =K34*75 -> 146.769 | P34: 豆魚肉蛋類(份) | R34: =SUM(U5:U31) -> 2.0624152 | S34: =R34*75 -> 154.68114 | W34: 豆魚肉蛋類(份) | Y34: =SUM(AB5:AB31) -> 2.7381663 | Z34: =Y34*75 -> 205.36247 | AD34: 豆魚肉蛋類(份) | AF34: =SUM(AI5:AI31) -> 2.6568323 | AG34: =AF34*75 -> 199.26242
B35: 蔬菜類(份) | D35: =SUM(H5:H29) -> 0.85074627 | E35: =D35*25 -> 21.268657 | I35: 蔬菜類(份) | K35: =SUM(O5:O29) -> 1.9402985 | L35: =K35*25 -> 48.507463 | P35: 蔬菜類(份) | R35: =SUM(V5:V29) -> 0.7761194 | S35: =R35*25 -> 19.402985 | W35: 蔬菜類(份) | Y35: =SUM(AC5:AC29) -> 1.1641791 | Z35: =Y35*25 -> 29.104478 | AD35: 蔬菜類(份) | AF35: =SUM(AJ5:AJ29) -> 1.0242489 | AG35: =AF35*25 -> 25.606221
B36: 水果類(份) | D36: 0 | E36: =D36*60 -> 0 | I36: 水果類(份) | K36: 0 | L36: =K36*60 -> 0 | P36: 水果類(份) | R36: 1 | S36: =R36*60 -> 60 | W36: 水果類(份) | Y36: 0 | Z36: =Y36*60 -> 0 | AD36: 水果類(份) | AF36: 0 | AG36: =AF36*60 -> 0
B37: 乳製品(份) | D37: 0 | E37: =D37*120 -> 0 | I37: 乳製品(份) | K37: 0 | L37: =K37*120 -> 0 | P37: 乳製品(份) | R37: 0 | S37: =R37*120 -> 0 | W37: 乳製品(份) | Y37: 0 | Z37: =Y37*120 -> 0 | AD37: 乳製品(份) | AF37: 0 | AG37: =AF37*120 -> 0
B38: 熱量 | E38: =SUM(E32:E37) -> 644.66709 | I38: 熱量 | L38: =SUM(L32:L37) -> 672.66891 | P38: 熱量 | S38: =SUM(S32:S37) -> 614.08412 | W38: 熱量 | Z38: =SUM(Z32:Z37) -> 725.02885 | AD38: 熱量 | AG38: =SUM(AG32:AG37) -> 741.82517
A39: 廠商營養師: 趙英茹 午餐秘書: 主任: 校長:
A40: 備註:本廠使用的豬肉及其製品原料產地皆為國產豬肉。
