Workbook
Name 特殊: [1]特殊石材!$A$1:$C$65536

Sheet 2月菜單
B1: 屏東縣東寧國小111年2月份午餐菜單
B2: 日期 | C2: 星期 | D2: 主食 | E2: 副食一 | F2: 副食二 | G2: 副食三 | H2: 湯 | I2: 水果 (飲品) | J2: 規格 (克) | K2: 熱量 (大卡)
K3: =[2]第一週!E40 -> 696.19072
K4: ='0211'!L38 -> 450
K5: ='0211'!S38 -> 711.55598
K6: ='0211'!Z38 -> 759.20821
B7: 2/11 | C7: 五 | D7: 白米飯 | E7: 回鍋肉片 | F7: 五更燴什錦 | G7: 有機蔬菜 | H7: 紅豆西米露 | K7: ='0211'!AG38 -> 799.78037
B8: 2/14 | C8: 一 | D8: 白米飯 | E8: 糖醋肉 | F8: 香菇黃瓜 | G8: 季節時蔬 | H8: 味噌海芽湯 | K8: ='0214-0218'!E38 -> 675.87973
B9: 2/15 | C9: 二 | D9: 糙米飯 | E9: 椰香咖哩雞 | F9: 泰式冬粉 | G9: 季節時蔬 | H9: 冬瓜玉米湯 | K9: ='0214-0218'!L38 -> 662.94697
B10: 2/16 | C10: 三 | D10: 炒油飯 | G10: 季節時蔬 | H10: 蘿蔔龍骨湯 | I10: 水果 | K10: ='0214-0218'!S38 -> 724.54832
B11: 2/17 | C11: 四 | D11: 糙米飯 | E11: 香酥雞腿*1 | F11: 肉燥蒸蛋 | G11: 季節時蔬 | H11: 柴魚鍋燒湯 | K11: ='0214-0218'!Z38 -> 704.90833
B12: 2/18 | C12: 五 | D12: 白米飯 | E12: 麻婆豆腐蒸魚 | F12: 玉米炒肉絲 | G12: 有機蔬菜 | H12: 枸杞什菇蔬菜湯 | K12: ='0214-0218'!AG38 -> 708.80345
B13: 2/21 | C13: 一 | D13: 白米飯 | E13: 黑胡椒蔥爆豬柳 | F13: 扁魚白菜 | G13: 季節時蔬 | H13: 紫菜蛋花湯 | K13: ='0221-0225'!E38 -> 684.33919
B14: 2/22 | C14: 二 | D14: 糙米飯 | E14: 海帶紅燒雞 | F14: 豆干小魚乾 | G14: 季節時蔬 | H14: 刺瓜黑輪湯 | K14: ='0221-0225'!L38 -> 712.5
B15: 2/23 | C15: 三 | D15: 鍋燒湯麵 | F15: 餡餅*1 | H15: 南瓜濃湯 | I15: 水果 | K15: ='0221-0225'!S38 -> 792.76739
B16: 2/24 | C16: 四 | D16: 糙米飯 | E16: 三杯雞丁 | F16: 紅蘿蔔炒蛋 | G16: 季節時蔬 | H16: 酸辣湯 | I16: 鮮奶 | K16: ='0221-0225'!Z38 -> 799.81642
B17: 2/25 | C17: 五 | D17: 白米飯 | E17: 麻油肉片 | F17: 螞蟻上樹 | G17: 有機蔬菜 | H17: 綠豆麥片湯 | K17: ='0221-0225'!AG38 -> 783.50932
C18: 一 | D18: 白米飯 | G18: 季節時蔬 | K18: =#REF! -> #REF!
C19: 二 | D19: 糙米飯 | G19: 季節時蔬 | K19: =#REF! -> #REF!
C20: 三 | D20: 鍋燒湯麵 | F20: 蒸小饅頭*1 | I20: 水果 | K20: =#REF! -> #REF!
C21: 四 | D21: 糙米飯 | G21: 季節時蔬 | K21: =#REF! -> #REF!
C22: 五 | D22: 白米飯 | G22: 有機蔬菜 | K22: =#REF! -> #REF!
C23: 一 | D23: 白米飯 | G23: 季節時蔬 | K23: =#REF! -> #REF!
C24: 二 | D24: 糙米飯 | G24: 季節時蔬 | K24: =#REF! -> #REF!
C25: 三 | D25: 豬肉粳飯 | G25: 季節時蔬 | I25: 水果 | K25: =#REF! -> #REF!
C26: 四 | D26: 糙米飯 | G26: 季節時蔬 | K26: =#REF! -> #REF!
C27: 五 | K27: =#REF! -> #REF!
H28: 食材供應廠商:芳味香食品

Sheet 0211
A1: 屏東縣東寧國小111年2月第二週學生午餐食譜設計表
A2: 供應人數： | C2: 670人+10備份(份數備份+30) | X2: 食材供應商:芳味香食品企業有限公司 07-7037855
A3: 日期 | B3: 月 日 星期一 | I3: 月日 星期二 | P3: 月 日 星期三 | W3: 月 日 星期四 | AD3: 2月11日 星期五
A4: 項目 | C4: 材料 | D4: 每人(g) | E4: 學校採購量(kg) | F4: C | G4: P | H4: V | J4: 材料 | K4: 每人(g) | L4: 學校採購量(kg) | M4: C | N4: P | O4: V | P4: 菜名/烹調法 | Q4: 材料 | R4: 每人(g) | S4: 學校採購量(kg) | T4: C | U4: P | V4: V | W4: 菜名/烹調法 | X4: 材料 | Y4: 每人(g) | Z4: 學校採購量(kg) | AA4: C | AB4: P | AC4: V | AD4: 菜名/烹調法 | AE4: 材料 | AF4: 每人(g) | AG4: 學校採購量(kg) | AH4: C | AI4: P | AJ4: V
A5: 主食 | B5: 白米飯 | C5: 白米 | F5: 4.5 | I5: 糙米飯 | J5: 白米 | M5: 4.5 | T5: 4.5 | W5: ='2月菜單'!D6 -> 0 | X5: 白米 | AA5: 4.5 | AD5: ='2月菜單'!D7 -> 白米飯 | AE5: 白米 | AF5: =AG5/707*1000 -> 70.721358 | AG5: 50 | AH5: 4.5
J6: 糙米 | U6: =R6/35 -> 0
U7: =R7/50 -> 0
A8: 副 食一 | G8: =D8/40*0.85 -> 0 | I8: ='2月菜單'!E4 -> 0 | N8: =K8/35 -> 0 | P8: ='2月菜單'!E5 -> 0 | Q8: 雞腿丁 | R8: =S8/687*1000 -> 77.147016 | S8: 53 | U8: =R8/40*0.8 -> 1.5429403 | W8: ='2月菜單'!E6 -> 0 | X8: 絞肉 | Y8: =Z8/707*1000 -> 72.135785 | Z8: 51 | AB8: =Y8/35 -> 2.0610224 | AD8: ='2月菜單'!E7 -> 回鍋肉片 | AE8: 肉片 | AF8: =AG8/680*1000 -> 75 | AG8: 51 | AI8: =AF8/35 -> 2.1428571
F9: =D9/85 -> 0 | N9: =K9/35 -> 0 | Q9: 米血 | R9: =S9/687*1000 -> 8.7336245 | S9: 6 | T9: =R9/35 -> 0.24953213 | X9: 洋蔥 | Y9: =Z9/707*1000 -> 21.216407 | Z9: 15 | AC9: =Y9/100 -> 0.21216407 | AE9: 高麗菜 | AF9: =AG9/680*1000 -> 26.470588 | AG9: 18 | AJ9: =AF9/100 -> 0.26470588
H10: =D10/100 -> 0 | Q10: 薑片 | R10: =S10/687*1000 -> 0.72780204 | S10: 0.5 | X10: 油蔥酥 | Y10: - | Z10: 1包 | AE10: 紅蘿蔔 | AF10: =AG10/680*1000 -> 7.3529412 | AG10: 5 | AJ10: =AF10/100 -> 0.073529412
Q11: 麻油 | R11: - | S11: 適量 | AE11: 蔥 | AF11: - | AG11: 0.6
Q12: 米酒 | R12: - | S12: 適量 | AE12: 辣豆瓣醬 | AF12: - | AG12: 1桶
Q13: 醬油 | R13: - | S13: 適量
A16: 副 食二 | G16: =D16/40*0.85 -> 0 | I16: ='2月菜單'!F4 -> 0 | N16: =K16/35 -> 0 | P16: ='2月菜單'!F5 -> 0 | Q16: 雞蛋 | R16: =S16/687*1000 -> 43.668122 | S16: 30 | U16: =R16/55 -> 0.79396586 | W16: ='2月菜單'!F6 -> 0 | X16: 麵線 | Y16: =Z16/707*1000 -> 8.4865629 | Z16: 6 | AA16: =Y16/15 -> 0.56577086 | AD16: ='2月菜單'!F7 -> 五更燴什錦 | AE16: 油豆腐 | AF16: =AG16/680*1000 -> 30.882353 | AG16: 21 | AI16: =AF16/55 -> 0.56149733
G17: =D17/40*0.85 -> 0 | N17: =K17/60 -> 0 | Q17: 南瓜 | R17: =S17/687*1000 -> 39.30131 | S17: 27 | T17: =R17/85 -> 0.46236835 | X17: 絲瓜 | Y17: =Z17/707*1000 -> 70.721358 | Z17: 50 | AC17: =Y17/100 -> 0.70721358 | AE17: 麵腸 | AF17: =AG17/680*1000 -> 14.705882 | AG17: 10 | AI17: =AF17/35 -> 0.42016807
H18: =D18/100 -> 0 | O18: =K18/100 -> 0 | X18: 枸杞 | Y18: - | Z18: 1包 | AE18: 金針菇 | AF18: =AG18/680*1000 -> 11.764706 | AG18: 8 | AJ18: =AF18/100 -> 0.11764706
H19: =D19/100 -> 0 | O19: =K19/100 -> 0 | X19: 薑絲 | Z19: 0.2 | AE19: 鮑魚菇 | AF19: =AG19/680*1000 -> 8.8235294 | AG19: 6 | AJ19: =AF19/100 -> 0.088235294
H20: =D20/100 -> 0 | O20: =K20/100 -> 0 | AE20: 木耳 | AF20: =AG20/680*1000 -> 4.4117647 | AG20: 3 | AJ20: =AF20/100 -> 0.044117647
AE21: 辣椒 | AF21: - | AG21: 0.1
A22: 副食三 | B22: 時蔬 | H22: =D22/100 -> 0 | I22: 時蔬 | O22: =K22/100 -> 0 | P22: 時蔬 | Q22: 青江菜 | R22: 72 | S22: 50 | V22: =R22/100 -> 0.72 | W22: 時蔬 | X22: 有機蔬菜 | Y22: 72 | Z22: 50 | AC22: =AF22/100 -> 0.73529412 | AD22: ='2月菜單'!G7 -> 有機蔬菜 | AE22: 有機蔬菜 | AF22: =AG22/680*1000 -> 73.529412 | AG22: 50 | AJ22: =AF22/100 -> 0.73529412
X23: 沙茶醬 | Z23: 適量
Q24: 蒜碎 | S24: 0.5
A25: 湯類 | H25: =D25/100 -> 0 | I25: ='2月菜單'!H4 -> 0 | O25: =K25/100 -> 0 | P25: ='2月菜單'!H5 -> 0 | Q25: 白蘿蔔 | R25: =S25/687*1000 -> 26.200873 | S25: 18 | V25: =R25/100 -> 0.26200873 | W25: ='2月菜單'!H6 -> 0 | X25: 綠豆 | Y25: =Z25/687*1000 -> 17.467249 | Z25: 12 | AA25: =Y25/25 -> 0.69868996 | AD25: ='2月菜單'!H7 -> 紅豆西米露 | AE25: 紅豆 | AF25: =AG25/680*1000 -> 17.647059 | AG25: 12 | AH25: =AF25/25 -> 0.70588235
H26: =D26/100 -> 0 | O26: =K26/100 -> 0 | Q26: 金針菇 | R26: =S26/687*1000 -> 5.8224163 | S26: 4 | V26: =R26/100 -> 0.058224163 | X26: 麥片 | Y26: =Z26/707*1000 -> 7.0721358 | Z26: 5 | AA26: =Y26/20 -> 0.35360679 | AE26: 西谷米 | AF26: =AG26/680*1000 -> 7.0588235 | AG26: 4.8 | AH26: =AF26/15 -> 0.47058824
G27: =D27/40*0.85 -> 0 | N27: =K27/15 -> 0 | Q27: 百頁 | R27: =S27/687*1000 -> 8.7336245 | S27: 6 | U27: =R27/70 -> 0.12476606
Q28: 海帶結 | R28: =S28/687*1000 -> 4.3668122 | S28: 3 | V28: =R28/100 -> 0.043668122
Q29: 薑絲 | S29: 0.2 | X29: 蒜碎 | Z29: 0.6 | AE29: 蒜碎 | AG29: 0.8
A30: 水果 | I30: 水果 | P30: 水果 | W30: 水果 | AD30: 水果
A31: 其他 | B31: 其他 | I31: 其他 | P31: 其他 | W31: 其他 | AD31: 其他
A32: 營養供應比例 | B32: 油脂類(份) | D32: 3 | E32: =D32*45 -> 135 | I32: 油脂類(份) | K32: 3 | L32: =K32*45 -> 135 | P32: 油脂類(份) | R32: 3 | S32: =R32*45 -> 135 | W32: 油脂類(份) | Y32: 3 | Z32: =Y32*45 -> 135 | AD32: 油脂類(份) | AF32: 3 | AG32: =AF32*45 -> 135
B33: 五榖類(份) | D33: =SUM(F5:F29) -> 4.5 | E33: =D33*70 -> 315 | I33: 五榖類(份) | K33: =SUM(M5:M29) -> 4.5 | L33: =K33*70 -> 315 | P33: 五榖類(份) | R33: =SUM(T5:T29) -> 5.2119005 | S33: =R33*70 -> 364.83303 | W33: 五榖類(份) | Y33: =SUM(AA5:AA29) -> 6.1180676 | Z33: =Y33*70 -> 428.26473 | AD33: 五榖類(份) | AF33: =SUM(AH5:AH29) -> 5.6764706 | AG33: =AF33*70 -> 397.35294
B34: 豆魚肉蛋類(份) | D34: =SUM(G5:G31) -> 0 | E34: =D34*75 -> 0 | I34: 豆魚肉蛋類(份) | K34: =SUM(N5:N31) -> 0 | L34: =K34*75 -> 0 | P34: 豆魚肉蛋類(份) | R34: =SUM(U5:U31) -> 2.4616722 | S34: =R34*75 -> 184.62542 | W34: 豆魚肉蛋類(份) | Y34: =SUM(AB5:AB31) -> 2.0610224 | Z34: =Y34*75 -> 154.57668 | AD34: 豆魚肉蛋類(份) | AF34: =SUM(AI5:AI31) -> 3.1245225 | AG34: =AF34*75 -> 234.33919
B35: 蔬菜類(份) | D35: =SUM(H5:H29) -> 0 | E35: =D35*25 -> 0 | I35: 蔬菜類(份) | K35: =SUM(O5:O29) -> 0 | L35: =K35*25 -> 0 | P35: 蔬菜類(份) | R35: =SUM(V5:V29) -> 1.083901 | S35: =R35*25 -> 27.097525 | W35: 蔬菜類(份) | Y35: =SUM(AC5:AC29) -> 1.6546718 | Z35: =Y35*25 -> 41.366794 | AD35: 蔬菜類(份) | AF35: =SUM(AJ5:AJ29) -> 1.3235294 | AG35: =AF35*25 -> 33.088235
B36: 水果類(份) | D36: 0 | E36: =D36*60 -> 0 | I36: 水果類(份) | K36: 0 | L36: =K36*60 -> 0 | P36: 水果類(份) | R36: 0 | S36: =R36*60 -> 0 | W36: 水果類(份) | Y36: 0 | Z36: =Y36*60 -> 0 | AD36: 水果類(份) | AF36: 0 | AG36: =AF36*60 -> 0
B37: 乳製品(份) | D37: 0 | E37: =D37*120 -> 0 | I37: 乳製品(份) | K37: 0 | L37: =K37*120 -> 0 | P37: 乳製品(份) | R37: 0 | S37: =R37*120 -> 0 | W37: 乳製品(份) | Y37: 0 | Z37: =Y37*120 -> 0 | AD37: 乳製品(份) | AF37: 0 | AG37: =AF37*120 -> 0
B38: 熱量 | E38: =SUM(E32:E37) -> 450 | I38: 熱量 | L38: =SUM(L32:L37) -> 450 | P38: 熱量 | S38: =SUM(S32:S37) -> 711.55598 | W38: 熱量 | Z38: =SUM(Z32:Z37) -> 759.20821 | AD38: 熱量 | AG38: =SUM(AG32:AG37) -> 799.78037
A39: 廠商營養師: 趙英茹 午餐秘書: 主任: 校長:

Sheet 0214-0218
A1: 屏東縣東寧國小111年2月第三週學生午餐食譜設計表
A2: 供應人數： | C2: 670人+10備份(份數備份+30) | X2: 食材供應商:芳味香食品企業有限公司 07-7037855
A3: 日期 | B3: 2月14日 星期一 | I3: 2月15日 星期二 | P3: 2月16日 星期三 | W3: 2月17日 星期四 | AD3: 2月18日 星期五
A4: 項目 | B4: 菜名/烹調法 | C4: 材料 | D4: 每人(g) | E4: 學校採購量(kg) | F4: C | G4: P | H4: V | I4: 菜名/烹調法 | J4: 材料 | K4: 每人(g) | L4: 學校採購量(kg) | M4: C | N4: P | O4: V | P4: 菜名/烹調法 | Q4: 材料 | R4: 每人(g) | S4: 學校採購量(kg) | T4: C | U4: P | V4: V | W4: 菜名/烹調法 | X4: 材料 | Y4: 每人(g) | Z4: 學校採購量(kg) | AA4: C | AB4: P | AC4: V | AD4: 菜名/烹調法 | AE4: 材料 | AF4: 每人(g) | AG4: 學校採購量(kg) | AH4: C | AI4: P | AJ4: V
A5: 主食 | B5: 白米飯 | C5: 白米 | D5: =E5/707*1000 -> 70.721358 | E5: 50 | F5: 4.5 | I5: 糙米飯 | J5: 白米 | K5: 52 | L5: 35 | M5: 4.5 | P5: 炒油飯 | Q5: 長糯米公司叫貨 | S5: 40 | T5: 4.5 | W5: 糙米飯 | X5: 白米 | Y5: 52 | Z5: 35 | AA5: 4.5 | AD5: 白米飯 | AE5: 白米 | AF5: =AG5/707*1000 -> 70.721358 | AG5: 50 | AH5: 4.5
J6: 糙米 | K6: 22 | L6: 15 | Q6: 白米 | X6: 糙米 | Y6: 22 | Z6: 15
Q7: 肉絲 | R7: =S7/680*1000 -> 75 | S7: 51 | U7: =R7/35 -> 2.1428571
A8: 副 食一 | B8: ='2月菜單'!E8 -> 糖醋肉 | C8: 肉丁 | D8: =E8/680*1000 -> 75 | E8: 51 | G8: =D8/35 -> 2.1428571 | I8: ='2月菜單'!E9 -> 椰香咖哩雞 | J8: 雞腿丁 | K8: =L8/680*1000 -> 79.411765 | L8: 54 | N8: =K8/40*0.8 -> 1.5882353 | Q8: 香菇 | R8: =S8/680*1000 -> 7.3529412 | S8: 5 | V8: =R8/100 -> 0.073529412 | W8: ='2月菜單'!E11 -> 香酥雞腿*1 | X8: 雞腿 | Y8: 120 | Z8: 700支 | AB8: =Y8/40*0.5 -> 1.5 | AD8: ='2月菜單'!E12 -> 麻婆豆腐蒸魚 | AE8: 新鮮魚丁 | AF8: =AG8/680*1000 -> 117.64706 | AG8: 80 | AI8: =AF8/35*0.6 -> 2.0168067
C9: 洋蔥 | D9: =E9/680*1000 -> 17.647059 | E9: 12 | H9: =D9/100 -> 0.17647059 | J9: 馬鈴薯 | K9: =L9/680*1000 -> 17.647059 | L9: 12 | M9: =K9/90 -> 0.19607843 | Q9: 桶筍切丁 | R9: =S9/680*1000 -> 17.647059 | S9: 12 | V9: =R9/100 -> 0.17647059 | Z9: 約84K | AE9: 豆腐 | AF9: =AG9/680*1000 -> 14.705882 | AG9: 10 | AI9: =AF9/80 -> 0.18382353
C10: 紅蘿蔔 | D10: =E10/680*1000 -> 7.3529412 | E10: 5 | H10: =D10/100 -> 0.073529412 | J10: 紅蘿蔔 | K10: =L10/680*1000 -> 11.764706 | L10: 8 | O10: =K10/100 -> 0.11764706 | Q10: 蝦皮 | R10: =S10/687*1000 -> 1.4556041 | S10: 1 | X10: 九層塔 | Z10: 0.6 | AE10: 絞肉 | AF10: =AG10/680*1000 -> 4.4117647 | AG10: 3 | AJ10: =AF10/100 -> 0.044117647
C11: 青椒 | D11: =E11/680*1000 -> 4.4117647 | E11: 3 | H11: =D11/100 -> 0.044117647 | J11: 毛豆 | K11: =L11/680*1000 -> 4.4117647 | L11: 3 | N11: =K11/50 -> 0.088235294 | Q11: 魷魚乾 | R11: 1.7910448 | S11: 1.2 | X11: 蔥末 | Z11: 0.6 | AE11: 蔥 | AF11: - | AG11: 0.5
C12: 番茄醬 | D12: - | E12: 1包 | J12: 椰漿 | K12: - | L12: 3罐 | Q12: 蒜仁 | R12: 0.89552239 | S12: 0.6 | X12: 蒜末 | Z12: 0.3
C13: 白醋 | D13: - | E13: 1桶 | J13: 咖哩粉 | K13: - | L13: 2盒 | Q13: 油蔥酥 | R13: 2.6865672 | S13: 1.8
A16: 副 食二 | B16: ='2月菜單'!F8 -> 香菇黃瓜 | C16: 大黃瓜 | D16: =E16/680*1000 -> 61.764706 | E16: 42 | H16: =D16/100 -> 0.61764706 | I16: ='2月菜單'!F9 -> 泰式冬粉 | J16: 寬冬粉 | K16: =L16/670*1000 -> 13.432836 | L16: 9 | N16: =K16/55 -> 0.24423338 | P16: ='2月菜單'!F10 -> 0 | W16: ='2月菜單'!F11 -> 肉燥蒸蛋 | X16: 雞蛋 | Y16: =Z16/680*1000 -> 60.294118 | Z16: 41 | AB16: =Y16/55 -> 1.0962567 | AD16: ='2月菜單'!F12 -> 玉米炒肉絲 | AE16: 肉絲 | AF16: =AG16/680*1000 -> 8.8235294 | AG16: 6 | AI16: =AF16/35 -> 0.25210084
C17: 香菇 | D17: =E17/680*1000 -> 8.8235294 | E17: 6 | H17: =D17/100 -> 0.088235294 | J17: 高麗菜 | K17: =L17/670*1000 -> 37.313433 | L17: 25 | X17: 絞肉 | Y17: =Z17/680*1000 -> 4.4117647 | Z17: 3 | AB17: =Y17/35 -> 0.12605042 | AE17: 玉米粒 | AF17: =AG17/680*1000 -> 52.941176 | AG17: 36 | AH17: =AF17/85 -> 0.62283737
C18: 紅蘿蔔 | D18: =E18/680*1000 -> 4.4117647 | E18: 3 | H18: =D18/100 -> 0.044117647 | J18: 紅蘿蔔 | K18: =L18/670*1000 -> 4.4776119 | L18: 3 | AE18: 紅蘿蔔 | AF18: =AG18/680*1000 -> 7.3529412 | AG18: 5 | AJ18: =AF18/100 -> 0.073529412
C19: 蝦皮 | D19: - | E19: 0.6 | J19: 肉片 | K19: =L19/670*1000 -> 4.4776119 | L19: 3
A22: 副食三 | B22: 時蔬 | C22: 菠菜 | D22: =E22/680*1000 -> 73.529412 | E22: 50 | H22: =D22/100 -> 0.73529412 | I22: 時蔬 | J22: 油菜 | K22: =L22/680*1000 -> 73.529412 | L22: 50 | O22: =K22/100 -> 0.73529412 | P22: 時蔬 | Q22: 高麗菜 | R22: =S22/680*1000 -> 73.529412 | S22: 50 | V22: =R22/100 -> 0.73529412 | W22: 時蔬 | X22: 小白菜 | Y22: =Z22/680*1000 -> 73.529412 | Z22: 50 | AC22: =Y22/100 -> 0.73529412 | AD22: ='2月菜單'!G12 -> 有機蔬菜 | AE22: 有機蔬菜 | AF22: =AG22/680*1000 -> 73.529412 | AG22: 50 | AJ22: =AF22/100 -> 0.73529412
J23: 木耳 | K23: =L23/680*1000 -> 4.4117647 | L23: 3 | O23: =K23/100 -> 0.044117647 | Q23: 紅蘿蔔 | R23: =S23/680*1000 -> 4.4117647 | S23: 3 | V23: =R23/100 -> 0.044117647 | X23: 油蔥酥 | Y23: - | Z23: 1包
X24: 柴魚片 | Y24: - | Z24: 1包 | AE24: 枸杞.紅棗 | AF24: - | AG24: 各1包
A25: 湯類 | B25: ='2月菜單'!H8 -> 味噌海芽湯 | C25: 豆腐 | D25: =E25/680*1000 -> 22.058824 | E25: 15 | G25: =D25/80 -> 0.27573529 | I25: ='2月菜單'!H9 -> 冬瓜玉米湯 | J25: 冬瓜 | K25: =L25/680*1000 -> 14.705882 | L25: 10 | O25: =K25/100 -> 0.14705882 | P25: ='2月菜單'!H10 -> 蘿蔔龍骨湯 | Q25: 白蘿蔔 | R25: =S25/680*1000 -> 32.352941 | S25: 22 | V25: =R25/100 -> 0.32352941 | W25: ='2月菜單'!H11 -> 柴魚鍋燒湯 | X25: 高麗菜 | Y25: =Z25/680*1000 -> 26.470588 | Z25: 18 | AC25: =Y25/100 -> 0.26470588 | AD25: ='2月菜單'!H12 -> 枸杞什菇蔬菜湯 | AE25: 大白菜 | AF25: =AG25/680*1000 -> 29.411765 | AG25: 20 | AJ25: =AF25/100 -> 0.29411765
C26: 乾海帶芽 | D26: - | E26: 1包 | J26: 玉米塊 | K26: =L26/680*1000 -> 35.294118 | L26: 24 | M26: =K26/85 -> 0.41522491 | Q26: 龍骨 | R26: =S26/680*1000 -> 8.8235294 | S26: 6 | U26: =R26/35 -> 0.25210084 | X26: 金針菇 | Y26: =Z26/680*1000 -> 5.8823529 | Z26: 4 | AC26: =Y26/100 -> 0.058823529 | AE26: 金針菇 | AF26: =AG26/680*1000 -> 5.8823529 | AG26: 4 | AJ26: =AF26/100 -> 0.058823529
J27: 冬菜 | K27: - | L27: 2包 | Q27: 肉絲 | R27: =S27/680*1000 -> 4.4117647 | S27: 3 | V27: =R27/100 -> 0.044117647 | X27: 魚丸 | Y27: =Z27/680*1000 -> 4.4117647 | Z27: 3 | AB27: =Y27/50 -> 0.088235294 | AE27: 鮑魚菇 | AF27: =AG27/680*1000 -> 4.4117647 | AG27: 3 | AJ27: =AF27/100 -> 0.044117647
X28: 米血CAS | Y28: =Z28/680*1000 -> 8.8235294 | Z28: 6 | AA28: =Y28/35 -> 0.25210084 | AE28: 雞骨熬湯 | AF28: - | AG28: 3
C29: 蒜碎 | E29: 0.8 | J29: 蒜碎 | L29: 0.6 | Q29: 蒜碎 | S29: 0.5 | X29: 海帶結 | Y29: =Z29/680*1000 -> 4.4117647 | Z29: 3 | AE29: 蒜碎 | AG29: 0.8
A30: 水果 | I30: 水果 | P30: 水果 | W30: 水果 | AD30: 水果
A31: 其他 | B31: 其他 | I31: 其他 | P31: 其他 | Q31: 季節水果 | S31: 670份 | W31: 其他 | AD31: 其他
A32: 營養供應比例 | B32: 油脂類(份) | D32: 3 | E32: =D32*45 -> 135 | I32: 油脂類(份) | K32: 3 | L32: =K32*45 -> 135 | P32: 油脂類(份) | R32: 3 | S32: =R32*45 -> 135 | W32: 油脂類(份) | Y32: 3 | Z32: =Y32*45 -> 135 | AD32: 油脂類(份) | AF32: 3 | AG32: =AF32*45 -> 135
B33: 五榖類(份) | D33: =SUM(F5:F29) -> 4.5 | E33: =D33*70 -> 315 | I33: 五榖類(份) | K33: =SUM(M5:M29) -> 5.1113033 | L33: =K33*70 -> 357.79123 | P33: 五榖類(份) | R33: =SUM(T5:T29) -> 4.5 | S33: =R33*70 -> 315 | W33: 五榖類(份) | Y33: =SUM(AA5:AA29) -> 4.7521008 | Z33: =Y33*70 -> 332.64706 | AD33: 五榖類(份) | AF33: =SUM(AH5:AH29) -> 5.1228374 | AG33: =AF33*70 -> 358.59862
B34: 豆魚肉蛋類(份) | D34: =SUM(G5:G31) -> 2.4185924 | E34: =D34*75 -> 181.39443 | I34: 豆魚肉蛋類(份) | K34: =SUM(N5:N31) -> 1.920704 | L34: =K34*75 -> 144.0528 | P34: 豆魚肉蛋類(份) | R34: =SUM(U5:U31) -> 2.394958 | S34: =R34*75 -> 179.62185 | W34: 豆魚肉蛋類(份) | Y34: =SUM(AB5:AB31) -> 2.8105424 | Z34: =Y34*75 -> 210.79068 | AD34: 豆魚肉蛋類(份) | AF34: =SUM(AI5:AI31) -> 2.4527311 | AG34: =AF34*75 -> 183.95483
B35: 蔬菜類(份) | D35: =SUM(H5:H29) -> 1.7794118 | E35: =D35*25 -> 44.485294 | I35: 蔬菜類(份) | K35: =SUM(O5:O29) -> 1.0441176 | L35: =K35*25 -> 26.102941 | P35: 蔬菜類(份) | R35: =SUM(V5:V29) -> 1.3970588 | S35: =R35*25 -> 34.926471 | W35: 蔬菜類(份) | Y35: =SUM(AC5:AC29) -> 1.0588235 | Z35: =Y35*25 -> 26.470588 | AD35: 蔬菜類(份) | AF35: =SUM(AJ5:AJ29) -> 1.25 | AG35: =AF35*25 -> 31.25
B36: 水果類(份) | D36: 0 | E36: =D36*60 -> 0 | I36: 水果類(份) | K36: 0 | L36: =K36*60 -> 0 | P36: 水果類(份) | R36: 1 | S36: =R36*60 -> 60 | W36: 水果類(份) | Y36: 0 | Z36: =Y36*60 -> 0 | AD36: 水果類(份) | AF36: 0 | AG36: =AF36*60 -> 0
B37: 乳製品(份) | D37: 0 | E37: =D37*120 -> 0 | I37: 乳製品(份) | K37: 0 | L37: =K37*120 -> 0 | P37: 乳製品(份) | R37: 0 | S37: =R37*120 -> 0 | W37: 乳製品(份) | Y37: 0 | Z37: =Y37*120 -> 0 | AD37: 乳製品(份) | AF37: 0 | AG37: =AF37*120 -> 0
B38: 熱量 | E38: =SUM(E32:E37) -> 675.87973 | I38: 熱量 | L38: =SUM(L32:L37) -> 662.94697 | P38: 熱量 | S38: =SUM(S32:S37) -> 724.54832 | W38: 熱量 | Z38: =SUM(Z32:Z37) -> 704.90833 | AD38: 熱量 | AG38: =SUM(AG32:AG37) -> 708.80345
A39: 廠商營養師: 趙英茹 午餐秘書: 主任: 校長:

Sheet 0221-0225
A1: 屏東縣東寧國小111年2月第四週學生午餐食譜設計表
A2: 供應人數： | C2: 670人+10備份(份數備份+30) | X2: 食材供應商:芳味香食品企業有限公司 07-7037855
A3: 日期 | B3: 2月21日 星期一 | I3: 2月22日 星期二 | P3: 2月23日 星期三 | W3: 2月24日 星期四 | AD3: 2月25日 星期五
A4: 項目 | B4: 菜名/烹調法 | C4: 材料 | D4: 每人(g) | E4: 學校採購量(kg) | F4: C | G4: P | H4: V | I4: 菜名/烹調法 | J4: 材料 | K4: 每人(g) | L4: 學校採購量(kg) | M4: C | N4: P | O4: V | P4: 菜名/烹調法 | Q4: 材料 | R4: 每人(g) | S4: 學校採購量(kg) | T4: C | U4: P | V4: V | W4: 菜名/烹調法 | X4: 材料 | Y4: 每人(g) | Z4: 學校採購量(kg) | AA4: C | AB4: P | AC4: V | AD4: 菜名/烹調法 | AE4: 材料 | AF4: 每人(g) | AG4: 學校採購量(kg) | AH4: C | AI4: P | AJ4: V
A5: 主食 | B5: 白米飯 | C5: 白米 | D5: =E5/707*1000 -> 70.721358 | E5: 50 | F5: 4.5 | I5: 糙米飯 | J5: 白米 | K5: 52 | L5: 35 | M5: 4.5 | P5: 鍋燒湯麵 | Q5: 小拉麵 | R5: =S5/687*1000 -> 157.20524 | S5: 108 | T5: =R5/30 -> 5.2401747 | W5: 糙米飯 | X5: 白米 | Y5: 52 | Z5: 35 | AA5: 4.5 | AD5: 白米飯 | AE5: 白米 | AF5: =AG5/707*1000 -> 70.721358 | AG5: 50 | AH5: 4.5
J6: 糙米 | K6: 22 | L6: 15 | Q6: 肉片 | R6: =S6/687*1000 -> 61.135371 | S6: 42 | U6: =R6/35 -> 1.7467249 | X6: 糙米 | Y6: 22 | Z6: 15
Q7: 虱目魚丸 | R7: =S7/687*1000 -> 13.100437 | S7: 9 | U7: =R7/50 -> 0.26200873
A8: 副 食一 | B8: ='2月菜單'!E13 -> 黑胡椒蔥爆豬柳 | C8: 豬柳 | D8: =E8/680*1000 -> 75 | E8: 51 | G8: =D8/35 -> 2.1428571 | I8: ='2月菜單'!E14 -> 海帶紅燒雞 | J8: 雞腿丁 | K8: =L8/680*1000 -> 80.882353 | L8: 55 | N8: =K8/40*0.8 -> 1.6176471 | Q8: 紅蘿蔔 | R8: =S8/687*1000 -> 4.3668122 | S8: 3 | V8: =R8/100 -> 0.043668122 | W8: ='2月菜單'!E16 -> 三杯雞丁 | X8: 雞腿丁 | Y8: =Z8/680*1000 -> 79.411765 | Z8: 54 | AB8: =Y8/40*0.8 -> 1.5882353 | AD8: ='2月菜單'!E17 -> 麻油肉片 | AE8: 肉片 | AF8: =AG8/680*1000 -> 75 | AG8: 51 | AI8: =AF8/35 -> 2.1428571
C9: 洋蔥 | D9: =E9/680*1000 -> 11.764706 | E9: 8 | H9: =D9/100 -> 0.11764706 | J9: 海帶結 | K9: =L9/680*1000 -> 7.3529412 | L9: 5 | O9: =K9/100 -> 0.073529412 | Q9: 金針菇 | R9: =S9/687*1000 -> 5.8224163 | S9: 4 | V9: =R9/100 -> 0.058224163 | X9: 百頁豆腐 | Y9: =Z9/680*1000 -> 8.8235294 | Z9: 6 | AB9: =Y9/70 -> 0.12605042 | AE9: 杏鮑菇 | AF9: =AG9/680*1000 -> 4.4117647 | AG9: 3 | AJ9: =AF9/100 -> 0.044117647
C10: 油菜 | D10: =E10/680*1000 -> 11.764706 | E10: 8 | H10: =D10/100 -> 0.11764706 | J10: 紅蘿蔔 | K10: =L10/680*1000 -> 17.647059 | L10: 12 | O10: =K10/100 -> 0.17647059 | Q10: 高麗菜 | R10: =S10/687*1000 -> 80.058224 | S10: 55 | V10: =R10/100 -> 0.80058224 | X10: 九層塔 | Y10: - | Z10: 1 | AE10: 高麗菜 | AF10: =AG10/680*1000 -> 26.470588 | AG10: 18 | AJ10: =AF10/100 -> 0.26470588
C11: 紅蘿蔔 | D11: =E11/680*1000 -> 4.4117647 | E11: 3 | H11: =D11/100 -> 0.044117647 | X11: 薑片 | Y11: - | Z11: 0.5 | AE11: 麻油 | AF11: - | AG11: 1桶
C12: 黑胡椒醬 | D12: - | E12: 2桶 | X12: 麻油 | Y12: - | Z12: 1桶 | AE12: 薑片 | AF12: - | AG12: 0.5
X13: 米酒 | Y13: - | Z13: 適量
A16: 副 食二 | B16: ='2月菜單'!F13 -> 扁魚白菜 | C16: 大白菜 | D16: =E16/680*1000 -> 70.588235 | E16: 48 | H16: =D16/100 -> 0.70588235 | I16: ='2月菜單'!F14 -> 豆干小魚乾 | J16: 豆干片 | K16: =L16/680*1000 -> 55.882353 | L16: 38 | N16: =K16/40 -> 1.3970588 | P16: ='2月菜單'!F15 -> 餡餅*1 | Q16: 餡餅 | R16: 40 | S16: 700個 | W16: ='2月菜單'!F16 -> 紅蘿蔔炒蛋 | X16: 雞蛋 | Y16: =Z16/680*1000 -> 36.764706 | Z16: 25 | AB16: =Y16/55 -> 0.6684492 | AD16: ='2月菜單'!F17 -> 螞蟻上樹 | AE16: 冬粉 | AF16: =AG16/687*1000 -> 13.100437 | AG16: 9 | AH16: =AF16/15 -> 0.87336245
C17: 紅蘿蔔 | D17: =E17/680*1000 -> 4.4117647 | E17: 3 | H17: =D17/100 -> 0.044117647 | J17: 小魚乾 | K17: =L17/680*1000 -> 2.9411765 | L17: 2 | X17: 紅蘿蔔 | Y17: =Z17/680*1000 -> 29.411765 | Z17: 20 | AC17: =Y17/100 -> 0.29411765 | AE17: 大白菜 | AF17: =AG17/680*1000 -> 29.411765 | AG17: 20 | AJ17: =AF17/100 -> 0.29411765
C18: 肉絲 | D18: =E18/680*1000 -> 4.4117647 | E18: 3 | G18: =D18/35 -> 0.12605042 | J18: 蔥 | K18: - | L18: 1 | AE18: 紅蘿蔔 | AF18: =AG18/680*1000 -> 7.3529412 | AG18: 5 | AJ18: =AF18/100 -> 0.073529412
C19: 扁魚 | D19: - | E19: 0.6 | AE19: 絞肉 | AF19: =AG19/680*1000 -> 4.4117647 | AG19: 3 | AI19: =AF19/35 -> 0.12605042
C20: 蝦皮 | D20: - | E20: 0.6
A22: 副食三 | B22: 時蔬 | C22: 時蔬 | D22: =E22/680*1000 -> 73.529412 | E22: 50 | H22: =D22/100 -> 0.73529412 | I22: 時蔬 | J22: 鵝白菜 | K22: =L22/680*1000 -> 73.529412 | L22: 50 | O22: =K22/100 -> 0.73529412 | P22: 時蔬 | R22: 72 | S22: 50 | W22: 時蔬 | X22: 菠菜 | Y22: =Z22/680*1000 -> 73.529412 | Z22: 50 | AC22: =Y22/100 -> 0.73529412 | AD22: ='2月菜單'!G17 -> 有機蔬菜 | AE22: 有機蔬菜 | AF22: =AG22/680*1000 -> 73.529412 | AG22: 50 | AJ22: =AF22/100 -> 0.73529412
D23: - | E23: 0.2 | J23: 薑絲 | R23: 72 | S23: 3
Q24: 蒜碎 | S24: 0.3 | X24: 蒜碎 | Z24: 0.5
A25: 湯類 | B25: ='2月菜單'!H13 -> 紫菜蛋花湯 | C25: 雞蛋 | D25: =E25/680*1000 -> 14.705882 | E25: 10 | G25: =D25/55 -> 0.26737968 | I25: ='2月菜單'!H14 -> 刺瓜黑輪湯 | J25: 大黃瓜 | K25: =L25/680*1000 -> 38.235294 | L25: 26 | O25: =K25/100 -> 0.38235294 | P25: ='2月菜單'!H15 -> 南瓜濃湯 | Q25: 南瓜 | R25: =S25/680*1000 -> 22.058824 | S25: 15 | T25: =R25/85 -> 0.25951557 | W25: ='2月菜單'!H16 -> 酸辣湯 | X25: 豆腐 | Y25: =Z25/680*1000 -> 10.882353 | Z25: 7.4 | AB25: =Y25/80 -> 0.13602941 | AD25: ='2月菜單'!H17 -> 綠豆麥片湯 | AE25: 綠豆 | AF25: =AG25/680*1000 -> 20.588235 | AG25: 14 | AH25: =AF25/25 -> 0.82352941
C26: 紫菜-包 | D26: =E26/687*1000 -> 2.9112082 | E26: 2 | J26: 黑輪條 | K26: =L26/680*1000 -> 8.8235294 | L26: 6 | O26: =K26/100 -> 0.088235294 | Q26: 馬鈴薯 | R26: =S26/680*1000 -> 26.470588 | S26: 18 | T26: =R26/90 -> 0.29411765 | X26: 雞蛋 | Y26: =Z26/680*1000 -> 7.3529412 | Z26: 5 | AB26: =Y26/55 -> 0.13368984 | AE26: 麥片 | AF26: =AG26/680*1000 -> 2.6470588 | AG26: 1.8 | AH26: =AF26/20 -> 0.13235294
G27: =D27/35*0.5 -> 0 | J27: 油蔥酥 | L27: 1包 | O27: =K27/100 -> 0 | Q27: 洋蔥 | R27: =S27/680*1000 -> 4.4117647 | S27: 3 | V27: =R27/100 -> 0.044117647 | X27: 桶筍絲 | Y27: =Z27/680*1000 -> 11.764706 | Z27: 8 | AC27: =Y27/100 -> 0.11764706
G28: =D28/35 -> 0 | O28: =K28/100 -> 0 | Q28: 紅蘿蔔 | R28: =S28/680*1000 -> 7.3529412 | S28: 5 | V28: =R28/100 -> 0.073529412 | X28: 紅蘿蔔 | Y28: =Z28/680*1000 -> 5.8823529 | Z28: 4 | AC28: =Y28/100 -> 0.058823529
C29: 蒜碎 | E29: 0.8 | J29: 蒜碎 | L29: 0.8 | Q29: 雞蛋 | R29: =S29/680*1000 -> 11.764706 | S29: 8 | U29: =R29/55 -> 0.21390374 | X29: 木耳 | Y29: =Z29/680*1000 -> 2.9411765 | Z29: 2 | AC29: =Y29/100 -> 0.029411765 | AE29: 蒜碎 | AG29: 0.5
A30: 水果 | I30: 水果 | P30: 水果 | W30: 水果 | AD30: 水果
A31: 其他 | B31: 其他 | I31: 其他 | P31: 其他 | Q31: 季節水果 | S31: 670份 | W31: 其他 | X31: ='2月菜單'!I16 -> 鮮奶 | Z31: 670瓶 | AD31: 其他
A32: 營養供應比例 | B32: 油脂類(份) | D32: 3 | E32: =D32*45 -> 135 | I32: 油脂類(份) | K32: 3 | L32: =K32*45 -> 135 | P32: 油脂類(份) | R32: 3 | S32: =R32*45 -> 135 | W32: 油脂類(份) | Y32: 3 | Z32: =Y32*45 -> 135 | AD32: 油脂類(份) | AF32: 3 | AG32: =AF32*45 -> 135
B33: 五榖類(份) | D33: =SUM(F5:F29) -> 4.5 | E33: =D33*70 -> 315 | I33: 五榖類(份) | K33: =SUM(M5:M29) -> 4.5 | L33: =K33*70 -> 315 | P33: 五榖類(份) | R33: =SUM(T5:T29) -> 5.7938079 | S33: =R33*70 -> 405.56655 | W33: 五榖類(份) | Y33: =SUM(AA5:AA29) -> 4.5 | Z33: =Y33*70 -> 315 | AD33: 五榖類(份) | AF33: =SUM(AH5:AH29) -> 6.3292448 | AG33: =AF33*70 -> 443.04714
B34: 豆魚肉蛋類(份) | D34: =SUM(G5:G31) -> 2.5362872 | E34: =D34*75 -> 190.22154 | I34: 豆魚肉蛋類(份) | K34: =SUM(N5:N31) -> 3.0147059 | L34: =K34*75 -> 226.10294 | P34: 豆魚肉蛋類(份) | R34: =SUM(U5:U31) -> 2.2226374 | S34: =R34*75 -> 166.6978 | W34: 豆魚肉蛋類(份) | Y34: =SUM(AB5:AB31) -> 2.6524542 | Z34: =Y34*75 -> 198.93406 | AD34: 豆魚肉蛋類(份) | AF34: =SUM(AI5:AI31) -> 2.2689076 | AG34: =AF34*75 -> 170.16807
B35: 蔬菜類(份) | D35: =SUM(H5:H29) -> 1.7647059 | E35: =D35*25 -> 44.117647 | I35: 蔬菜類(份) | K35: =SUM(O5:O29) -> 1.4558824 | L35: =K35*25 -> 36.397059 | P35: 蔬菜類(份) | R35: =SUM(V5:V29) -> 1.0201216 | S35: =R35*25 -> 25.50304 | W35: 蔬菜類(份) | Y35: =SUM(AC5:AC29) -> 1.2352941 | Z35: =Y35*25 -> 30.882353 | AD35: 蔬菜類(份) | AF35: =SUM(AJ5:AJ29) -> 1.4117647 | AG35: =AF35*25 -> 35.294118
B36: 水果類(份) | D36: 0 | E36: =D36*60 -> 0 | I36: 水果類(份) | K36: 0 | L36: =K36*60 -> 0 | P36: 水果類(份) | R36: 1 | S36: =R36*60 -> 60 | W36: 水果類(份) | Y36: 0 | Z36: =Y36*60 -> 0 | AD36: 水果類(份) | AF36: 0 | AG36: =AF36*60 -> 0
B37: 乳製品(份) | D37: 0 | E37: =D37*120 -> 0 | I37: 乳製品(份) | K37: 0 | L37: =K37*120 -> 0 | P37: 乳製品(份) | R37: 0 | S37: =R37*120 -> 0 | W37: 乳製品(份) | Y37: 1 | Z37: =Y37*120 -> 120 | AD37: 乳製品(份) | AF37: 0 | AG37: =AF37*120 -> 0
B38: 熱量 | E38: =SUM(E32:E37) -> 684.33919 | I38: 熱量 | L38: =SUM(L32:L37) -> 712.5 | P38: 熱量 | S38: =SUM(S32:S37) -> 792.76739 | W38: 熱量 | Z38: =SUM(Z32:Z37) -> 799.81642 | AD38: 熱量 | AG38: =SUM(AG32:AG37) -> 783.50932
A39: 廠商營養師: 趙英茹 午餐秘書: 主任: 校長:
