Workbook
Name 特殊: [1]特殊石材!$A$1:$C$65536

Sheet 6月菜單
B1: 屏東縣東寧國小111年6月份午餐菜單
B2: 日期 | C2: 星期 | D2: 主食 | E2: 副食一 | F2: 副食二 | G2: 副食三 | H2: 湯 | I2: 水果 (飲品) | J2: 規格 (克) | K2: 熱量 (大卡)
C3: 一 | K3: =[2]第一週!E40 -> 696.19072
C4: 二 | K4: ='0601-0603'!L38 -> 450
B5: 6/1 | C5: 三 | D5: 香菇肉粳飯 | F5: 肉包*1 | I5: 水果 | K5: ='0601-0603'!S38 -> 775.92361
B6: 6/2 | C6: 四 | D6: 糙米飯 | E6: 椰香南瓜雞 | F6: 海帶炒肉絲 | G6: 季節時蔬 | H6: 蘿蔔龍骨湯 | K6: ='0601-0603'!Z38 -> 685.7484
B7: 6/3 | C7: 五 | D7: 端午節 | K7: ='0601-0603'!AG38 -> 728.11442
B8: 6/6 | C8: 一 | D8: 白米飯 | E8: 回鍋肉片 | F8: 咖哩雙花菜 | G8: 季節時蔬 | H8: 酸辣湯 | K8: ='0606-0610'!E38 -> 679.729
B9: 6/7 | C9: 二 | D9: 糙米飯 | E9: 左宗棠雞 | F9: 肉燥拌銀芽 | G9: 季節時蔬 | H9: 黃瓜魚丸湯 | K9: ='0606-0610'!L38 -> 671.71353
B10: 6/8 | C10: 三 | D10: 榨醬拌麵 | F10: 時蔬滷味 | H10: 紫菜蛋花湯 | I10: 水果 | K10: ='0606-0610'!S38 -> 754.12714
B11: 6/9 | C11: 四 | D11: 糙米飯 | E11: 香酥魚丁 | F11: 肉末馬鈴薯 | G11: 季節時蔬 | H11: 扁蒲肉絲龍骨湯 | I11: TAP豆漿 | K11: ='0606-0610'!Z38 -> 816.64929
B12: 6/10 | C12: 五 | D12: 白米飯 | E12: 義式燒雞 | F12: 蛋酥白菜 | G12: 有機蔬菜 | H12: 綠豆西米露 | K12: ='0606-0610'!AG38 -> 710.53136
B13: 6/13 | C13: 一 | D13: 白米飯 | E13: 油蔥滷肉燥 | F13: 滷福州丸*1 | G13: 季節時蔬 | H13: 玉米濃湯 | K13: 0
B14: 6/14 | C14: 二 | D14: 糙米飯 | E14: 蠔油雞丁 | F14: 蒸蛋 | G14: 季節時蔬 | H14: 榨菜肉絲湯 | K14: ='0613-0617'!L38 -> 719.06291
B15: 6/15 | C15: 三 | D15: 肉絲蛋炒飯 | G15: 季節時蔬 | H15: 柴魚鍋燒湯 | I15: 水果 | K15: ='0613-0617'!S38 -> 442.68865
B16: 6/16 | C16: 四 | D16: 糙米飯 | E16: 鹽酥雞 | F16: 蔥燒豆腐 | G16: 季節時蔬 | H16: 味噌海芽湯 | K16: ='0613-0617'!Z38 -> 724.43182
B17: 6/17 | C17: 五 | D17: 白米飯 | E17: 咕咾肉 | F17: 豆皮高麗菜 | G17: 有機蔬菜 | H17: 冬瓜海帶湯 | K17: ='0613-0617'!AG38 -> 708.57143
B18: 6/20 | C18: 一 | D18: 白米飯 | E18: 滷雞翅*1 | F18: 玉米炒蛋 | G18: 季節時蔬 | H18: 豆薯龍骨湯 | K18: ='0620-0624'!E38 -> 667.46672
B19: 6/21 | C19: 二 | D19: 糙米飯 | E19: 沙茶肉片 | F19: 針菇黃瓜 | G19: 季節時蔬 | H19: 紫菜蛋花湯 | K19: ='0620-0624'!L38 -> 673.06277
B20: 6/22 | C20: 三 | D20: 魚肉肉絲蛋粥 | F20: 豬肉餡餅*1 | I20: 水果 | K20: ='0620-0624'!S38 -> 790.30844
B21: 6/23 | C21: 四 | D21: 糙米飯 | E21: 蔥油雞 | F21: 豆干炒小魚乾 | G21: 季節時蔬 | H21: 蔬菜馬鈴薯湯 | I21: 鮮奶 | K21: ='0620-0624'!Z38 -> 851.69565
B22: 6/24 | C22: 五 | D22: 白米飯 | E22: 宮保雞丁 | F22: 絲瓜燴蛋 | G22: 有機蔬菜 | H22: 冬瓜茶甘藷甜湯 | K22: ='0620-0624'!AG38 -> 727.27273
B23: 6/27 | C23: 一 | D23: 白米飯 | E23: 茄汁豬柳 | F23: 蔥爆甜不辣 | G23: 季節時蔬 | H23: 海芽豆腐湯 | K23: ='0620-0624'!AG38 -> 727.27273
B24: 6/28 | C24: 二 | D24: 糙米飯 | E24: 冬瓜雞丁 | F24: 紅蘿蔔炒蛋 | G24: 季節時蔬 | H24: 四神蘿蔔湯 | K24: ='0627-0630'!L38 -> 707.34307
B25: 6/29 | C25: 三 | D25: 什錦炒麵 | F25: 奶皇包*1 | H25: 關東煮 | I25: 水果 | K25: ='0627-0630'!S38 -> 733.45779
B26: 6/30 | C26: 四 | D26: 糙米飯 | E26: 咖哩雞 | F26: 麻婆豆腐 | G26: 季節時蔬 | H26: 黃瓜龍骨湯 | K26: ='0627-0630'!Z38 -> 704.74454
K27: ='0627-0630'!AG38 -> 741.82517
H28: 食材供應廠商:芳味香食品
B29: 備註:本廠使用的豬肉及其製品原料產地皆為國產豬肉。

Sheet 0601-0603
A1: 屏東縣東寧國小111年6月第一週學生午餐食譜設計表
A2: 供應人數： | C2: 670人+10備份 (份數的備份+30) | P2: 本校/園一律使用國產 豬、牛肉食材 | X2: 食材供應商:芳味香食品企業有限公司 07-7037855
A3: 日期 | B3: 月 日 星期一 | I3: 月 日 星期二 | P3: 6 月 1 日 星期三 | W3: 6 月 2 日 星期四 | AD3: 6月3日 星期五
A4: 項目 | C4: 材料 | D4: 每人(g) | E4: 學校採購量(kg) | F4: C | G4: P | H4: V | J4: 材料 | K4: 每人(g) | L4: 學校採購量(kg) | M4: C | N4: P | O4: V | P4: 菜名/烹調法 | Q4: 材料 | R4: 每人(g) | S4: 學校採購量(kg) | T4: C | U4: P | V4: V | W4: 菜名/烹調法 | X4: 材料 | Y4: 每人(g) | Z4: 學校採購量(kg) | AA4: C | AB4: P | AC4: V | AD4: 菜名/烹調法 | AE4: 材料 | AF4: 每人(g) | AG4: 學校採購量(kg) | AH4: C | AI4: P | AJ4: V
A5: 主食 | F5: 4.5 | I5: 糙米飯 | J5: 白米 | M5: 4.5 | P5: 香菇肉粳飯 | Q5: 白米 | R5: 71 | S5: 50 | T5: 4.5 | W5: 糙米飯 | X5: 白米 | Y5: 52 | Z5: 35 | AA5: 4.5 | AD5: 白米飯 | AE5: 白米 | AF5: 71 | AG5: 50 | AH5: 4.5
J6: 糙米 | Q6: 肉絲 | R6: =S6/680*1000 -> 39.705882 | S6: 27 | U6: =R6/35 -> 1.1344538 | X6: 糙米 | Y6: 22 | Z6: 15
Q7: 大白菜 | R7: =S7/680*1000 -> 69.117647 | S7: 47 | U7: =R7/55 -> 1.2566845 | AL7: 東寧雜貨
A8: 副 食一 | B8: ='6月菜單'!E3 -> 0 | G8: =D8/35 -> 0 | I8: ='6月菜單'!E4 -> 0 | K8: =L8/690*1000 -> 0 | N8: =K8/40*0.85 -> 0 | Q8: 桶筍絲 | R8: =S8/680*1000 -> 17.647059 | S8: 12 | V8: =R8/100 -> 0.17647059 | W8: ='6月菜單'!E6 -> 椰香南瓜雞 | X8: 雞腿丁 | Y8: =Z8/690*1000 -> 78.26087 | Z8: 54 | AB8: =Y8/40*0.85 -> 1.6630435 | AD8: ='6月菜單'!E7 -> 0 | AE8: 肉片 | AF8: =AG8/690*1000 -> 73.913043 | AG8: 51 | AI8: =AF8/35 -> 2.1118012
H9: =D9/100 -> 0 | K9: =L9/690*1000 -> 0 | O9: =K9/100 -> 0 | Q9: 紅蘿蔔 | R9: =S9/680*1000 -> 14.705882 | S9: 10 | V9: =R9/100 -> 0.14705882 | X9: 南瓜 | Y9: =Z9/690*1000 -> 36.231884 | Z9: 25 | AA9: =Y9/55 -> 0.65876153 | AE9: 洋蔥 | AF9: =AG9/690*1000 -> 24.637681 | AG9: 17 | AJ9: =AF9/100 -> 0.24637681
H10: =D10/100 -> 0 | K10: =L10/690*1000 -> 0 | O10: =K10/100 -> 0 | Q10: 乾香菇 | R10: - | S10: 0.6 | X10: 椰漿 | Y10: - | Z10: 3罐 | AE10: 杏鮑菇 | AF10: =AG10/690*1000 -> 8.6956522 | AG10: 6 | AJ10: =AF10/100 -> 0.086956522
H11: =D11/100 -> 0 | K11: - | AE11: 九層塔 | AF11: - | AG11: 1.2
K12: - | U12: =R12/50 -> 0 | AE12: 薑片 | AF12: - | AG12: 0.5
AE13: 醬油 | AF13: - | AG13: 適量
AE14: 麻油 | AF14: - | AG14: 適量
AE15: 米酒 | AF15: - | AG15: 適量
A16: 副 食二 | B16: ='6月菜單'!F3 -> 0 | G16: =D16/50 -> 0 | I16: ='6月菜單'!F4 -> 0 | K16: =L16/690*1000 -> 0 | N16: =K16/55 -> 0 | P16: ='6月菜單'!F5 -> 肉包*1 | Q16: 肉包 | R16: 30 | S16: 680粒 | T16: 0.8 | U16: 0.3 | W16: ='6月菜單'!F6 -> 海帶炒肉絲 | X16: 肉絲 | Y16: =Z16/690*1000 -> 8.6956522 | Z16: 6 | AB16: =Y16/35 -> 0.2484472 | AD16: ='6月菜單'!F7 -> 0 | AE16: 玉米粒 | AF16: =AG16/690*1000 -> 60.869565 | AG16: 42 | AH16: =AF16/85 -> 0.71611253
H17: =D17/100 -> 0 | K17: =L17/690*1000 -> 0 | O17: =K17/100 -> 0 | X17: 海帶絲 | Y17: =Z17/690*1000 -> 31.884058 | Z17: 22 | AC17: =Y17/100 -> 0.31884058 | AE17: 枸杞 | AF17: - | AG17: 1包
H18: =D18/100 -> 0 | K18: - | X18: 紅蘿蔔 | Y18: =Z18/690*1000 -> 7.2463768 | Z18: 5 | AC18: =Y18/100 -> 0.072463768 | AE18: 毛豆 | AF18: =AG18/690*1000 -> 7.2463768 | AG18: 5 | AI18: =AF18/50 -> 0.14492754
AJ19: =AF19/100 -> 0
A22: 副食三 | B22: 時蔬 | H22: =D22/100 -> 0 | I22: 時蔬 | K22: =L22/690*1000 -> 0 | O22: =K22/100 -> 0 | W22: 時蔬 | X22: 高麗菜 | Y22: =Z22/690*1000 -> 72.463768 | Z22: 50 | AC22: =Y22/100 -> 0.72463768 | AD22: 時蔬 | AE22: 有機蔬菜 | AF22: =AG22/690*1000 -> 72.463768 | AG22: 50 | AJ22: =AF22/100 -> 0.72463768
X23: 紅蘿蔔 | Y23: =Z23/690*1000 -> 4.3478261 | Z23: 3 | AC23: =Y23/100 -> 0.043478261
A25: 湯類 | B25: ='6月菜單'!H3 -> 0 | G25: =D25/55 -> 0 | I25: ='6月菜單'!H4 -> 0 | K25: =L25/690*1000 -> 0 | O25: =K25/100 -> 0 | W25: ='6月菜單'!H6 -> 蘿蔔龍骨湯 | X25: 白蘿蔔 | Y25: =Z25/690*1000 -> 31.884058 | Z25: 22 | AC25: =Y25/100 -> 0.31884058 | AD25: ='6月菜單'!H7 -> 0 | AE25: 大白菜 | AF25: =AG25/690*1000 -> 28.985507 | AG25: 20 | AJ25: =AF25/100 -> 0.28985507
H26: =D26/100 -> 0 | K26: =L26/690*1000 -> 0 | N26: =K26/35 -> 0 | X26: 龍骨 | Y26: - | Z26: 6 | AE26: 金針菇 | AF26: =AG26/690*1000 -> 5.7971014 | AG26: 4 | AJ26: =AF26/100 -> 0.057971014
K27: =L27/690*1000 -> 0 | N27: =K27/35 -> 0 | X27: 肉絲 | Y27: =Z27/690*1000 -> 4.3478261 | Z27: 3 | AB27: =Y27/35 -> 0.1242236 | AE27: 鮑魚菇 | AF27: =AG27/690*1000 -> 4.3478261 | AG27: 3 | AJ27: =AF27/100 -> 0.043478261
K28: - | Y28: - | AE28: 味噌 | AF28: - | AG28: 2盒
Q29: 蒜碎 | S29: 0.3 | X29: 蒜碎 | Z29: 0.5 | AE29: 蒜碎 | AG29: 0.5
A30: 水果 | I30: 水果 | Q30: 季節水果 | S30: 670份 | AD30: 水果
A31: 其他 | B31: 其他 | I31: 其他 | P31: 其他 | W31: 其他 | AD31: 其他
A32: 營養供應比例 | B32: 油脂類(份) | D32: 3 | E32: =D32*45 -> 135 | I32: 油脂類(份) | K32: 3 | L32: =K32*45 -> 135 | P32: 油脂類(份) | R32: 3 | S32: =R32*45 -> 135 | W32: 油脂類(份) | Y32: 3 | Z32: =Y32*45 -> 135 | AD32: 油脂類(份) | AF32: 3.5 | AG32: =AF32*45 -> 157.5
B33: 五榖類(份) | D33: =SUM(F5:F29) -> 4.5 | E33: =D33*70 -> 315 | I33: 五榖類(份) | K33: =SUM(M5:M29) -> 4.5 | L33: =K33*70 -> 315 | P33: 五榖類(份) | R33: =SUM(T5:T29) -> 5.3 | S33: =R33*70 -> 371 | W33: 五榖類(份) | Y33: =SUM(AA5:AA29) -> 5.1587615 | Z33: =Y33*70 -> 361.11331 | AD33: 五榖類(份) | AF33: =SUM(AH5:AH29) -> 5.2161125 | AG33: =AF33*70 -> 365.12788
B34: 豆魚肉蛋類(份) | D34: =SUM(G5:G31) -> 0 | E34: =D34*75 -> 0 | I34: 豆魚肉蛋類(份) | K34: =SUM(N5:N31) -> 0 | L34: =K34*75 -> 0 | P34: 豆魚肉蛋類(份) | R34: =SUM(U5:U31) -> 2.6911383 | S34: =R34*75 -> 201.83537 | W34: 豆魚肉蛋類(份) | Y34: =SUM(AB5:AB31) -> 2.0357143 | Z34: =Y34*75 -> 152.67857 | AD34: 豆魚肉蛋類(份) | AF34: =SUM(AI5:AI31) -> 2.2567288 | AG34: =AF34*75 -> 169.25466
B35: 蔬菜類(份) | D35: =SUM(H5:H29) -> 0 | E35: =D35*25 -> 0 | I35: 蔬菜類(份) | K35: =SUM(O5:O29) -> 0 | L35: =K35*25 -> 0 | P35: 蔬菜類(份) | R35: =SUM(V5:V29) -> 0.32352941 | S35: =R35*25 -> 8.0882353 | W35: 蔬菜類(份) | Y35: =SUM(AC5:AC29) -> 1.4782609 | Z35: =Y35*25 -> 36.956522 | AD35: 蔬菜類(份) | AF35: =SUM(AJ5:AJ29) -> 1.4492754 | AG35: =AF35*25 -> 36.231884
B36: 水果類(份) | D36: 0 | E36: =D36*60 -> 0 | I36: 水果類(份) | K36: 0 | L36: =K36*60 -> 0 | P36: 水果類(份) | R36: 1 | S36: =R36*60 -> 60 | W36: 水果類(份) | Y36: 0 | Z36: =Y36*60 -> 0 | AD36: 水果類(份) | AF36: 0 | AG36: =AF36*60 -> 0
B37: 乳製品(份) | D37: 0 | E37: =D37*120 -> 0 | I37: 乳製品(份) | K37: 0 | L37: =K37*120 -> 0 | P37: 乳製品(份) | R37: 0 | S37: =R37*120 -> 0 | W37: 乳製品(份) | Y37: 0 | Z37: =Y37*120 -> 0 | AD37: 乳製品(份) | AF37: 0 | AG37: =AF37*120 -> 0
B38: 熱量 | E38: =SUM(E32:E37) -> 450 | I38: 熱量 | L38: =SUM(L32:L37) -> 450 | P38: 熱量 | S38: =SUM(S32:S37) -> 775.92361 | W38: 熱量 | Z38: =SUM(Z32:Z37) -> 685.7484 | AD38: 熱量 | AG38: =SUM(AG32:AG37) -> 728.11442
A39: 廠商營養師: 趙英茹 午餐秘書: 主任: 校長:
A40: 備註:本廠使用的豬肉及其製品原料產地皆為國產豬肉。

Sheet 0606-0610
A1: 屏東縣東寧國小111年6月第二週學生午餐食譜設計表
A2: 供應人數： | C2: 670人+10備份 (份數的備份+30) | P2: 本校/園一律使用國產 豬、牛肉食材 | X2: 食材供應商:芳味香食品企業有限公司 07-7037855
A3: 日期 | B3: 6月6日 星期一 | I3: 6月7日 星期二 | P3: 6月8日 星期三 | W3: 6月9日星期四 | AD3: 6月10日 星期五
A4: 項目 | B4: 菜名/烹調法 | C4: 材料 | D4: 每人(g) | E4: 學校採購量(kg) | F4: C | G4: P | H4: V | I4: 菜名/烹調法 | J4: 材料 | K4: 每人(g) | L4: 學校採購量(kg) | M4: C | N4: P | O4: V | P4: 菜名/烹調法 | Q4: 材料 | R4: 每人(g) | S4: 學校採購量(kg) | T4: C | U4: P | V4: V | W4: 菜名/烹調法 | X4: 材料 | Y4: 每人(g) | Z4: 學校採購量(kg) | AA4: C | AB4: P | AC4: V | AD4: 菜名/烹調法 | AE4: 材料 | AF4: 每人(g) | AG4: 學校採購量(kg) | AH4: C | AI4: P | AJ4: V
A5: 主食 | B5: 白米飯 | C5: 白米 | D5: 71 | E5: 50 | F5: 4.5 | I5: 糙米飯 | J5: 白米 | K5: 52 | L5: 35 | M5: 4.5 | P5: 榨醬拌麵 | Q5: 白油麵 | R5: =S5/680*1000 -> 154.41176 | S5: 105 | T5: =R5/30 -> 5.1470588 | W5: 糙米飯 | X5: 白米 | Y5: 52 | Z5: 35 | AA5: 4.5 | AD5: 白米飯 | AE5: 白米 | AF5: 71 | AG5: 50 | AH5: 4.5
J6: 糙米 | K6: 22 | L6: 15 | Q6: 絞肉 | R6: =S6/690*1000 -> 21.73913 | S6: 15 | U6: =R6/35 -> 0.62111801 | X6: 糙米 | Y6: 22 | Z6: 15
Q7: 豆乾丁 | R7: =S7/690*1000 -> 14.492754 | S7: 10 | U7: =R7/40 -> 0.36231884
A8: 副 食一 | B8: ='6月菜單'!E8 -> 回鍋肉片 | C8: 肉片 | D8: =E8/690*1000 -> 73.913043 | E8: 51 | G8: =D8/35 -> 2.1118012 | I8: ='6月菜單'!E9 -> 左宗棠雞 | J8: 雞腿丁 | K8: =L8/690*1000 -> 78.26087 | L8: 54 | N8: =K8/40*0.85 -> 1.6630435 | Q8: 小黃瓜 | R8: =S8/690*1000 -> 36.231884 | S8: 25 | V8: =R8/100 -> 0.36231884 | W8: ='6月菜單'!E11 -> 香酥魚丁 | X8: 新鮮魚丁 | Y8: =Z8/690*1000 -> 101.44928 | Z8: 70 | AB8: =Y8/35*0.6 -> 1.7391304 | AD8: ='6月菜單'!E12 -> 義式燒雞 | AE8: 雞腿丁 | AF8: =AG8/690*1000 -> 79.710145 | AG8: 55 | AI8: =AF8/40*0.85 -> 1.6938406 | AL8: 東寧雜貨
C9: 青椒 | D9: =E9/690*1000 -> 4.3478261 | E9: 3 | H9: =D9/100 -> 0.043478261 | J9: 油豆腐 | K9: =L9/690*1000 -> 21.73913 | L9: 15 | N9: =K9/55 -> 0.39525692 | Q9: 紅蘿蔔 | R9: =S9/690*1000 -> 14.492754 | S9: 10 | V9: =R9/100 -> 0.14492754 | AE9: 番茄 | AF9: =AG9/690*1000 -> 11.594203 | AG9: 8 | AJ9: =AF9/100 -> 0.11594203
C10: 高麗菜 | D10: =E10/690*1000 -> 20.289855 | E10: 14 | H10: =D10/100 -> 0.20289855 | J10: 甜椒 | K10: =L10/690*1000 -> 4.3478261 | L10: 3 | O10: =K10/100 -> 0.043478261 | Q10: 甜麵醬 | R10: - | S10: 2桶 | AC10: =Y10/100 -> 0 | AE10: 洋蔥 | AF10: =AG10/690*1000 -> 24.637681 | AG10: 17 | AJ10: =AF10/100 -> 0.24637681
C11: 紅蘿蔔 | D11: =E11/690*1000 -> 4.3478261 | E11: 3 | H11: =D11/100 -> 0.043478261 | J11: 乾辣椒 | K11: =L11/690*1000 -> 0.14492754 | L11: 0.1 | AE11: 紅蘿蔔 | AF11: =AG11/690*1000 -> 11.594203 | AG11: 8 | AJ11: =AF9/100 -> 0.11594203
C12: 豆瓣醬 | D12: - | E12: 2桶 | AE12: 義式香料 | AF12: - | AG12: 0.5包
A16: 副 食二 | B16: ='6月菜單'!F8 -> 咖哩雙花菜 | C16: 杏鮑菇 | D16: =E16/690*1000 -> 8.6956522 | E16: 6 | H16: =D16/100 -> 0.086956522 | I16: ='6月菜單'!F9 -> 肉燥拌銀芽 | J16: 絞肉 | K16: =L16/682*1000 -> 8.797654 | L16: 6 | N16: =K16/55 -> 0.15995734 | P16: ='6月菜單'!F10 -> 時蔬滷味 | Q16: 肉片 | R16: =S16/690*1000 -> 21.73913 | S16: 15 | U16: =R16/35 -> 0.62111801 | W16: ='6月菜單'!F11 -> 肉末馬鈴薯 | X16: 絞肉 | Y16: =Z16/690*1000 -> 13.043478 | Z16: 9 | AB16: =Y16/35 -> 0.37267081 | AD16: ='6月菜單'!F12 -> 蛋酥白菜 | AE16: 雞蛋 | AF16: =AG16/690*1000 -> 8.6956522 | AG16: 6 | AI16: =AF16/55 -> 0.15810277
C17: 白花菜 | D17: =E17/690*1000 -> 31.884058 | E17: 22 | H17: =D17/100 -> 0.31884058 | J17: 豆芽菜 | K17: =L17/682*1000 -> 38.123167 | L17: 26 | Q17: 百頁 | R17: =S17/690*1000 -> 8.6956522 | S17: 6 | U17: =R17/35 -> 0.2484472 | X17: 馬鈴薯 | Y17: =Z17/690*1000 -> 46.376812 | Z17: 32 | AA17: =Y17/90 -> 0.51529791 | AE17: 大白菜 | AF17: =AG17/690*1000 -> 69.565217 | AG17: 48
C18: 青花菜 | D18: =E18/690*1000 -> 26.086957 | E18: 18 | H18: =D18/100 -> 0.26086957 | J18: 韭菜 | K18: =L18/682*1000 -> 4.398827 | L18: 3 | Q18: 玉米塊 | R18: =S18/690*1000 -> 13.043478 | S18: 9 | T18: =R18/85 -> 0.15345269 | X18: 紅蘿蔔 | Y18: =Z18/690*1000 -> 17.391304 | Z18: 12 | AC18: =Y18/100 -> 0.17391304 | AE18: 肉絲 | AF18: =AG18/690*1000 -> 4.3478261 | AG18: 3 | AI18: =AF18/35 -> 0.1242236
C19: 紅蘿蔔 | D19: =E19/690*1000 -> 4.3478261 | E19: 3 | H19: =D19/100 -> 0.043478261 | Q19: 高麗菜 | R19: =S19/690*1000 -> 31.884058 | S19: 22 | V19: =R19/100 -> 0.31884058 | AE19: 紅蘿蔔 | AF19: =AG19/690*1000 -> 4.3478261 | AG19: 3 | AJ19: =AF19/100 -> 0.043478261
C20: 咖哩粉 | D20: - | E20: 2盒 | Q20: 海帶結 | R20: =S20/690*1000 -> 4.3478261 | S20: 3 | V20: =R20/100 -> 0.043478261
Q21: 滷包 | R21: - | S21: 6包
A22: 副食三 | B22: 時蔬 | C22: 小白菜 | D22: =E22/690*1000 -> 72.463768 | E22: 50 | H22: =D22/100 -> 0.72463768 | I22: 時蔬 | J22: 空心菜 | K22: =L22/690*1000 -> 72.463768 | L22: 50 | O22: =K22/100 -> 0.72463768 | W22: 時蔬 | X22: 青江菜 | Y22: =Z22/690*1000 -> 72.463768 | Z22: 50 | AC22: =Y22/100 -> 0.72463768 | AD22: 時蔬 | AE22: 有機蔬菜 | AF22: =AG22/690*1000 -> 72.463768 | AG22: 50 | AJ22: =AF22/100 -> 0.72463768
C23: 薑絲 | D23: - | E23: 0.2
C24: 豆腐 | D24: =E24/690*1000 -> 10.724638 | E24: 7.4 | G24: =D24/80 -> 0.13405797
A25: 湯類 | B25: ='6月菜單'!H8 -> 酸辣湯 | C25: 雞蛋 | D25: =E25/554*1000 -> 9.0252708 | E25: 5 | G25: =D25/55 -> 0.16409583 | I25: ='6月菜單'!H9 -> 黃瓜魚丸湯 | J25: 大黃瓜 | K25: =L25/690*1000 -> 36.231884 | L25: 25 | N25: =K25/80 -> 0.45289855 | P25: ='6月菜單'!H10 -> 紫菜蛋花湯 | Q25: 雞蛋 | R25: =S25/690*1000 -> 11.594203 | S25: 8 | U25: =R25/55 -> 0.21080369 | W25: ='6月菜單'!H11 -> 扁蒲肉絲龍骨湯 | X25: 扁蒲 | Y25: =Z25/690*1000 -> 26.086957 | Z25: 18 | AC25: =Y25/100 -> 0.26086957 | AD25: ='6月菜單'!H12 -> 綠豆西米露 | AE25: 綠豆 | AF25: =AG25/690*1000 -> 17.391304 | AG25: 12 | AH25: =AF25/25 -> 0.69565217
C26: 桶筍絲 | D26: =E26/554*1000 -> 14.440433 | E26: 8 | H26: =D26/100 -> 0.14440433 | J26: 魚丸Q | K26: =L26/690*1000 -> 8.6956522 | L26: 6 | O26: =K26/100 -> 0.086956522 | Q26: 紫菜 | R26: 9 | S26: 1包 | V26: =R26/100 -> 0.09 | X26: 肉絲 | Y26: =Z26/554*1000 -> 5.4151625 | Z26: 3 | AB26: =Y26/35 -> 0.15471893 | AE26: 西谷米 | AF26: =AG26/690*1000 -> 6.9565217 | AG26: 4.8 | AH26: =AF26/15 -> 0.46376812
C27: 紅蘿蔔 | D27: =E27/554*1000 -> 5.4151625 | E27: 3 | H27: =D27/100 -> 0.054151625 | J27: 冬菜 | K27: - | L27: 2包 | Q27: 肉絲 | R27: =S27/690*1000 -> 4.3478261 | S27: 3 | U27: =R27/35 -> 0.1242236 | X27: 龍骨 | Y27: =Z27/554*1000 -> 10.830325 | Z27: 6 | AB27: =Y27/70 -> 0.15471893
C28: 木耳 | D28: =E28/554*1000 -> 3.6101083 | E28: 2 | H28: =D28/100 -> 0.036101083 | M28: =K28/85 -> 0
C29: 烏醋 | E29: 少許 | J29: 蒜碎 | L29: 0.6 | N29: =K29/35 -> 0 | Q29: 蒜碎 | S29: 0.5 | X29: 蒜碎 | Z29: 0.6 | AE29: 蒜碎 | AG29: 0.8
A30: 水果 | C30: 蒜碎 | E30: 0.8 | I30: 水果 | P30: 水果 | Q30: 季節水果 | S30: 670份 | W30: 水果 | X30: ='6月菜單'!I11 -> TAP豆漿 | Z30: 670份 | AD30: 水果
A31: 其他 | B31: 其他 | I31: 其他 | P31: 其他 | W31: 其他 | AD31: 其他
A32: 營養供應比例 | B32: 油脂類(份) | D32: 3 | E32: =D32*45 -> 135 | I32: 油脂類(份) | K32: 3 | L32: =K32*45 -> 135 | P32: 油脂類(份) | R32: 3 | S32: =R32*45 -> 135 | W32: 油脂類(份) | Y32: 3 | Z32: =Y32*45 -> 135 | AD32: 油脂類(份) | AF32: 3 | AG32: =AF32*45 -> 135
B33: 五榖類(份) | D33: =SUM(F5:F29) -> 4.5 | E33: =D33*70 -> 315 | I33: 五榖類(份) | K33: =SUM(M5:M29) -> 4.5 | L33: =K33*70 -> 315 | P33: 五榖類(份) | R33: =SUM(T5:T29) -> 5.3005115 | S33: =R33*70 -> 371.03581 | W33: 五榖類(份) | Y33: =SUM(AA5:AA29) -> 5.0152979 | Z33: =Y33*70 -> 351.07085 | AD33: 五榖類(份) | AF33: =SUM(AH5:AH29) -> 5.6594203 | AG33: =AF33*70 -> 396.15942
B34: 豆魚肉蛋類(份) | D34: =SUM(G5:G31) -> 2.409955 | E34: =D34*75 -> 180.74663 | I34: 豆魚肉蛋類(份) | K34: =SUM(N5:N31) -> 2.6711563 | L34: =K34*75 -> 200.33672 | P34: 豆魚肉蛋類(份) | R34: =SUM(U5:U31) -> 2.1880294 | S34: =R34*75 -> 164.1022 | W34: 豆魚肉蛋類(份) | Y34: =SUM(AB5:AB31) -> 2.4212391 | Z34: =Y34*75 -> 181.59293 | AD34: 豆魚肉蛋類(份) | AF34: =SUM(AI5:AI31) -> 1.9761669 | AG34: =AF34*75 -> 148.21252
B35: 蔬菜類(份) | D35: =SUM(H5:H29) -> 1.9592947 | E35: =D35*25 -> 48.982368 | I35: 蔬菜類(份) | K35: =SUM(O5:O29) -> 0.85507246 | L35: =K35*25 -> 21.376812 | P35: 蔬菜類(份) | R35: =SUM(V5:V29) -> 0.95956522 | S35: =R35*25 -> 23.98913 | W35: 蔬菜類(份) | Y35: =SUM(AC5:AC29) -> 1.1594203 | Z35: =Y35*25 -> 28.985507 | AD35: 蔬菜類(份) | AF35: =SUM(AJ5:AJ29) -> 1.2463768 | AG35: =AF35*25 -> 31.15942
B36: 水果類(份) | D36: 0 | E36: =D36*60 -> 0 | I36: 水果類(份) | K36: 0 | L36: =K36*60 -> 0 | P36: 水果類(份) | R36: 1 | S36: =R36*60 -> 60 | W36: 水果類(份) | Y36: 0 | Z36: =Y36*60 -> 0 | AD36: 水果類(份) | AF36: 0 | AG36: =AF36*60 -> 0
B37: 乳製品(份) | D37: 0 | E37: =D37*120 -> 0 | I37: 乳製品(份) | K37: 0 | L37: =K37*120 -> 0 | P37: 乳製品(份) | R37: 0 | S37: =R37*120 -> 0 | W37: 乳製品(份) | Y37: 1 | Z37: =Y37*120 -> 120 | AD37: 乳製品(份) | AF37: 0 | AG37: =AF37*120 -> 0
B38: 熱量 | E38: =SUM(E32:E37) -> 679.729 | I38: 熱量 | L38: =SUM(L32:L37) -> 671.71353 | P38: 熱量 | S38: =SUM(S32:S37) -> 754.12714 | W38: 熱量 | Z38: =SUM(Z32:Z37) -> 816.64929 | AD38: 熱量 | AG38: =SUM(AG32:AG37) -> 710.53136
A39: 廠商營養師: 趙英茹 午餐秘書: 主任: 校長:
A40: 備註:本廠使用的豬肉及其製品原料產地皆為國產豬肉。

Sheet 0613-0617
A1: 屏東縣東寧國小111年6月第三週學生午餐食譜設計表
A2: 供應人數： | C2: 670人+10備份 (份數的備份+30) | P2: 本校/園一律使用國產 豬、牛肉食材 | X2: 食材供應商:芳味香食品企業有限公司 07-7037855
A3: 日期 | B3: 6月13日 星期一 | I3: 6月14日 星期二 | P3: 6月15日 星期三 -78人 | W3: 6月16日 星期四 -78人 | AD3: 6月17日 星期五 -78人
A4: 項目 | B4: 菜名/烹調法 | C4: 材料 | D4: 每人(g) | E4: 學校採購量(kg) | F4: C | G4: P | H4: V | I4: 菜名/烹調法 | J4: 材料 | K4: 每人(g) | L4: 學校採購量(kg) | M4: C | N4: P | O4: V | P4: 菜名/烹調法 | Q4: 材料 | R4: 每人(g) | S4: 學校採購量(kg) | T4: C | U4: P | V4: V | W4: 菜名/烹調法 | X4: 材料 | Y4: 每人(g) | Z4: 學校採購量(kg) | AA4: C | AB4: P | AC4: V | AD4: 菜名/烹調法 | AE4: 材料 | AF4: 每人(g) | AG4: 學校採購量(kg) | AH4: C | AI4: P | AJ4: V
A5: 主食 | B5: 白米飯 | C5: 白米 | D5: 71 | E5: 50 | F5: 4.5 | I5: 糙米飯 | J5: 白米 | K5: 52 | L5: 35 | M5: 4.5 | P5: 油飯 | Q5: 糯米(廠商供應) | R5: =S5/600*1000 -> 88.333333 | S5: 53 | T5: =R5/30 -> 2.9444444 | W5: 糙米飯 | X5: 白米 | Y5: 52 | Z5: 31 | AA5: 4.5 | AD5: 白米飯 | AE5: 白米 | AF5: 71 | AG5: 44 | AH5: 4.5
J6: 糙米 | K6: 22 | L6: 15 | Q6: 新豐叫 | U6: =R6/35 -> 0 | X6: 糙米 | Y6: 22 | Z6: 13
Q7: 乾魷魚 | R7: =S7/600*1000 -> 1.6666667 | S7: 1 | U7: =R7/55 -> 0.03030303
A8: 副 食一 | B8: ='6月菜單'!E13 -> 油蔥滷肉燥 | C8: 絞肉 | D8: =E8/690*1000 -> 73.913043 | E8: 51 | G8: =D8/35 -> 2.1118012 | I8: ='6月菜單'!E14 -> 蠔油雞丁 | J8: 雞腿丁 | K8: =L8/690*1000 -> 78.26087 | L8: 54 | N8: =K8/40*0.85 -> 1.6630435 | Q8: 乾香菇 | R8: =S8/600*1000 -> 1.6666667 | S8: 1 | T8: =R8/85 -> 0.019607843 | W8: ='6月菜單'!E16 -> 鹽酥雞 | X8: 雞腿丁 | Y8: =Z8/600*1000 -> 80 | Z8: 48 | AB8: =Y8/40*0.85 -> 1.7 | AD8: ='6月菜單'!E17 -> 咕咾肉 | AE8: 雞腿丁 | AF8: =AG8/600*1000 -> 80 | AG8: 48 | AI8: =AF8/40*0.85 -> 1.7
C9: 洋蔥 | D9: =E9/690*1000 -> 21.73913 | E9: 15 | H9: =D9/100 -> 0.2173913 | J9: 洋蔥 | K9: =L9/690*1000 -> 21.73913 | L9: 15 | O9: =K9/100 -> 0.2173913 | Q9: 蝦米 | R9: =S9/600*1000 -> 1.6666667 | S9: 1 | V9: =R9/100 -> 0.016666667 | X9: 地瓜 | Y9: =Z9/600*1000 -> 30 | Z9: 18 | AA9: =Y9/55 -> 0.54545455 | AE9: 洋蔥 | AF9: =AG9/600*1000 -> 21.666667 | AG9: 13 | AJ9: =AG9/35 -> 0.37142857 | AL9: 東寧雜貨
C10: 紅蘿蔔 | D10: =E10/690*1000 -> 7.2463768 | E10: 5 | H10: =D10/100 -> 0.072463768 | J10: 紅蘿蔔 | K10: =L10/690*1000 -> 11.594203 | L10: 8 | O10: =K10/100 -> 0.11594203 | Q10: 豬肉絲 | R10: =S10/600*1000 -> 45 | S10: 27 | V10: =R10/100 -> 0.45 | X10: 椒鹽粉 | Y10: - | Z10: 1盒 | AE10: 紅蘿蔔 | AF10: =AG10/600*1000 -> 11.666667 | AG10: 7 | AJ10: =AG10/35 -> 0.2
C11: 油蔥酥 | D11: - | E11: 1包 | J11: 蠔油 | K11: - | L11: 2桶 | Q11: 油蔥酥 | R11: - | S11: 2包 | X11: 麵粉 | Y11: - | Z11: 6 | AE11: 鳳梨 | AF11: - | AG11: 22
V12: =R12/100 -> 0 | X12: 地瓜粉 | Y12: - | Z12: 6
V13: =R13/100 -> 0
A16: 副 食二 | B16: ='6月菜單'!F13 -> 滷福州丸*1 | C16: CAS福州丸 | D16: 30 | E16: 700粒 | G16: =D16/60 -> 0.5 | I16: ='6月菜單'!F14 -> 蒸蛋 | J16: 雞蛋 | K16: =L16/690*1000 -> 59.42029 | L16: 41 | N16: =K16/55 -> 1.0803689 | P16: ='6月菜單'!F15 -> 0 | W16: ='6月菜單'!F16 -> 蔥燒豆腐 | X16: 豆腐 | Y16: =Z16/600*1000 -> 66.666667 | Z16: 40 | AB16: =Y16/80 -> 0.83333333 | AD16: ='6月菜單'!F17 -> 豆皮高麗菜 | AE16: 豆皮 | AF16: =AG16/600*1000 -> 10 | AG16: 6 | AI16: =AF16/15 -> 0.66666667
C17: 高麗菜 | D17: =E17/690*1000 -> 21.73913 | E17: 15 | H17: =D17/100 -> 0.2173913 | J17: 翡翠 | K17: - | L17: 3盒 | X17: 肉片 | Y17: =Z17/600*1000 -> 10 | Z17: 6 | AB17: =Y17/35 -> 0.28571429 | AE17: 高麗菜 | AF17: =AG17/600*1000 -> 63.333333 | AG17: 38 | AJ17: =AG17/35 -> 1.0857143
C18: 芹菜末 | D18: =E18/690*1000 -> 0.86956522 | E18: 0.6 | H18: =D18/100 -> 0.0086956522 | O18: =K18/100 -> 0 | V18: =R18/100 -> 0 | X18: 紅蘿蔔 | Y18: =Z18/600*1000 -> 5 | Z18: 3 | AC18: =Z18/35 -> 0.085714286 | AE18: 紅蘿蔔 | AF18: =AG18/600*1000 -> 3.3333333 | AG18: 2 | AJ18: =AG18/35 -> 0.057142857
C19: 香菇 | D19: =E19/690*1000 -> 4.3478261 | E19: 3 | H19: =D19/100 -> 0.043478261 | V19: =R19/100 -> 0 | X19: 木耳 | Y19: =Z19/600*1000 -> 3.3333333 | Z19: 2 | AC19: =Z19/35 -> 0.057142857
C20: 紅蘿蔔絲 | D20: =E20/690*1000 -> 2.8985507 | E20: 2 | H20: =D20/100 -> 0.028985507 | V20: =R20/100 -> 0 | AB20: =Y20/35 -> 0
C21: 滷包 | D21: - | E21: 6包
A22: 副食三 | B22: 時蔬 | C22: 青江菜 | D22: =E22/690*1000 -> 72.463768 | E22: 50 | H22: =D22/100 -> 0.72463768 | I22: 時蔬 | J22: 油菜 | K22: =L22/690*1000 -> 72.463768 | L22: 50 | O22: =K22/100 -> 0.72463768 | P22: 時蔬 | Q22: 鵝白菜 | R22: =S22/600*1000 -> 73.333333 | S22: 44 | W22: 時蔬 | X22: 空心菜 | Y22: =Z22/600*1000 -> 73.333333 | Z22: 44 | AC22: =Y22/100 -> 0.73333333 | AD22: 時蔬 | AE22: 有機蔬菜 | AF22: =AG22/600*1000 -> 73.333333 | AG22: 44 | AJ22: =AF22/100 -> 0.73333333
G24: =D24/55 -> 0
A25: 湯類 | B25: ='6月菜單'!H13 -> 玉米濃湯 | C25: 雞蛋 | D25: =E25/690*1000 -> 10.144928 | E25: 7 | G25: =D25/55 -> 0.18445323 | I25: ='6月菜單'!H14 -> 榨菜肉絲湯 | J25: 榨菜絲 | K25: =L25/690*1000 -> 14.492754 | L25: 10 | O25: =K25/100 -> 0.14492754 | P25: ='6月菜單'!H15 -> 柴魚鍋燒湯 | Q25: 高麗菜 | R25: =S25/600*1000 -> 20 | S25: 12 | V25: =R25/100 -> 0.2 | W25: ='6月菜單'!H16 -> 味噌海芽湯 | X25: 乾海芽 | Y25: =Z25/690*1000 -> 0.86956522 | Z25: 0.6 | AD25: ='6月菜單'!H17 -> 冬瓜海帶湯 | AE25: 海帶結 | AF25: =AG25/600*1000 -> 6.6666667 | AG25: 4 | AJ25: =AF25/100 -> 0.066666667
C26: 玉米粒 | D26: =E26/690*1000 -> 14.492754 | E26: 10 | F26: =D26/85 -> 0.17050298 | J26: 肉絲 | K26: =L26/690*1000 -> 8.6956522 | L26: 6 | N26: =K26/55 -> 0.15810277 | Q26: 金針菇 | R26: =S26/600*1000 -> 6.6666667 | S26: 4 | V26: =R26/100 -> 0.066666667 | X26: 白蘿蔔 | Y26: =Z26/600*1000 -> 11.666667 | Z26: 7 | AC26: =Y26/100 -> 0.11666667 | AE26: 冬瓜 | AF26: =AG26/600*1000 -> 30 | AG26: 18 | AJ26: =AF26/100 -> 0.3
C27: 馬鈴薯 | D27: =E27/690*1000 -> 14.492754 | E27: 10 | F27: =D27/90 -> 0.1610306 | J27: 冬粉 | K27: =L27/690*1000 -> 4.3478261 | L27: 3 | M27: =K27/15 -> 0.28985507 | O27: =K27/100 -> 0.043478261 | Q27: 米血 | R27: =S27/600*1000 -> 10 | S27: 6 | T27: =R27/85 -> 0.11764706 | X27: 味噌 | Y27: - | Z27: 2盒 | AE27: 肉絲 | AF27: =AG27/600*1000 -> 5 | AG27: 3 | AI27: =AF27/35 -> 0.14285714
C28: 洋蔥 | D28: =E28/690*1000 -> 7.2463768 | E28: 5 | H28: =D28/100 -> 0.072463768 | O28: =K28/100 -> 0 | Q28: 油豆腐 | R28: =S28/600*1000 -> 8.3333333 | S28: 5 | U28: =R28/55 -> 0.15151515 | AE28: 油蔥酥 | AF28: - | AG28: 1包
C29: 紅蘿蔔 | D29: =E29/690*1000 -> 7.2463768 | E29: 5 | H29: =D29/100 -> 0.072463768 | J29: 蒜碎 | L29: 0.6 | O29: =K29/100 -> 0 | Q29: 柴魚片 | R29: - | S29: 1包 | X29: 蒜碎 | Z29: 0.6 | AE29: 蒜碎 | AG29: 0.8
A30: 水果 | C30: 蒜碎 | E30: 0.6 | I30: 水果 | W30: 水果 | AD30: 水果
A31: 其他 | I31: 其他 | P31: 其他 | Q31: 季節水果 | S31: 600份 | W31: 其他 | AD31: 其他
A32: 營養供應比例 | B32: 油脂類(份) | D32: 0 | E32: =D32*45 -> 0 | I32: 油脂類(份) | K32: 3 | L32: =K32*45 -> 135 | P32: 油脂類(份) | R32: 3 | S32: =R32*45 -> 135 | W32: 油脂類(份) | Y32: 3 | Z32: =Y32*45 -> 135 | AD32: 油脂類(份) | AF32: 3 | AG32: =AF32*45 -> 135
B33: 五榖類(份) | D33: 0 | E33: =D33*70 -> 0 | I33: 五榖類(份) | K33: =SUM(M5:M29) -> 4.7898551 | L33: =K33*70 -> 335.28986 | P33: 五榖類(份) | R33: =SUM(T5:T29) -> 3.0816993 | S33: =R33*70 -> 215.71895 | W33: 五榖類(份) | Y33: =SUM(AA5:AA29) -> 5.0454545 | Z33: =Y33*70 -> 353.18182 | AD33: 五榖類(份) | AF33: =SUM(AH5:AH29) -> 4.5 | AG33: =AF33*70 -> 315
B34: 豆魚肉蛋類(份) | D34: =SUM(G5:G31) -> 2.7962545 | E34: =D34*75 -> 209.71909 | I34: 豆魚肉蛋類(份) | K34: =SUM(N5:N31) -> 2.9015152 | L34: =K34*75 -> 217.61364 | P34: 豆魚肉蛋類(份) | R34: =SUM(U5:U31) -> 0.18181818 | S34: =R34*75 -> 13.636364 | W34: 豆魚肉蛋類(份) | Y34: =SUM(AB5:AB31) -> 2.8190476 | Z34: =Y34*75 -> 211.42857 | AD34: 豆魚肉蛋類(份) | AF34: =SUM(AI5:AI31) -> 2.5095238 | AG34: =AF34*75 -> 188.21429
B35: 蔬菜類(份) | D35: =SUM(H5:H29) -> 1.457971 | E35: =D35*25 -> 36.449275 | I35: 蔬菜類(份) | K35: =SUM(O5:O29) -> 1.2463768 | L35: =K35*25 -> 31.15942 | P35: 蔬菜類(份) | R35: =SUM(V5:V29) -> 0.73333333 | S35: =R35*25 -> 18.333333 | W35: 蔬菜類(份) | Y35: =SUM(AC5:AC29) -> 0.99285714 | Z35: =Y35*25 -> 24.821429 | AD35: 蔬菜類(份) | AF35: =SUM(AJ5:AJ29) -> 2.8142857 | AG35: =AF35*25 -> 70.357143
B36: 水果類(份) | D36: 0 | E36: =D36*60 -> 0 | I36: 水果類(份) | K36: 0 | L36: =K36*60 -> 0 | P36: 水果類(份) | R36: 1 | S36: =R36*60 -> 60 | W36: 水果類(份) | Y36: 0 | Z36: =Y36*60 -> 0 | AD36: 水果類(份) | AF36: 0 | AG36: =AF36*60 -> 0
B37: 乳製品(份) | D37: 0 | E37: =D37*120 -> 0 | I37: 乳製品(份) | K37: 0 | L37: =K37*120 -> 0 | P37: 乳製品(份) | R37: 0 | S37: =R37*120 -> 0 | W37: 乳製品(份) | Y37: 0 | Z37: =Y37*120 -> 0 | AD37: 乳製品(份) | AF37: 0 | AG37: =AF37*120 -> 0
B38: 熱量 | E38: =SUM(E32:E37) -> 246.16836 | I38: 熱量 | L38: =SUM(L32:L37) -> 719.06291 | P38: 熱量 | S38: =SUM(S32:S37) -> 442.68865 | W38: 熱量 | Z38: =SUM(Z32:Z37) -> 724.43182 | AD38: 熱量 | AG38: =SUM(AG32:AG36) -> 708.57143
A39: 廠商營養師: 趙英茹 午餐秘書: 主任: 校長:
A40: 備註:本廠使用的豬肉及其製品原料產地皆為國產豬肉。

Sheet 0620-0624
A1: 屏東縣東寧國小111年6月第四週學生午餐食譜設計表
A2: 供應人數： | C2: 592人+10備份 (份數的備份+30) | P2: 本校/園一律使用國產 豬、牛肉食材 | X2: 食材供應商:芳味香食品企業有限公司 07-7037855
A3: 日期 | B3: 6月20日 星期一 -78人 | I3: 6月21日 星期二 -78人 | P3: 6月22日 星期三 -78人 | W3: 6月23日 星期四 -78人 | AD3: 6月24日 星期五 -78人
A4: 項目 | B4: 菜名/烹調法 | C4: 材料 | D4: 每人(g) | E4: 學校採購量(kg) | F4: C | G4: P | H4: V | I4: 菜名/烹調法 | J4: 材料 | K4: 每人(g) | L4: 學校採購量(kg) | M4: C | N4: P | O4: V | P4: 菜名/烹調法 | Q4: 材料 | R4: 每人(g) | S4: 學校採購量(kg) | T4: C | U4: P | V4: V | W4: 菜名/烹調法 | X4: 材料 | Y4: 每人(g) | Z4: 學校採購量(kg) | AA4: C | AB4: P | AC4: V | AD4: 菜名/烹調法 | AE4: 材料 | AF4: 每人(g) | AG4: 學校採購量(kg) | AH4: C | AI4: P | AJ4: V
A5: 主食 | B5: 白米飯 | C5: 白米 | D5: 71 | E5: 44 | F5: 4.5 | I5: 糙米飯 | J5: 白米 | K5: 52 | L5: 31 | M5: 4.5 | P5: 魚肉肉絲蛋粥 | Q5: 白米 | R5: 71 | S5: 44 | T5: 4.5 | W5: 糙米飯 | X5: 白米 | Y5: 52 | Z5: 31 | AA5: 4.5 | AD5: 白米飯 | AE5: 白米 | AF5: 71 | AG5: 44 | AH5: 4.5
J6: 糙米 | K6: 22 | L6: 13 | Q6: 新鮮魚丁Q | R6: =S6/600*1000 -> 83.333333 | S6: 50 | U6: =R6/35*0.6 -> 1.4285714 | X6: 糙米 | Y6: 22 | Z6: 13
Q7: 肉絲 | R7: =S7/600*1000 -> 15 | S7: 9 | U7: =R7/35 -> 0.42857143
A8: 副 食一 | B8: ='6月菜單'!E18 -> 滷雞翅*1 | C8: 三節雞翅 | D8: 85 | E8: 602支 | G8: =D8/40*0.55 -> 1.16875 | I8: ='6月菜單'!E19 -> 沙茶肉片 | J8: 肉片 | K8: =L8/600*1000 -> 75 | L8: 45 | N8: =K8/35 -> 2.1428571 | Q8: 雞蛋 | R8: =S8/600*1000 -> 20 | S8: 12 | U8: =R8/55 -> 0.36363636 | W8: ='6月菜單'!E21 -> 蔥油雞 | X8: 雞腿丁 | Y8: =Z8/600*1000 -> 80 | Z8: 48 | AB8: =Y8/40*0.85 -> 1.7 | AD8: ='6月菜單'!E22 -> 宮保雞丁 | AE8: 雞腿丁 | AF8: =AG8/600*1000 -> 80 | AG8: 48 | AI8: =AF8/40*0.85 -> 1.7
C9: 麵輪 | D9: =E9/690*1000 -> 4.3478261 | E9: 3 | G9: =D9/35 -> 0.1242236 | J9: 洋蔥 | K9: =L9/600*1000 -> 18.333333 | L9: 11 | O9: =K9/100 -> 0.18333333 | Q9: 虱目魚丸Q | R9: =S9/600*1000 -> 15 | S9: 9 | U9: =R9/50 -> 0.3 | X9: 白蘿蔔 | Y9: =Z9/600*1000 -> 26.666667 | Z9: 16 | AC9: =Y9/100 -> 0.26666667 | AE9: 油豆腐 | AF9: =AG9/600*1000 -> 15 | AG9: 9 | AI9: =AF9/55 -> 0.27272727 | AL9: 東寧雜貨
C10: 滷包 | D10: - | E10: 5包 | J10: 紅蘿蔔 | K10: =L10/600*1000 -> 6.6666667 | L10: 4 | O10: =K10/100 -> 0.066666667 | Q10: 高麗菜 | R10: =S10/600*1000 -> 73.333333 | S10: 44 | V10: =R10/100 -> 0.73333333 | X10: 蔥 | Y10: =Z10/690*1000 -> 1.4492754 | Z10: 1 | AC10: =Y10/100 -> 0.014492754 | AJ10: =AF10/100 -> 0
J11: 沙茶醬 | K11: - | L11: 2桶 | Q11: 紅蘿蔔 | R11: =S11/600*1000 -> 11.666667 | S11: 7 | V11: =R11/100 -> 0.11666667
Q12: 芹菜 | R12: =S12/690*1000 -> 0.86956522 | S12: 0.6
A16: 副 食二 | B16: ='6月菜單'!F18 -> 玉米炒蛋 | C16: 雞蛋 | D16: =E16/600*1000 -> 36.666667 | E16: 22 | G16: =D16/55 -> 0.66666667 | I16: ='6月菜單'!F19 -> 針菇黃瓜 | J16: 金針菇 | K16: =L16/600*1000 -> 11.666667 | L16: 7 | O16: =K16/100 -> 0.11666667 | P16: ='6月菜單'!F20 -> 豬肉餡餅*1 | Q16: 餡餅 | R16: 40 | S16: 600粒 | T16: 1 | U16: 0.3 | W16: ='6月菜單'!F21 -> 豆干炒小魚乾 | X16: 豆干片 | Y16: =Z16/600*1000 -> 63.333333 | Z16: 38 | AB16: =Y16/40 -> 1.5833333 | AD16: ='6月菜單'!F22 -> 絲瓜燴蛋 | AE16: 雞蛋 | AF16: =AG16/600*1000 -> 30 | AG16: 18 | AI16: =AF16/55 -> 0.54545455
C17: 玉米粒 | D17: =E17/600*1000 -> 36.666667 | E17: 22 | F17: =D17/85 -> 0.43137255 | J17: 大黃瓜 | K17: =L17/600*1000 -> 61.666667 | L17: 37 | O17: =K17/100 -> 0.61666667 | X17: 小魚乾 | Y17: =Z17/600*1000 -> 2 | Z17: 1.2 | AC17: =Y17/100 -> 0.02 | AE17: 絲瓜 | AF17: =AG17/600*1000 -> 73.333333 | AG17: 44 | AJ17: =AF17/100 -> 0.73333333
C18: 紅蘿蔔 | D18: =E18/600*1000 -> 5 | E18: 3 | H18: =D18/100 -> 0.05 | J18: 紅蘿蔔 | K18: =L18/600*1000 -> 5 | L18: 3 | O18: =K18/100 -> 0.05 | V18: =R18/100 -> 0 | X18: 蔥 | Y18: =Z18/690*1000 -> 1.4492754 | Z18: 1 | AE18: 紅蘿蔔 | AF18: =AG18/600*1000 -> 3.3333333 | AG18: 2 | AJ18: =AF18/100 -> 0.033333333
V19: =R19/100 -> 0 | AJ19: =AF19/100 -> 0
V20: =R20/100 -> 0 | AJ20: =AF20/100 -> 0
X21: 蒜碎 | Z21: 0.8
A22: 副食三 | B22: 時蔬 | C22: 莧菜 | D22: =E22/600*1000 -> 70 | E22: 42 | H22: =D22/100 -> 0.7 | I22: 時蔬 | J22: 青江菜 | K22: =L22/600*1000 -> 73.333333 | L22: 44 | O22: =K22/100 -> 0.73333333 | P22: 時蔬 | Q22: 油菜 | R22: =S22/690*1000 -> 72.463768 | S22: 50 | W22: 時蔬 | X22: 鵝白菜 | Y22: =Z22/600*1000 -> 73.333333 | Z22: 44 | AC22: =Y22/100 -> 0.73333333 | AD22: 時蔬 | AE22: 有機蔬菜 | AF22: =AG22/600*1000 -> 73.333333 | AG22: 44 | AJ22: =AF22/100 -> 0.73333333
C23: 木耳 | D23: =E23/600*1000 -> 3.3333333 | E23: 2 | H23: =D23/100 -> 0.033333333 | X23: 薑絲 | Z23: 0.2
X24: 大白菜 | Y24: =Z24/600*1000 -> 11.666667 | Z24: 7
A25: 湯類 | B25: ='6月菜單'!H18 -> 豆薯龍骨湯 | C25: 豆薯 | D25: =E25/600*1000 -> 30 | E25: 18 | F25: =D25/210 -> 0.14285714 | I25: ='6月菜單'!H19 -> 紫菜蛋花湯 | J25: 雞蛋 | K25: =L25/600*1000 -> 13.333333 | L25: 8 | N25: =K25/55 -> 0.24242424 | P25: ='6月菜單'!H20 -> 0 | U25: =R25/55 -> 0 | W25: ='6月菜單'!H21 -> 蔬菜馬鈴薯湯 | X25: 馬鈴薯 | Y25: =Z25/600*1000 -> 16.666667 | Z25: 10 | AC25: =Y25/100 -> 0.16666667 | AD25: ='6月菜單'!H22 -> 冬瓜茶甘藷甜湯 | AE25: 地瓜 | AF25: =AG25/600*1000 -> 40 | AG25: 24 | AH25: =AF25/55 -> 0.72727273
C26: 龍骨 | D26: =E26/600*1000 -> 10 | E26: 6 | J26: 紫菜 | L26: 1包 | O26: =K26/100 -> 0 | V26: =R26/100 -> 0 | X26: 番茄 | Y26: =Z26/600*1000 -> 10 | Z26: 6 | AC26: =Y26/100 -> 0.1 | AE26: 冬瓜糖 | AF26: - | AG26: 1箱
C27: 肉絲 | D27: =E27/600*1000 -> 5 | E27: 3 | G27: =D27/35 -> 0.14285714 | X27: 金針菇 | Y27: =Z27/600*1000 -> 6.6666667 | Z27: 4 | AC27: =Y27/100 -> 0.066666667
X28: 鮑魚菇 | Y28: =Z28/600*1000 -> 5 | Z28: 3 | AC28: =Y28/100 -> 0.05
J29: 蒜碎 | L29: 0.8 | Q29: 蒜碎 | S29: 0.3 | X29: 雞骨熬湯 | Y29: - | Z29: 1包 | AE29: 蒜碎 | AG29: 0.8
A30: 水果 | C30: 蒜碎 | E30: 0.8 | I30: 水果 | P30: 水果 | Q30: 季節水果 | S30: 600份 | W30: 水果 | X30: ='6月菜單'!I21 -> 鮮奶 | Z30: 600份 | AD30: 水果
A31: 其他 | I31: 其他 | P31: 其他 | W31: 加菜 | AD31: 其他
A32: 營養供應比例 | B32: 油脂類(份) | D32: 3 | E32: =D32*45 -> 135 | I32: 油脂類(份) | K32: 3 | L32: =K32*45 -> 135 | P32: 油脂類(份) | R32: 2.5 | S32: =R32*45 -> 112.5 | W32: 油脂類(份) | Y32: 3 | Z32: =Y32*45 -> 135 | AD32: 油脂類(份) | AF32: 3 | AG32: =AF32*45 -> 135
B33: 五榖類(份) | D33: =SUM(F5:F29) -> 5.0742297 | E33: =D33*70 -> 355.19608 | I33: 五榖類(份) | K33: =SUM(M5:M29) -> 4.5 | L33: =K33*70 -> 315 | P33: 五榖類(份) | R33: =SUM(T5:T29) -> 5.5 | S33: =R33*70 -> 385 | W33: 五榖類(份) | Y33: =SUM(AA5:AA29) -> 4.5 | Z33: =Y33*70 -> 315 | AD33: 五榖類(份) | AF33: =SUM(AH5:AH29) -> 5.2272727 | AG33: =AF33*70 -> 365.90909
B34: 豆魚肉蛋類(份) | D34: =SUM(G5:G31) -> 2.1024974 | E34: =D34*75 -> 157.68731 | I34: 豆魚肉蛋類(份) | K34: =SUM(N5:N31) -> 2.3852814 | L34: =K34*75 -> 178.8961 | P34: 豆魚肉蛋類(份) | R34: =SUM(U5:U31) -> 2.8207792 | S34: =R34*75 -> 211.55844 | W34: 豆魚肉蛋類(份) | Y34: =SUM(AB5:AB31) -> 3.2833333 | Z34: =Y34*75 -> 246.25 | AD34: 豆魚肉蛋類(份) | AF34: =SUM(AI5:AI31) -> 2.5181818 | AG34: =AF34*75 -> 188.86364
B35: 蔬菜類(份) | D35: =SUM(H5:H29) -> 0.78333333 | E35: =D35*25 -> 19.583333 | I35: 蔬菜類(份) | K35: =SUM(O5:O29) -> 1.7666667 | L35: =K35*25 -> 44.166667 | P35: 蔬菜類(份) | R35: =SUM(V5:V29) -> 0.85 | S35: =R35*25 -> 21.25 | W35: 蔬菜類(份) | Y35: =SUM(AC5:AC29) -> 1.4178261 | Z35: =Y35*25 -> 35.445652 | AD35: 蔬菜類(份) | AF35: =SUM(AJ5:AJ29) -> 1.5 | AG35: =AF35*25 -> 37.5
B36: 水果類(份) | D36: 0 | E36: =D36*60 -> 0 | I36: 水果類(份) | K36: 0 | L36: =K36*60 -> 0 | P36: 水果類(份) | R36: 1 | S36: =R36*60 -> 60 | W36: 水果類(份) | Y36: 0 | Z36: =Y36*60 -> 0 | AD36: 水果類(份) | AF36: 0 | AG36: =AF36*60 -> 0
B37: 乳製品(份) | D37: 0 | E37: =D37*120 -> 0 | I37: 乳製品(份) | K37: 0 | L37: =K37*120 -> 0 | P37: 乳製品(份) | R37: 0 | S37: =R37*120 -> 0 | W37: 乳製品(份) | Y37: 1 | Z37: =Y37*120 -> 120 | AD37: 乳製品(份) | AF37: 0 | AG37: =AF37*120 -> 0
B38: 熱量 | E38: =SUM(E32:E37) -> 667.46672 | I38: 熱量 | L38: =SUM(L32:L37) -> 673.06277 | P38: 熱量 | S38: =SUM(S32:S37) -> 790.30844 | W38: 熱量 | Z38: =SUM(Z32:Z37) -> 851.69565 | AD38: 熱量 | AG38: =SUM(AG32:AG37) -> 727.27273
A39: 廠商營養師: 趙英茹 午餐秘書: 主任: 校長:
A40: 備註:本廠使用的豬肉及其製品原料產地皆為國產豬肉。

Sheet 0627-0630
A1: 屏東縣東寧國小111年6月第五週學生午餐食譜設計表
A2: 供應人數： | C2: 592人+10備份 (份數的備份+30) | P2: 本校/園一律使用國產 豬、牛肉食材 | X2: 食材供應商:芳味香食品企業有限公司 07-7037855
A3: 日期 | B3: 6月27日 星期一 -78人 | I3: 6月28日 星期二 -78人 | P3: 6月29日 星期三 -78人 | W3: 6月30日 星期四 -78人 | AD3: 月日 星期五
A4: 項目 | B4: 菜名/烹調法 | C4: 材料 | D4: 每人(g) | E4: 學校採購量(kg) | F4: C | G4: P | H4: V | I4: 菜名/烹調法 | J4: 材料 | K4: 每人(g) | L4: 學校採購量(kg) | M4: C | N4: P | O4: V | P4: 菜名/烹調法 | Q4: 材料 | R4: 每人(g) | S4: 學校採購量(kg) | T4: C | U4: P | V4: V | W4: 菜名/烹調法 | X4: 材料 | Y4: 每人(g) | Z4: 學校採購量(kg) | AA4: C | AB4: P | AC4: V | AD4: 菜名/烹調法 | AE4: 材料 | AF4: 每人(g) | AG4: 學校採購量(kg) | AH4: C | AI4: P | AJ4: V
A5: 主食 | B5: 白米飯 | C5: 白米 | D5: 71 | E5: 44 | F5: 4.5 | I5: 糙米飯 | J5: 白米 | K5: 52 | L5: 31 | M5: 4.5 | P5: 什錦炒麵 | Q5: 拉麵 | R5: =S5/600*1000 -> 155 | S5: 93 | T5: 4.5 | W5: 糙米飯 | X5: 白米 | Y5: 52 | Z5: 31 | AA5: 4.5 | AD5: ='6月菜單'!D26 -> 糙米飯 | AE5: 白米 | AF5: 71 | AG5: 50 | AH5: 4.5
J6: 糙米 | K6: 22 | L6: 13 | Q6: 肉絲 | R6: =S6/600*1000 -> 60 | S6: 36 | U6: =R6/35 -> 1.7142857 | X6: 糙米 | Y6: 22 | Z6: 13
Q7: 虱目魚丸Q | R7: =S7/600*1000 -> 10 | S7: 6 | U7: =R7/55 -> 0.18181818
A8: 副 食一 | B8: ='6月菜單'!E23 -> 茄汁豬柳 | C8: 豬柳 | D8: =E8/600*1000 -> 75 | E8: 45 | G8: =D8/35 -> 2.1428571 | I8: ='6月菜單'!E24 -> 冬瓜雞丁 | J8: 雞腿丁 | K8: =L8/600*1000 -> 80 | L8: 48 | N8: =K8/40*0.85 -> 1.7 | Q8: 洋蔥 | R8: =S8/600*1000 -> 11.666667 | S8: 7 | U8: =R8/50 -> 0.23333333 | W8: ='6月菜單'!E26 -> 咖哩雞 | X8: 雞腿丁 | Y8: =Z8/600*1000 -> 78.333333 | Z8: 47 | AB8: =Y8/40*0.85 -> 1.6645833 | AD8: ='6月菜單'!E27 -> 0 | AE8: 雞腿丁 | AF8: =AG8/690*1000 -> 78.26087 | AG8: 54 | AI8: =AF8/40*0.85 -> 1.6630435
C9: 洋蔥 | D9: =E9/600*1000 -> 6.6666667 | E9: 4 | H9: =D9/100 -> 0.066666667 | J9: 冬瓜 | K9: =L9/600*1000 -> 38.333333 | L9: 23 | O9: =K9/100 -> 0.38333333 | Q9: 紅蘿蔔 | R9: =S9/600*1000 -> 8.3333333 | S9: 5 | V9: =R9/100 -> 0.083333333 | X9: 馬鈴薯 | Y9: =Z9/600*1000 -> 20 | Z9: 12 | AA9: =Y9/90 -> 0.22222222 | AE9: 地瓜 | AF9: =AG9/690*1000 -> 28.985507 | AG9: 20 | AJ9: =AF9/100 -> 0.28985507
C10: 紅蘿蔔 | D10: =E10/600*1000 -> 11.666667 | E10: 7 | H10: =D10/100 -> 0.11666667 | J10: 毛豆 | K10: =L10/600*1000 -> 5 | L10: 3 | N10: =K10/50 -> 0.1 | Q10: 高麗菜 | R10: =S10/600*1000 -> 50 | S10: 30 | V10: =R10/100 -> 0.5 | X10: 紅蘿蔔 | Y10: =Z10/600*1000 -> 11.666667 | Z10: 7 | AC10: =Y10/100 -> 0.11666667 | AE10: 白芝麻 | AG10: 1包
C11: 木耳 | D11: =E11/600*1000 -> 5 | E11: 3 | H11: =D11/100 -> 0.05 | Q11: 香菇 | R11: =S11/600*1000 -> 6.6666667 | S11: 4 | V11: =R11/100 -> 0.066666667 | X11: 咖哩粉 | Y11: - | Z11: 2盒
C12: 番茄醬 | D12: - | E12: 2 | H12: 0 | Q12: 蝦米 | R12: - | S12: 0.6
H13: =D13/100 -> 0
A16: 副 食二 | B16: ='6月菜單'!F23 -> 蔥爆甜不辣 | C16: 黑輪片 | D16: =E16/600*1000 -> 15 | E16: 9 | F16: =D16/70 -> 0.21428571 | I16: ='6月菜單'!F24 -> 紅蘿蔔炒蛋 | J16: 雞蛋 | K16: =L16/600*1000 -> 40 | L16: 24 | N16: =K16/55 -> 0.72727273 | P16: ='6月菜單'!F25 -> 奶皇包*1 | Q16: 奶皇包 | R16: 30 | S16: 600粒 | T16: 1 | W16: ='6月菜單'!F26 -> 麻婆豆腐 | X16: 豆腐 | Y16: =Z16/600*1000 -> 66.666667 | Z16: 40 | AB16: =Y16/80 -> 0.83333333 | AD16: ='6月菜單'!F27 -> 0 | AE16: 豆腐 | AF16: =AG16/690*1000 -> 69.565217 | AG16: 48 | AI16: =AF16/80 -> 0.86956522
C17: 高麗菜 | D17: =E17/600*1000 -> 45 | E17: 27 | H17: =D17/100 -> 0.45 | J17: 紅蘿蔔 | K17: =L17/600*1000 -> 36.666667 | L17: 22 | O17: =K17/100 -> 0.36666667 | X17: 絞肉 | Y17: =Z17/600*1000 -> 5 | Z17: 3 | AB17: =Y17/35 -> 0.14285714 | AE17: 絞肉 | AF17: =AG17/690*1000 -> 4.3478261 | AG17: 3 | AI17: =AF17/35 -> 0.1242236
C18: 紅蘿蔔 | D18: =E18/600*1000 -> 5 | E18: 3 | H18: =D18/100 -> 0.05 | AE18: 蔥 | AF18: =AG18/615*1000 -> 0.97560976 | AG18: 0.6 | AJ18: =AF18/100 -> 0.0097560976
C19: 蔥 | D19: - | E19: 2
A22: 副食三 | B22: 時蔬 | C22: 青江菜 | D22: =E22/600*1000 -> 73.333333 | E22: 44 | H22: =D22/100 -> 0.73333333 | I22: 時蔬 | J22: 油菜 | K22: =L22/600*1000 -> 73.333333 | L22: 44 | O22: =K22/100 -> 0.73333333 | W22: 時蔬 | X22: 莧菜 | Y22: =Z22/600*1000 -> 73.333333 | Z22: 44 | AC22: =Y22/100 -> 0.73333333 | AD22: 時蔬 | AE22: 有機蔬菜 | AF22: =AG22/690*1000 -> 72.463768 | AG22: 50 | AJ22: =AF22/100 -> 0.72463768
Q24: 柴魚片 | R24: - | S24: 1包
A25: 湯類 | B25: ='6月菜單'!H23 -> 海芽豆腐湯 | C25: 豆腐 | D25: =E25/600*1000 -> 12.333333 | E25: 7.4 | G25: =D25/80 -> 0.15416667 | I25: ='6月菜單'!H24 -> 四神蘿蔔湯 | J25: 白蘿蔔 | K25: =L25/600*1000 -> 33.333333 | L25: 20 | O25: =K25/100 -> 0.33333333 | P25: ='6月菜單'!H25 -> 關東煮 | Q25: 白蘿蔔 | R25: =S25/600*1000 -> 13.333333 | S25: 8 | W25: ='6月菜單'!H26 -> 黃瓜龍骨湯 | X25: 大黃瓜 | Y25: =Z25/600*1000 -> 36.666667 | Z25: 22 | AC25: =Y25/100 -> 0.36666667 | AD25: ='6月菜單'!H27 -> 0 | AE25: 綠豆 | AF25: =AG25/690*1000 -> 20.289855 | AG25: 14 | AH25: =AF25/25 -> 0.8115942
C26: 乾海芽 | D26: =E26/600*1000 -> 1 | E26: 0.6 | J26: 薏仁 | K26: =L26/600*1000 -> 3.3333333 | L26: 2 | M26: =K26/20 -> 0.16666667 | Q26: 油豆腐 | R26: =S26/600*1000 -> 8.3333333 | S26: 5 | X26: 龍骨 | Y26: =Z26/600*1000 -> 10 | Z26: 6 | AE26: 薏仁 | AF26: =AG26/690*1000 -> 2.8985507 | AG26: 2 | AH26: =AF26/20 -> 0.14492754
J27: 龍骨 | K27: =L27/600*1000 -> 10 | L27: 6 | Q27: 玉米塊 | R27: =S27/600*1000 -> 8.3333333 | S27: 5 | X27: 肉絲 | Y27: =Z27/600*1000 -> 5 | Z27: 3 | AB27: =Y27/35 -> 0.14285714
J28: 四神藥包 | K28: - | L28: 8包 | Q28: 海帶結 | R28: =S28/600*1000 -> 5 | S28: 3
C29: 蒜碎 | E29: 0.8 | J29: 肉絲 | K29: =L29/600*1000 -> 5 | L29: 3 | N29: =K29/35 -> 0.14285714 | Q29: 蒜碎 | S29: 0.3 | X29: 蒜碎 | Z29: 0.8 | AE29: 蒜碎 | AG29: 0.6
A30: 水果 | J30: 蒜碎 | L30: 0.8 | Q30: 季節水果 | S30: 600份
A31: 其他 | I31: 其他 | P31: 其他 | W31: 加菜 | AD31: 其他
A32: 營養供應比例 | B32: 油脂類(份) | D32: 3 | E32: =D32*45 -> 135 | I32: 油脂類(份) | K32: 3 | L32: =K32*45 -> 135 | P32: 油脂類(份) | R32: 2.5 | S32: =R32*45 -> 112.5 | W32: 油脂類(份) | Y32: 3 | Z32: =Y32*45 -> 135 | AD32: 油脂類(份) | AF32: 3 | AG32: =AF32*45 -> 135
B33: 五榖類(份) | D33: =SUM(F5:F29) -> 4.7142857 | E33: =D33*70 -> 330 | I33: 五榖類(份) | K33: =SUM(M5:M29) -> 4.6666667 | L33: =K33*70 -> 326.66667 | P33: 五榖類(份) | R33: =SUM(T5:T29) -> 5.5 | S33: =R33*70 -> 385 | W33: 五榖類(份) | Y33: =SUM(AA5:AA29) -> 4.7222222 | Z33: =Y33*70 -> 330.55556 | AD33: 五榖類(份) | AF33: =SUM(AH5:AH29) -> 5.4565217 | AG33: =AF33*70 -> 381.95652
B34: 豆魚肉蛋類(份) | D34: =SUM(G5:G31) -> 2.2970238 | E34: =D34*75 -> 172.27679 | I34: 豆魚肉蛋類(份) | K34: =SUM(N5:N31) -> 2.6701299 | L34: =K34*75 -> 200.25974 | P34: 豆魚肉蛋類(份) | R34: =SUM(U5:U31) -> 2.1294372 | S34: =R34*75 -> 159.70779 | W34: 豆魚肉蛋類(份) | Y34: =SUM(AB5:AB31) -> 2.783631 | Z34: =Y34*75 -> 208.77232 | AD34: 豆魚肉蛋類(份) | AF34: =SUM(AI5:AI31) -> 2.6568323 | AG34: =AF34*75 -> 199.26242
B35: 蔬菜類(份) | D35: =SUM(H5:H29) -> 1.4666667 | E35: =D35*25 -> 36.666667 | I35: 蔬菜類(份) | K35: =SUM(O5:O29) -> 1.8166667 | L35: =K35*25 -> 45.416667 | P35: 蔬菜類(份) | R35: =SUM(V5:V29) -> 0.65 | S35: =R35*25 -> 16.25 | W35: 蔬菜類(份) | Y35: =SUM(AC5:AC29) -> 1.2166667 | Z35: =Y35*25 -> 30.416667 | AD35: 蔬菜類(份) | AF35: =SUM(AJ5:AJ29) -> 1.0242489 | AG35: =AF35*25 -> 25.606221
B36: 水果類(份) | D36: 0 | E36: =D36*60 -> 0 | I36: 水果類(份) | K36: 0 | L36: =K36*60 -> 0 | P36: 水果類(份) | R36: 1 | S36: =R36*60 -> 60 | W36: 水果類(份) | Y36: 0 | Z36: =Y36*60 -> 0 | AD36: 水果類(份) | AF36: 0 | AG36: =AF36*60 -> 0
B37: 乳製品(份) | D37: 0 | E37: =D37*120 -> 0 | I37: 乳製品(份) | K37: 0 | L37: =K37*120 -> 0 | P37: 乳製品(份) | R37: 0 | S37: =R37*120 -> 0 | W37: 乳製品(份) | Y37: 0 | Z37: =Y37*120 -> 0 | AD37: 乳製品(份) | AF37: 0 | AG37: =AF37*120 -> 0
B38: 熱量 | E38: =SUM(E32:E37) -> 673.94345 | I38: 熱量 | L38: =SUM(L32:L37) -> 707.34307 | P38: 熱量 | S38: =SUM(S32:S37) -> 733.45779 | W38: 熱量 | Z38: =SUM(Z32:Z37) -> 704.74454 | AD38: 熱量 | AG38: =SUM(AG32:AG37) -> 741.82517
A39: 廠商營養師: 趙英茹 午餐秘書: 主任: 校長:
A40: 備註:本廠使用的豬肉及其製品原料產地皆為國產豬肉。
