Workbook
Name 特殊: [1]特殊石材!$A$1:$C$65536

Sheet 12月菜單
B1: 屏東縣東寧國小111年12月份午餐菜單
B2: 日期 | C2: 星期 | D2: 主食 | E2: 副食一 | F2: 副食二 | G2: 副食三 | H2: 湯 | I2: 水果 (飲品) | J2: 規格 (克) | K2: 熱量 (大卡)
C3: 一 | K3: =[2]第一週!E40 -> 696.19072
C4: 二 | K4: =工作表!L38 -> 701.95613
C5: 三 | D5: 什錦飯湯 | F5: 肉包*1 | I5: 水果 | K5: =工作表!S38 -> 535.54614
B6: 12/1 | C6: 四 | D6: 糙米飯 | E6: 魚丸滷肉燥 | F6: 香菇高麗菜 | G6: 季節時蔬 | H6: 海芽龍骨湯 | K6: =工作表!Z38 -> 725.71802
B7: 12/2 | C7: 五 | D7: 白米飯 | E7: 五味醬雞丁 | F7: 西魯肉 | G7: 有機蔬菜 | H7: 綠豆西米露 | K7: =工作表!AG38 -> 676.94644
B8: 12/5 | C8: 一 | D8: 白米飯 | E8: 麻油雞 | F8: 泰式冬粉 | G8: 季節時蔬 | H8: 白菜油腐湯 | K8: ='1205-1209'!E38 -> 711.82911
B9: 12/6 | C9: 二 | D9: 糙米飯 | E9: 油蔥蒸魚 | F9: 肉末玉米 | G9: 有機蔬菜 | H9: 紫菜蛋花湯 | K9: ='1205-1209'!L38 -> 722.06168
B10: 12/7 | C10: 三 | D10: 味噌豬肉拉麵(湯 | F10: 奶皇包*1 | I10: 水果 | K10: ='1205-1209'!S38 -> 792.46077
B11: 12/8 | C11: 四 | D11: 糙米飯 | E11: 海帶燒雞 | F11: 茄香蛋豆腐 | G11: 季節時蔬 | H11: 蘿蔔龍骨湯 | I11: ATP豆漿 | K11: ='1205-1209'!Z38 -> 684.16277
B12: 12/9 | C12: 五 | D12: 白米飯 | E12: 沙嗲肉片 | F12: 針菇黃瓜 | G12: 有機蔬菜 | H12: 擔仔肉燥冬粉湯 | K12: ='1205-1209'!AG38 -> 681.55696
B13: 12/12 | C13: 一 | D13: 白米飯 | E13: 義式雞丁 | F13: 回鍋干片 | G13: 季節時蔬 | H13: 枸杞養生蔬菜湯 | K13: 0
B14: 12/13 | C14: 二 | D14: 糙米飯 | E14: 黑胡椒茄汁豬柳 | F14: 絲瓜粉絲 | G14: 有機蔬菜 | H14: 玉米濃湯 | K14: ='1212-1216'!L38 -> 739.98063
B15: 12/14 | C15: 三 | D15: 南瓜雞蛋鹹粥 | F15: 椒鹽石斑魚 | G15: 季節時蔬 | I15: 水果 | K15: ='1212-1216'!S38 -> 708.73974
B16: 12/15 | C16: 四 | D16: 糙米飯 | E16: 蔥油雞排*1 | F16: 肉燥蒸蛋 | G16: 季節時蔬 | H16: 刺瓜龍骨湯 | K16: ='1212-1216'!Z38 -> 687.34484
B17: 12/16 | C17: 五 | D17: 白米飯 | E17: 鼓汁排骨 | F17: 咖哩雙花菜 | G17: 有機蔬菜 | H17: 綜合甜湯圓 | K17: ='1212-1216'!AG38 -> 719.85753
B18: 12/19 | C18: 一 | D18: 白米飯 | E18: 打拋豬肉 | F18: 杏鮑菇炒黃瓜 | G18: 季節時蔬 | H18: 豆薯蛋花湯 | K18: ='1219-1223'!E38 -> 699.18412
B19: 12/20 | C19: 二 | D19: 糙米飯 | E19: 蜜汁雞 | F19: 肉燥拌銀芽 | G19: 有機蔬菜 | H19: 味噌湯 | K19: ='1219-1223'!L38 -> 670.24557
B20: 12/21 | C20: 三 | D20: 白米飯 | E20: 蘑菇鐵板肉片 | F20: 炒雙色花菜 | G20: 季節時蔬 | H20: 四神蘿蔔湯 | I20: 水果 | K20: ='1219-1223'!S38 -> 733.16945
B21: 12/22 | C21: 四 | D21: 糙米飯 | E21: 香酥雞翅*1 | F21: 麻婆豆腐 | G21: 季節時蔬 | H21: 紫菜針菇湯 | I21: 鮮奶 | K21: ='1219-1223'!Z38 -> 795.36685
B22: 12/23 | C22: 五 | D22: 白米飯 | E22: 紅燒雞丁 | F22: 蔥爆肉絲高麗菜 | G22: 有機蔬菜 | H22: 冬瓜玉米湯 | K22: ='1219-1223'!AG38 -> 658.6605
B23: 12/24 | C23: 六 | D23: 炒油飯 | F23: 小兔包*1 | H23: 海芽蛋花湯 | K23: ='1219-1223'!AG38 -> 658.6605
B24: 12/27 | C24: 二 | D24: 糙米飯 | E24: 咖哩雞 | F24: 筍絲炒蛋 | G24: 有機蔬菜 | H24: 榨菜肉絲湯 | K24: ='1226-1230'!L38 -> 704.20144
B25: 12/28 | C25: 三 | D25: 榨醬拌麵 | F25: 豆干滷味 | H25: 關東煮 | I25: 水果 | K25: ='1226-1230'!S38 -> 726.8982
B26: 12/29 | C26: 四 | D26: 糙米飯 | E26: 糖醋魚丁 | F26: 筍乾滷白菜 | G26: 季節時蔬 | H26: 豆腐蛋花湯 | K26: ='1226-1230'!Z38 -> 665.99709
B27: 12/30 | C27: 五 | D27: 白米飯 | E27: 壽喜燒豬柳 | F27: 五更燴什錦 | G27: 有機蔬菜 | H27: 紅豆麥片湯 | K27: ='1226-1230'!AG38 -> 780.82517
B28: 10/31 | C28: 一 | D28: 白米飯 | E28: 麵輪燒雞 | F28: 玉米蛋 | G28: 季節時蔬 | H28: 茶壺湯 | J28: 蘿蔔海帶龍骨湯 | K28: =工作表!E38 -> 749.97406
H29: 食材供應廠商:芳味香食品
B30: 備註:本廠使用的豬肉及其製品原料產地皆為國產豬肉。

Sheet 1201-1202
A1: 屏東縣東寧國小111年12月第一週學生午餐食譜設計表
A2: 供應人數： | C2: 694人+10備份 (份數的備份+30) | P2: 本校/園一律使用國產 豬、牛肉食材 | X2: 食材供應商:芳味香食品企業有限公司 07-7037855
A3: 日期 | B3: 10月 3 日 星期一 | I3: 10 月 4 日 星期二 | P3: 10 月 5 日 星期三 | W3: 12 月 1 日 星期四 | AD3: 12 月 2 日 星期五
A4: 項目 | B4: 菜名/烹調法 | C4: 材料 | D4: 每人(g) | E4: 學校採購量(kg) | F4: C | G4: P | H4: V | I4: 菜名/烹調法 | J4: 材料 | K4: 每人(g) | L4: 學校採購量(kg) | M4: C | N4: P | O4: V | P4: 菜名/烹調法 | Q4: 材料 | R4: 每人(g) | S4: 學校採購量(kg) | T4: C | U4: P | V4: V | W4: 菜名/烹調法 | X4: 材料 | Y4: 每人(g) | Z4: 學校採購量(kg) | AA4: C | AB4: P | AC4: V | AD4: 菜名/烹調法 | AE4: 材料 | AF4: 每人(g) | AG4: 學校採購量(kg) | AH4: C | AI4: P | AJ4: V
A5: 主食 | B5: 白米飯 | C5: 白米 | D5: 71 | E5: 50 | F5: 4.5 | I5: 糙米飯 | J5: 白米 | K5: 52 | L5: 35 | M5: 4.5 | P5: 茄汁肉醬麵 | Q5: 牛排麵 | R5: 154 | S5: 108 | T5: =R5/30 -> 5.1333333 | W5: 糙米飯 | X5: 白米 | Y5: 52 | Z5: 35 | AA5: 4.5 | AD5: 白米飯 | AE5: 白米 | AF5: 71 | AG5: 50 | AH5: 4.5
J6: 糙米 | K6: 22 | L6: 15 | Q6: 絞肉 | R6: =S6/670*1000 -> 62.686567 | S6: 42 | U6: =R6/35 -> 1.7910448 | X6: 糙米 | Y6: 22 | Z6: 15
Q7: 洋蔥 | R7: =S7/670*1000 -> 11.940299 | S7: 8 | V7: =R7/100 -> 0.11940299
A8: 副 食一 | B8: ='12月菜單'!E8 -> 麻油雞 | C8: 雞腿丁 | D8: =E8/670*1000 -> 82.089552 | E8: 55 | G8: =D8/40*0.85 -> 1.744403 | I8: ='12月菜單'!E9 -> 油蔥蒸魚 | J8: 新鮮魚丁 | K8: =L8/670*1000 -> 119.40299 | L8: 80 | N8: =K8/35*0.6 -> 2.0469083 | Q8: 玉米粒 | R8: =S8/670*1000 -> 14.925373 | S8: 10 | T8: =R8/85 -> 0.17559263 | W8: ='12月菜單'!E6 -> 魚丸滷肉燥 | X8: 絞肉 | Y8: =Z8/701*1000 -> 59.914408 | Z8: 42 | AB8: =Y8/35 -> 1.7118402 | AD8: ='12月菜單'!E7 -> 五味醬雞丁 | AE8: 雞腿丁 | AF8: =AG8/701*1000 -> 81.312411 | AG8: 57 | AI8: =AF8/40*0.85 -> 1.7278887 | AL8: 東寧雜貨送校
C9: 高麗菜 | D9: =E9/670*1000 -> 32.835821 | E9: 22 | H9: =D9/100 -> 0.32835821 | J9: 洋蔥 | K9: =L9/670*1000 -> 14.925373 | L9: 10 | O9: =K9/100 -> 0.14925373 | Q9: 三色豆 | R9: =S9/670*1000 -> 7.4626866 | S9: 5 | V9: =R9/100 -> 0.074626866 | X9: 虱目魚丸 | Y9: =Z9/701*1000 -> 12.838802 | Z9: 9 | AB9: =Y9/50 -> 0.25677603 | AE9: 馬鈴薯 | AF9: =AG9/701*1000 -> 31.383738 | AG9: 22 | AH9: =AF9/90 -> 0.34870819
C10: 蒜仁 | E10: 0.6 | H10: =D10/100 -> 0 | J10: 青椒 | K10: =L10/670*1000 -> 7.4626866 | L10: 5 | O10: =K10/100 -> 0.074626866 | X10: 洋蔥 | Y10: =Z10/701*1000 -> 25.677603 | Z10: 18 | AC10: =Y10/100 -> 0.25677603 | AE10: 香油 | AF10: - | AG10: 1桶
H11: =D11/100 -> 0 | J11: 紅椒 | K11: =L11/670*1000 -> 5.9701493 | L11: 4 | O11: =K11/100 -> 0.059701493 | U11: =R11/55 -> 0 | X11: 油蔥酥 | Z11: 2包 | AC11: =Y11/100 -> 0 | AE11: 醬油膏 | AF11: - | AG11: 1桶
J12: 素蠔油 | L12: 1桶 | AE12: 番茄醬 | AF12: - | AG12: 2桶
J13: 糖 | L13: 適量 | AE13: 烏醋 | AF13: - | AG13: 1桶
J14: 柴魚片 | L14: 1包 | AE14: 糖 | AF14: - | AG14: 少許
J15: 素蠔油+糖+水煮,再加入柴魚片熬煮
A16: 副 食二 | B16: ='12月菜單'!F8 -> 泰式冬粉 | C16: 寬冬粉 | D16: =E16/670*1000 -> 13.432836 | E16: 9 | F16: =D16/15 -> 0.89552239 | I16: ='12月菜單'!F9 -> 肉末玉米 | J16: 豆皮 | K16: =L16/690*1000 -> 8.6956522 | L16: 6 | N16: =K16/55 -> 0.15810277 | P16: ='12月菜單'!F10 -> 奶皇包*1 | Q16: 小兔包 | R16: 30 | S16: 740粒 | T16: 1 | W16: ='12月菜單'!F6 -> 香菇高麗菜 | X16: 高麗菜 | Y16: =Z16/701*1000 -> 39.942939 | Z16: 28 | AC16: =Y16/100 -> 0.39942939 | AD16: ='12月菜單'!F7 -> 西魯肉 | AE16: 肉絲 | AF16: =AG16/701*1000 -> 8.5592011 | AG16: 6 | AI16: =AF16/35 -> 0.2445486
C17: 豆芽菜 | D17: =E17/670*1000 -> 29.850746 | E17: 20 | H17: =D17/100 -> 0.29850746 | J17: 大黃瓜 | K17: =L17/690*1000 -> 60.869565 | L17: 42 | O17: =K17/100 -> 0.60869565 | X17: 香菇 | Y17: =Z17/701*1000 -> 11.412268 | Z17: 8 | AC17: =Y17/100 -> 0.11412268 | AE17: 大白菜 | AF17: =AG17/701*1000 -> 64.194009 | AG17: 45 | AJ17: =AF17/100 -> 0.64194009
C18: 韭菜 | D18: =E18/670*1000 -> 4.4776119 | E18: 3 | H18: =D18/100 -> 0.044776119 | J18: 紅蘿蔔 | K18: =L18/690*1000 -> 7.2463768 | L18: 5 | O18: =K18/100 -> 0.072463768 | X18: 紅蘿蔔 | Y18: =Z18/701*1000 -> 8.5592011 | Z18: 6 | AC18: =Y18/100 -> 0.085592011 | AE18: 紅蘿蔔 | AF18: =AG18/701*1000 -> 4.2796006 | AG18: 3 | AJ18: =AF18/100 -> 0.042796006
C19: 肉片 | D19: =E19/670*1000 -> 8.9552239 | E19: 6 | G19: =D19/35 -> 0.25586354 | V19: =R19/100 -> 0 | AE19: 扁魚 | AG19: 0.6
C20: 泰式醬 | E20: 2捅 | V20: =R20/100 -> 0
A22: 副食三 | B22: 時蔬 | C22: 油菜 | D22: =E22/670*1000 -> 74.626866 | E22: 50 | H22: =D22/100 -> 0.74626866 | I22: 時蔬 | J22: 青江菜 | K22: =L22/690*1000 -> 72.463768 | L22: 50 | O22: =K22/100 -> 0.72463768 | W22: 時蔬 | X22: 油菜 | Y22: =Z22/701*1000 -> 71.326676 | Z22: 50 | AC22: =Y22/100 -> 0.71326676 | AD22: 時蔬 | AE22: 有機蔬菜 | AF22: =AG22/701*1000 -> 71.326676 | AG22: 50 | AJ22: =AF22/100 -> 0.71326676
C23: 木耳 | D23: =E23/670*1000 -> 4.4776119 | E23: 3 | H23: =D23/100 -> 0.044776119 | J23: 枸杞 | L23: 1包
J24: 蒜碎 | L24: 0.8
A25: 湯類 | B25: ='12月菜單'!H8 -> 白菜油腐湯 | C25: 豆腐 | D25: =E25/670*1000 -> 14.925373 | E25: 10 | G25: =D25/80 -> 0.18656716 | I25: ='12月菜單'!H9 -> 紫菜蛋花湯 | J25: 大白菜 | K25: =L25/690*1000 -> 28.985507 | L25: 20 | O25: =K25/100 -> 0.28985507 | P25: ='12月菜單'!H10 -> 0 | Q25: 香菇 | R25: =S25/670*1000 -> 8.9552239 | S25: 6 | U25: =R25/50 -> 0.17910448 | W25: ='12月菜單'!H6 -> 海芽龍骨湯 | X25: 乾海芽-包 | Y25: =Z25/701*1000 -> 1.4265335 | Z25: 1 | AC25: =Y25/100 -> 0.014265335 | AD25: ='12月菜單'!H7 -> 綠豆西米露 | AE25: 綠豆 | AF25: =AG25/701*1000 -> 15.691869 | AG25: 11 | AH25: =AF25/25 -> 0.62767475
C26: 紫菜-包 | E26: 2 | J26: 金針菇 | K26: =L26/690*1000 -> 5.7971014 | L26: 4 | O26: =K26/100 -> 0.057971014 | Q26: 雞蛋 | R26: =S26/670*1000 -> 14.925373 | S26: 10 | U26: =R26/55 -> 0.27137042 | X26: 肉絲 | Y26: =Z26/701*1000 -> 4.2796006 | Z26: 3 | AB26: =Y26/35 -> 0.1222743 | AE26: 西谷米 | AF26: =AG26/701*1000 -> 4.2796006 | AG26: 3 | AH26: =AF26/15 -> 0.2853067
J27: 鮑魚菇 | K27: =L27/690*1000 -> 4.3478261 | L27: 3 | O27: =K27/100 -> 0.043478261 | Q27: 馬鈴薯 | R27: =S27/670*1000 -> 26.865672 | S27: 18 | T27: =R27/90 -> 0.29850746 | X27: 龍骨 | Y27: =Z27/701*1000 -> 8.5592011 | Z27: 6 | AE27: 糖 | AI27: =AF27/35 -> 0
J28: 紅蘿蔔 | K28: - | L28: 2 | Q28: 紅蘿蔔 | R28: =S28/670*1000 -> 11.940299 | S28: 8 | V28: =R28/100 -> 0.11940299
C29: 蒜碎 | E29: 0.5 | J29: 味噌 | L29: 2盒 | Q29: 蒜碎 | S29: 0.4 | X29: 蒜碎 | Z29: 0.8 | AE29: 蒜碎 | AG29: 0.8
A30: 水果 | I30: 水果 | P30: 水果 | Q30: 季節水果 | S30: 701份 | W30: 水果 | AD30: 水果
A31: 其他 | B31: 其他 | I31: 其他 | P31: 其他 | W31: 其他 | AD31: 其他
A32: 營養供應比例 | B32: 油脂類(份) | D32: 3 | E32: =D32*45 -> 135 | I32: 油脂類(份) | K32: 3 | L32: =K32*45 -> 135 | P32: 油脂類(份) | R32: 3 | S32: =R32*45 -> 135 | W32: 油脂類(份) | Y32: 3 | Z32: =Y32*45 -> 135 | AD32: 油脂類(份) | AF32: 3 | AG32: =AF32*45 -> 135
B33: 全榖雜糧類(份) | D33: =SUM(F5:F29) -> 5.3955224 | E33: =D33*70 -> 377.68657 | I33: 全榖雜糧類(份) | K33: =SUM(M5:M29) -> 4.5 | L33: =K33*70 -> 315 | P33: 全榖雜糧類(份) | R33: =SUM(T5:T29) -> 6.6074334 | S33: =R33*70 -> 462.52034 | W33: 全榖雜糧類(份) | Y33: =SUM(AA5:AA29) -> 4.5 | Z33: =Y33*70 -> 315 | AD33: 全榖雜糧類(份) | AF33: =SUM(AH5:AH29) -> 5.7616896 | AG33: =AF33*70 -> 403.31828
B34: 豆魚蛋肉類(份) | D34: =SUM(G5:G31) -> 2.1868337 | E34: =D34*75 -> 164.01253 | I34: 豆魚蛋肉類(份) | K34: =SUM(N5:N31) -> 2.2050111 | L34: =K34*75 -> 165.37583 | P34: 豆魚蛋肉類(份) | R34: =SUM(U5:U31) -> 2.2415197 | S34: =R34*75 -> 168.11398 | W34: 豆魚蛋肉類(份) | Y34: =SUM(AB5:AB31) -> 2.0908906 | Z34: =Y34*75 -> 156.81679 | AD34: 豆魚蛋肉類(份) | AF34: =SUM(AI5:AI31) -> 1.9724373 | AG34: =AF34*75 -> 147.9328
B35: 蔬菜類(份) | D35: =SUM(H5:H29) -> 1.4626866 | E35: =D35*25 -> 36.567164 | I35: 蔬菜類(份) | K35: =SUM(O5:O29) -> 2.0806835 | L35: =K35*25 -> 52.017088 | P35: 蔬菜類(份) | R35: =SUM(V5:V29) -> 0.31343284 | S35: =R35*25 -> 7.8358209 | W35: 蔬菜類(份) | Y35: =SUM(AC5:AC29) -> 1.5834522 | Z35: =Y35*25 -> 39.586305 | AD35: 蔬菜類(份) | AF35: =SUM(AJ5:AJ29) -> 1.3980029 | AG35: =AF35*25 -> 34.950071
B36: 水果類(份) | D36: 0 | E36: =D36*60 -> 0 | I36: 水果類(份) | K36: 0 | L36: =K36*60 -> 0 | P36: 水果類(份) | R36: 1 | S36: =R36*60 -> 60 | W36: 水果類(份) | Y36: 0 | Z36: =Y36*60 -> 0 | AD36: 水果類(份) | AF36: 0 | AG36: =AF36*60 -> 0
B37: 乳製品(份) | D37: 0 | E37: =D37*120 -> 0 | I37: 乳製品(份) | K37: 0 | L37: =K37*120 -> 0 | P37: 乳製品(份) | R37: 0 | S37: =R37*120 -> 0 | W37: 乳製品(份) | Y37: 0 | Z37: =Y37*120 -> 0 | AD37: 乳製品(份) | AF37: 0 | AG37: =AF37*120 -> 0
B38: 熱量 | E38: =SUM(E32:E37) -> 713.26626 | I38: 熱量 | L38: =SUM(L32:L37) -> 667.39292 | P38: 熱量 | S38: =SUM(S32:S37) -> 833.47014 | W38: 熱量 | Z38: =SUM(Z32:Z37) -> 646.4031 | AD38: 熱量 | AG38: =SUM(AG32:AG37) -> 721.20115
A39: 廠商營養師: 趙英茹 午餐秘書: 主任: 校長:
A40: 備註:本廠使用的豬肉及其製品原料產地皆為國產豬肉。

Sheet 1205-1209
A1: 屏東縣東寧國小111年12月第二週學生午餐食譜設計表
A2: 供應人數： | C2: 694人+10備份 (份數的備份+30) | P2: 本校/園一律使用國產 豬、牛肉食材 | X2: 食材供應商:芳味香食品企業有限公司 07-7037855
A3: 日期 | B3: 12 月 5 日 星期一 | I3: 12 月 6 日 星期二 | P3: 12 月 7 日 星期三 | W3: 12 月 8 日 星期四 | AD3: 12月9日星期五東幼止伙-18
A4: 項目 | B4: 菜名/烹調法 | C4: 材料 | D4: 每人(g) | E4: 學校採購量(kg) | F4: C | G4: P | H4: V | I4: 菜名/烹調法 | J4: 材料 | K4: 每人(g) | L4: 學校採購量(kg) | M4: C | N4: P | O4: V | P4: 菜名/烹調法 | Q4: 材料 | R4: 每人(g) | S4: 學校採購量(kg) | T4: C | U4: P | V4: V | W4: 菜名/烹調法 | X4: 材料 | Y4: 每人(g) | Z4: 學校採購量(kg) | AA4: C | AB4: P | AC4: V | AD4: 菜名/烹調法 | AE4: 材料 | AF4: 每人(g) | AG4: 學校採購量(kg) | AH4: C | AI4: P | AJ4: V
A5: 主食 | B5: 白米飯 | C5: 白米 | D5: 71 | E5: 50 | F5: 4.5 | I5: 糙米飯 | J5: 白米 | K5: 52 | L5: 35 | M5: 4.5 | P5: 味噌豬肉拉麵 | Q5: 拉麵 | R5: =S5/701*1000 -> 154.06562 | S5: 108 | T5: =R5/30 -> 5.1355207 | W5: 糙米飯 | X5: 白米 | Y5: 52 | Z5: 35 | AA5: 4.5 | AD5: 白米飯 | AE5: 白米 | AF5: 71 | AG5: 50 | AH5: 4.5
J6: 糙米 | K6: 22 | L6: 15 | Q6: 肉片 | R6: =S6/701*1000 -> 59.914408 | S6: 42 | U6: =R6/35 -> 1.7118402 | X6: 糙米 | Y6: 22 | Z6: 15
Q7: 虱目魚丸 | R7: =S7/701*1000 -> 12.838802 | S7: 9 | U7: =R7/50 -> 0.25677603
A8: 副 食一 | B8: ='12月菜單'!E8 -> 麻油雞 | C8: 雞腿丁 | D8: =E8/701*1000 -> 79.885877 | E8: 56 | G8: =D8/40*0.85 -> 1.6975749 | I8: ='12月菜單'!E9 -> 油蔥蒸魚 | J8: 新鮮魚丁 | K8: =L8/701*1000 -> 114.12268 | L8: 80 | N8: =K8/35*0.6 -> 1.9563888 | Q8: 高麗菜 | R8: =S8/701*1000 -> 49.928673 | S8: 35 | V8: =R8/100 -> 0.49928673 | W8: ='12月菜單'!E11 -> 海帶燒雞 | X8: 雞腿丁 | Y8: =Z8/701*1000 -> 78.459344 | Z8: 55 | AB8: =Y8/40*0.85 -> 1.6672611 | AD8: ='12月菜單'!E12 -> 沙嗲肉片 | AE8: 肉片 | AF8: =AG8/701*1000 -> 77.03281 | AG8: 54 | AI8: =AF8/35 -> 2.2009374 | AL8: 東寧雜貨送校
C9: 杏鮑菇 | D9: =E9/701*1000 -> 12.838802 | E9: 9 | H9: =D9/100 -> 0.12838802 | J9: 豆腐 | K9: =L9/701*1000 -> 21.398003 | L9: 15 | N9: =K9/80 -> 0.26747504 | Q9: 金針菇 | R9: =S9/701*1000 -> 5.7061341 | S9: 4 | V9: =R9/100 -> 0.057061341 | X9: 海帶結 | Y9: =Z9/701*1000 -> 8.5592011 | Z9: 6 | AC9: =Y9/100 -> 0.085592011 | AE9: 洋蔥 | AF9: =AG9/701*1000 -> 17.118402 | AG9: 12 | AJ9: =AF9/100 -> 0.17118402
C10: 高麗菜 | D10: =E10/701*1000 -> 28.53067 | E10: 20 | H10: =D10/100 -> 0.2853067 | J10: 薑絲 | K10: - | L10: 0.6 | Q10: 鮑魚菇 | R10: =S10/701*1000 -> 4.2796006 | S10: 3 | V10: =R10/100 -> 0.042796006 | X10: 紅蘿蔔 | Y10: =Z10/701*1000 -> 17.118402 | Z10: 12 | AC10: =Y10/100 -> 0.17118402 | AE10: 紅蘿蔔 | AF10: =AG10/701*1000 -> 7.1326676 | AG10: 5 | AJ10: =AF10/100 -> 0.071326676
C11: 薑片 | D11: - | E11: 0.5 | J11: 蔥 | K11: - | L11: 1 | Q11: 筍乾 | R11: =S11/701*1000 -> 21.398003 | S11: 15 | V11: =R11/100 -> 0.21398003 | AC11: =Y11/100 -> 0 | AE11: 沙茶醬 | AF11: - | AG11: 1桶
C12: 麻油 | D12: - | E12: 1桶 | J12: 辣椒 | L12: 0.2 | Q12: 味噌 | S12: 3盒 | AE12: 咖哩粉 | AG12: 1盒
A16: 副 食二 | B16: ='12月菜單'!F8 -> 泰式冬粉 | C16: 寬冬粉 | D16: =E16/701*1000 -> 12.838802 | E16: 9 | F16: =D16/15 -> 0.85592011 | I16: ='12月菜單'!F9 -> 肉末玉米 | J16: 絞肉 | K16: =L16/701*1000 -> 8.5592011 | L16: 6 | N16: =K16/35 -> 0.2445486 | P16: ='12月菜單'!F10 -> 奶皇包*1 | Q16: 奶皇包 | R16: 30 | S16: 730粒 | T16: 1 | W16: ='12月菜單'!F11 -> 茄香蛋豆腐 | X16: 豆腐 | Y16: =Z16/701*1000 -> 46.219686 | Z16: 32.4 | AB16: =Y16/80 -> 0.57774608 | AD16: ='12月菜單'!F12 -> 針菇黃瓜 | AE16: 大黃瓜 | AF16: =AG16/701*1000 -> 58.487874 | AG16: 41 | AJ16: =AF16/100 -> 0.58487874
C17: 高麗菜 | D17: =E17/701*1000 -> 35.663338 | E17: 25 | H17: =D17/100 -> 0.35663338 | J17: 玉米粒 | K17: =L17/701*1000 -> 54.208274 | L17: 38 | M17: =K17/85 -> 0.6377444 | X17: 雞蛋 | Y17: =Z17/701*1000 -> 14.265335 | Z17: 10 | AB17: =Y17/55 -> 0.25936973 | AE17: 金針菇 | AF17: =AG17/701*1000 -> 11.412268 | AG17: 8 | AJ17: =AF17/100 -> 0.11412268
C18: 紅蘿蔔 | D18: =E18/701*1000 -> 4.2796006 | E18: 3 | H18: =D18/100 -> 0.042796006 | J18: 紅蘿蔔 | K18: =L18/701*1000 -> 11.412268 | L18: 8 | O18: =K18/100 -> 0.11412268 | X18: 洋蔥 | Y18: =Z18/701*1000 -> 17.118402 | Z18: 12 | AC18: =Y18/100 -> 0.17118402 | AE18: 紅蘿蔔 | AF18: =AG18/701*1000 -> 7.1326676 | AG18: 5 | AJ18: =AF18/100 -> 0.071326676
C19: 肉片 | D19: =E19/701*1000 -> 4.2796006 | E19: 3 | G19: =D19/35 -> 0.1222743 | H19: =D19/100 -> 0.042796006 | V19: =R19/100 -> 0 | X19: 番茄醬 | Z19: 1桶 | AE19: 木耳 | AF19: =AG19/701*1000 -> 4.2796006 | AG19: 3 | AJ19: =AF19/100 -> 0.042796006
V20: =R20/100 -> 0
A22: 副食三 | B22: 時蔬 | C22: 青江菜 | D22: =E22/701*1000 -> 71.326676 | E22: 50 | H22: =D22/100 -> 0.71326676 | I22: 時蔬 | J22: 有機蔬菜 | K22: =L22/701*1000 -> 77.03281 | L22: 54 | O22: =K22/100 -> 0.7703281 | W22: 時蔬 | X22: 鵝白菜 | Y22: =Z22/701*1000 -> 71.326676 | Z22: 50 | AC22: =Y22/100 -> 0.71326676 | AD22: 時蔬 | AE22: 有機蔬菜 | AF22: =AG22/701*1000 -> 69.900143 | AG22: 49 | AJ22: =AF22/100 -> 0.69900143
C23: 枸杞 | E23: 1包 | H23: =D23/100 -> 0 | X23: 薑絲 | Y23: - | Z23: 0.2
A25: 湯類 | B25: ='12月菜單'!H8 -> 白菜油腐湯 | C25: 油豆腐 | D25: =E25/701*1000 -> 17.118402 | E25: 12 | G25: =D25/55 -> 0.31124368 | I25: ='12月菜單'!H9 -> 紫菜蛋花湯 | J25: 雞蛋 | K25: =L25/701*1000 -> 14.265335 | L25: 10 | N25: =K25/55 -> 0.25936973 | P25: ='12月菜單'!H10 -> 0 | U25: =R25/50 -> 0 | W25: ='12月菜單'!H11 -> 蘿蔔龍骨湯 | X25: 白蘿蔔 | Y25: =Z25/670*1000 -> 32.835821 | Z25: 22 | AC25: =Y25/100 -> 0.32835821 | AD25: ='12月菜單'!H12 -> 擔仔肉燥冬粉湯 | AE25: 肉絲 | AF25: =AG25/701*1000 -> 8.5592011 | AG25: 6 | AI25: =AF25/35 -> 0.2445486
C26: 小白菜 | D26: =E26/701*1000 -> 11.412268 | E26: 8 | H26: =D26/100 -> 0.11412268 | J26: 紫菜-包 | K26: =L26/690*1000 -> 2.8985507 | L26: 2 | O26: =K26/100 -> 0.028985507 | U26: =R26/55 -> 0 | X26: 龍骨 | Y26: =Z26/670*1000 -> 8.9552239 | Z26: 6 | AE26: 榨菜絲 | AF26: =AG26/701*1000 -> 17.118402 | AG26: 12 | AJ26: =AF26/100 -> 0.17118402
C27: 冬菜 | E27: 2包 | O27: =K27/100 -> 0 | T27: =R27/90 -> 0 | X27: 肉絲 | Y27: =Z27/670*1000 -> 4.4776119 | Z27: 3 | AB27: =Y27/35 -> 0.12793177
V28: =R28/100 -> 0
C29: 蒜碎 | E29: 0.5 | J29: 蒜碎 | L29: 0.6 | Q29: 蒜碎 | S29: 0.4 | X29: 蒜碎 | Z29: 0.8 | AE29: 蒜碎 | AG29: 0.8
A30: 水果 | I30: 水果 | P30: 水果 | Q30: 季節水果 | S30: 694份 | W30: 水果 | X30: ='12月菜單'!I11 -> ATP豆漿 | Z30: 694份 | AD30: 水果
A31: 其他 | B31: 其他 | I31: 其他 | P31: 其他 | W31: 其他 | AD31: 其他
A32: 營養供應比例 | B32: 油脂類(份) | D32: 3 | E32: =D32*45 -> 135 | I32: 油脂類(份) | K32: 3 | L32: =K32*45 -> 135 | P32: 油脂類(份) | R32: 3 | S32: =R32*45 -> 135 | W32: 油脂類(份) | Y32: 3 | Z32: =Y32*45 -> 135 | AD32: 油脂類(份) | AF32: 3 | AG32: =AF32*45 -> 135
B33: 全榖雜糧類(份) | D33: =SUM(F5:F29) -> 5.3559201 | E33: =D33*70 -> 374.91441 | I33: 全榖雜糧類(份) | K33: =SUM(M5:M29) -> 5.1377444 | L33: =K33*70 -> 359.64211 | P33: 全榖雜糧類(份) | R33: =SUM(T5:T29) -> 6.1355207 | S33: =R33*70 -> 429.48645 | W33: 全榖雜糧類(份) | Y33: =SUM(AA5:AA29) -> 4.5 | Z33: =Y33*70 -> 315 | AD33: 全榖雜糧類(份) | AF33: =SUM(AH5:AH29) -> 4.5 | AG33: =AF33*70 -> 315
B34: 豆魚蛋肉類(份) | D34: =SUM(G5:G31) -> 2.1310929 | E34: =D34*75 -> 159.83197 | I34: 豆魚蛋肉類(份) | K34: =SUM(N5:N31) -> 2.7277822 | L34: =K34*75 -> 204.58367 | P34: 豆魚蛋肉類(份) | R34: =SUM(U5:U31) -> 1.9686163 | S34: =R34*75 -> 147.64622 | W34: 豆魚蛋肉類(份) | Y34: =SUM(AB5:AB31) -> 2.6323086 | Z34: =Y34*75 -> 197.42315 | AD34: 豆魚蛋肉類(份) | AF34: =SUM(AI5:AI31) -> 2.445486 | AG34: =AF34*75 -> 183.41145
B35: 蔬菜類(份) | D35: =SUM(H5:H29) -> 1.6833096 | E35: =D35*25 -> 42.082739 | I35: 蔬菜類(份) | K35: =SUM(O5:O29) -> 0.91343629 | L35: =K35*25 -> 22.835907 | P35: 蔬菜類(份) | R35: =SUM(V5:V29) -> 0.81312411 | S35: =R35*25 -> 20.328103 | W35: 蔬菜類(份) | Y35: =SUM(AC5:AC29) -> 1.469585 | Z35: =Y35*25 -> 36.739626 | AD35: 蔬菜類(份) | AF35: =SUM(AJ5:AJ29) -> 1.9258203 | AG35: =AF35*25 -> 48.145506
B36: 水果類(份) | D36: 0 | E36: =D36*60 -> 0 | I36: 水果類(份) | K36: 0 | L36: =K36*60 -> 0 | P36: 水果類(份) | R36: 1 | S36: =R36*60 -> 60 | W36: 水果類(份) | Y36: 0 | Z36: =Y36*60 -> 0 | AD36: 水果類(份) | AF36: 0 | AG36: =AF36*60 -> 0
B37: 乳製品(份) | D37: 0 | E37: =D37*120 -> 0 | I37: 乳製品(份) | K37: 0 | L37: =K37*120 -> 0 | P37: 乳製品(份) | R37: 0 | S37: =R37*120 -> 0 | W37: 乳製品(份) | Y37: 0 | Z37: =Y37*120 -> 0 | AD37: 乳製品(份) | AF37: 0 | AG37: =AF37*120 -> 0
B38: 熱量 | E38: =SUM(E32:E37) -> 711.82911 | I38: 熱量 | L38: =SUM(L32:L37) -> 722.06168 | P38: 熱量 | S38: =SUM(S32:S37) -> 792.46077 | W38: 熱量 | Z38: =SUM(Z32:Z37) -> 684.16277 | AD38: 熱量 | AG38: =SUM(AG32:AG37) -> 681.55696
A39: 廠商營養師: 趙英茹 午餐秘書: 主任: 校長:
A40: 備註:本廠使用的豬肉及其製品原料產地皆為國產豬肉。

Sheet 1212-1216
A1: 屏東縣東寧國小111年12月第三週學生午餐食譜設計表
A2: 供應人數： | C2: 694人+10備份 (份數的備份+30) | P2: 本校/園一律使用國產 豬、牛肉食材 | X2: 食材供應商:芳味香食品企業有限公司 07-7037855
A3: 日期 | B3: 12 月12日 星期一 | I3: 12月13日 星期二 | P3: 12 月14日 星期三 | W3: 12月15日 星期四 | AD3: 12月16日星期五
A4: 項目 | B4: 菜名/烹調法 | C4: 材料 | D4: 每人(g) | E4: 學校採購量(kg) | F4: C | G4: P | H4: V | I4: 菜名/烹調法 | J4: 材料 | K4: 每人(g) | L4: 學校採購量(kg) | M4: C | N4: P | O4: V | P4: 菜名/烹調法 | Q4: 材料 | R4: 每人(g) | S4: 學校採購量(kg) | T4: C | U4: P | V4: V | W4: 菜名/烹調法 | X4: 材料 | Y4: 每人(g) | Z4: 學校採購量(kg) | AA4: C | AB4: P | AC4: V | AD4: 菜名/烹調法 | AE4: 材料 | AF4: 每人(g) | AG4: 學校採購量(kg) | AH4: C | AI4: P | AJ4: V
A5: 主食 | B5: 白米飯 | C5: 白米 | E5: 50 | F5: 4.5 | I5: 糙米飯 | J5: 白米 | K5: 52 | L5: 35 | M5: 4.5 | P5: 南瓜雞蛋鹹粥 | Q5: 白米飯 | R5: 100 | S5: 35 | T5: 4.5 | W5: 糙米飯 | X5: 白米 | Y5: 52 | Z5: 35 | AA5: 4.5 | AD5: 白米飯 | AE5: 白米 | AF5: 71 | AG5: 50 | AH5: 4.5
J6: 糙米 | K6: 22 | L6: 15 | Q6: 絞肉 | R6: =S6/701*1000 -> 47.075606 | S6: 33 | U6: =R6/35 -> 1.3450173 | X6: 糙米 | Y6: 22 | Z6: 15
Q7: 雞蛋 | R7: =S7/701*1000 -> 34.236805 | S7: 24 | U7: =R7/55 -> 0.62248736
A8: 副 食一 | B8: ='12月菜單'!E13 -> 義式雞丁 | C8: 雞腿丁 | D8: =E8/701*1000 -> 79.885877 | E8: 56 | G8: =D8/40*0.85 -> 1.6975749 | I8: ='12月菜單'!E14 -> 黑胡椒茄汁豬柳 | J8: 豬柳 | K8: =L8/701*1000 -> 78.459344 | L8: 55 | N8: =K8/35 -> 2.2416955 | Q8: 南瓜 | R8: =S8/701*1000 -> 21.398003 | S8: 15 | T8: =R8/80 -> 0.26747504 | W8: ='12月菜單'!E16 -> 蔥油雞排*1 | X8: 雞排 | Y8: 120 | Z8: 730片 | AB8: =Y8/40*0.5 -> 1.5 | AD8: ='12月菜單'!E17 -> 鼓汁排骨 | AE8: 肉丁 | AF8: =AG8/701*1000 -> 51.355207 | AG8: 36 | AI8: =AF8/35 -> 1.4672916
C9: 洋蔥 | D9: =E9/701*1000 -> 21.398003 | E9: 15 | H9: =D9/100 -> 0.21398003 | J9: 洋蔥 | K9: =L9/701*1000 -> 25.677603 | L9: 18 | O9: =K9/100 -> 0.25677603 | Q9: 高麗菜 | R9: =S9/701*1000 -> 49.928673 | S9: 35 | V9: =R9/100 -> 0.49928673 | X9: 蔥 | Z9: 1.2 | AE9: 軟骨丁 | AF9: =AG9/701*1000 -> 29.957204 | AG9: 21 | AI9: =AF9/35*0.65 -> 0.55634807 | AL9: 東寧雜貨送校
C10: 紅蘿蔔 | D10: =E10/701*1000 -> 11.412268 | E10: 8 | H10: =D10/100 -> 0.11412268 | J10: 蔥 | K10: =L10/701*1000 -> 1.4265335 | L10: 1 | Q10: 香菇 | R10: =S10/701*1000 -> 8.5592011 | S10: 6 | V10: =R10/100 -> 0.085592011 | AE10: 洋蔥 | AF10: =AG10/701*1000 -> 17.118402 | AG10: 12 | AJ10: =AF10/100 -> 0.17118402
C11: 義式香料 | D11: - | E11: 1包 | J11: 黑胡椒醬 | K11: - | L11: 1捅 | Q11: 蝦皮 | R11: =S11/701*1000 -> 1.4265335 | S11: 1 | AE11: 豆鼓 | AF11: - | AG11: 2包
J12: 番茄醬 | K12: - | L12: 1罐 | Q12: 油蔥酥 | R12: - | S12: 2包
A16: 副 食二 | B16: ='12月菜單'!F13 -> 回鍋干片 | C16: 豆干片 | D16: =E16/701*1000 -> 17.118402 | E16: 12 | G16: =D16/40 -> 0.42796006 | I16: ='12月菜單'!F14 -> 絲瓜粉絲 | J16: 肉片 | K16: =L16/701*1000 -> 4.2796006 | L16: 3 | N16: =K16/35 -> 0.1222743 | P16: ='12月菜單'!F15 -> 椒鹽石斑魚 | Q16: 石斑魚 | R16: =S16/701*1000 -> 85.592011 | S16: 60 | W16: ='12月菜單'!F16 -> 肉燥蒸蛋 | X16: 雞蛋 | Y16: =Z16/701*1000 -> 58.487874 | Z16: 41 | AB16: =Y16/55 -> 1.0634159 | AD16: ='12月菜單'!F17 -> 咖哩雙花菜 | AE16: 白花菜 | AF16: =AG16/701*1000 -> 35.663338 | AG16: 25 | AJ16: =AF16/100 -> 0.35663338
C17: 高麗菜 | D17: =E17/701*1000 -> 49.928673 | E17: 35 | H17: =D17/100 -> 0.49928673 | J17: 絲瓜 | K17: =L17/701*1000 -> 71.326676 | L17: 50 | O17: =K17/100 -> 0.71326676 | Q17: 椒鹽粉 | R17: - | S17: 1盒 | X17: 絞肉 | Y17: =Z17/701*1000 -> 4.2796006 | Z17: 3 | AB17: =Y17/35 -> 0.1222743 | AE17: 青花菜 | AF17: =AG17/701*1000 -> 28.53067 | AG17: 20 | AJ17: =AF17/100 -> 0.2853067
C18: 紅蘿蔔 | D18: =E18/701*1000 -> 7.1326676 | E18: 5 | H18: =D18/100 -> 0.071326676 | J18: 冬粉 | K18: =L18/701*1000 -> 4.2796006 | L18: 3 | M18: =K18/15 -> 0.2853067 | Q18: 地瓜粉 | S18: 6 | V18: =R18/100 -> 0 | X18: 紅蘿蔔 | Y18: =Z18/701*1000 -> 2.853067 | Z18: 2 | AE18: 紅蘿蔔 | AF18: =AG18/701*1000 -> 11.412268 | AG18: 8 | AJ18: =AF18/100 -> 0.11412268
C19: 蔥 | J19: 蝦皮 | K19: =L19/701*1000 -> 0.85592011 | L19: 0.6 | N19: =K19/35 -> 0.02445486 | Q19: 麵粉 | S19: 6 | V19: =R19/100 -> 0 | AC19: =Z19/35 -> 0 | AE19: 咖哩粉 | AG19: 2盒
V20: =R20/100 -> 0 | AB20: =Y20/35 -> 0
A22: 副食三 | B22: 時蔬 | C22: 小白菜 | D22: =E22/701*1000 -> 71.326676 | E22: 50 | H22: =D22/100 -> 0.71326676 | I22: 時蔬 | J22: 有機蔬菜 | K22: =L22/701*1000 -> 77.03281 | L22: 54 | O22: =K22/100 -> 0.7703281 | P22: 時蔬 | Q22: 莧菜 | R22: =S22/701*1000 -> 71.326676 | S22: 50 | V22: =R22/100 -> 0.71326676 | W22: 時蔬 | X22: 大陸妹 | Y22: =Z22/701*1000 -> 71.326676 | Z22: 50 | AC22: =Y22/100 -> 0.71326676 | AD22: 時蔬 | AE22: 有機蔬菜 | AF22: =AG22/701*1000 -> 71.326676 | AG22: 50 | AJ22: =AF22/100 -> 0.71326676
C23: 薑絲 | D23: - | E23: 0.2 | X23: 油蔥酥 | Z23: 1包
C24: 鮑魚菇 | D24: =E24/701*1000 -> 4.2796006 | E24: 3 | G24: =D24/55 -> 0.077810919
A25: 湯類 | B25: ='12月菜單'!H13 -> 枸杞養生蔬菜湯 | C25: 香菇 | D25: =E25/701*1000 -> 4.2796006 | E25: 3 | H25: =D25/100 -> 0.042796006 | I25: ='12月菜單'!H14 -> 玉米濃湯 | J25: 雞蛋 | K25: =L25/701*1000 -> 14.265335 | L25: 10 | N25: =K25/55 -> 0.25936973 | P25: ='12月菜單'!H15 -> 0 | W25: ='12月菜單'!H16 -> 刺瓜龍骨湯 | X25: 大黃瓜 | Y25: =Z25/701*1000 -> 35.663338 | Z25: 25 | AC25: =Y25/100 -> 0.35663338 | AD25: ='12月菜單'!H17 -> 綜合甜湯圓 | AE25: 小湯圓 | AF25: =AG25/701*1000 -> 12.838802 | AG25: 9 | AH25: =AF25/30 -> 0.42796006
C26: 金針菇 | D26: =E26/701*1000 -> 5.7061341 | E26: 4 | H26: =D26/100 -> 0.057061341 | J26: 玉米粒 | K26: =L26/701*1000 -> 14.265335 | L26: 10 | M26: =K26/85 -> 0.16782747 | X26: 肉絲 | Y26: =Z26/701*1000 -> 4.2796006 | Z26: 3 | AB26: =Y26/35 -> 0.1222743 | AE26: 綠豆 | AF26: =AG26/701*1000 -> 7.1326676 | AG26: 5 | AH26: =AF26/25 -> 0.2853067
C27: 大白菜 | D27: =E27/701*1000 -> 21.398003 | E27: 15 | H27: =D27/100 -> 0.21398003 | J27: 馬鈴薯 | K27: =L27/701*1000 -> 17.118402 | L27: 12 | M27: =K27/90 -> 0.19020447 | X27: 龍骨 | Y27: =Z27/701*1000 -> 8.5592011 | Z27: 6 | AE27: 地瓜 | AF27: =AG27/701*1000 -> 14.265335 | AG27: 10 | AH27: =AF27/55 -> 0.25936973
C28: 雞骨熬湯 | D28: =E28/701*1000 -> 4.2796006 | E28: 3 | H28: =D28/100 -> 0.042796006 | J28: 紅蘿蔔 | K28: =L28/701*1000 -> 11.412268 | L28: 8 | O28: =K28/100 -> 0.11412268 | AC28: =Y28/100 -> 0 | AE28: 薏仁 | AF28: =AG28/701*1000 -> 2.5677603 | AG28: 1.8 | AH28: =AF28/20 -> 0.12838802
C29: 紅棗/枸杞 | D29: - | E29: 各1包 | J29: 蒜碎 | L29: 0.8 | O29: =K29/100 -> 0 | Q29: 蒜碎 | S29: 0.5 | X29: 蒜碎 | Z29: 0.2 | AE29: 蒜碎 | AG29: 0.8
A30: 水果 | C30: 蒜碎 | E30: 0.8 | I30: 水果 | W30: 水果 | AD30: 水果
A31: 其他 | I31: 其他 | P31: 其他 | Q31: 季節水果 | S31: 694份 | W31: 其他 | AD31: 其他
A32: 營養供應比例 | B32: 油脂類(份) | D32: 3 | E32: =D32*45 -> 135 | I32: 油脂類(份) | K32: 3 | L32: =K32*45 -> 135 | P32: 油脂類(份) | R32: 3 | S32: =R32*45 -> 135 | W32: 油脂類(份) | Y32: 3 | Z32: =Y32*45 -> 135 | AD32: 油脂類(份) | AF32: 3 | AG32: =AF32*45 -> 135
B33: 全榖雜糧類(份) | D33: =SUM(F5:F29) -> 4.5 | E33: =D33*70 -> 315 | I33: 全榖雜糧類(份) | K33: =SUM(M5:M29) -> 5.1433386 | L33: =K33*70 -> 360.03371 | P33: 全榖雜糧類(份) | R33: =SUM(T5:T29) -> 4.767475 | S33: =R33*70 -> 333.72325 | W33: 全榖雜糧類(份) | Y33: =SUM(AA5:AA29) -> 4.5 | Z33: =Y33*70 -> 315 | AD33: 全榖雜糧類(份) | AF33: =SUM(AH5:AH29) -> 5.6010245 | AG33: =AF33*70 -> 392.07172
B34: 豆魚蛋肉類(份) | D34: =SUM(G5:G31) -> 2.2033459 | E34: =D34*75 -> 165.25094 | I34: 豆魚蛋肉類(份) | K34: =SUM(N5:N31) -> 2.6477944 | L34: =K34*75 -> 198.58458 | P34: 豆魚蛋肉類(份) | R34: =SUM(U5:U31) -> 1.9675047 | S34: =R34*75 -> 147.56285 | W34: 豆魚蛋肉類(份) | Y34: =SUM(AB5:AB31) -> 2.8079645 | Z34: =Y34*75 -> 210.59734 | AD34: 豆魚蛋肉類(份) | AF34: =SUM(AI5:AI31) -> 2.0236397 | AG34: =AF34*75 -> 151.77298
B35: 蔬菜類(份) | D35: =SUM(H5:H29) -> 1.9686163 | E35: =D35*25 -> 49.215407 | I35: 蔬菜類(份) | K35: =SUM(O5:O29) -> 1.8544936 | L35: =K35*25 -> 46.36234 | P35: 蔬菜類(份) | R35: =SUM(V5:V29) -> 1.2981455 | S35: =R35*25 -> 32.453638 | W35: 蔬菜類(份) | Y35: =SUM(AC5:AC29) -> 1.0699001 | Z35: =Y35*25 -> 26.747504 | AD35: 蔬菜類(份) | AF35: =SUM(AJ5:AJ29) -> 1.6405136 | AG35: =AF35*25 -> 41.012839
B36: 水果類(份) | D36: 0 | E36: =D36*60 -> 0 | I36: 水果類(份) | K36: 0 | L36: =K36*60 -> 0 | P36: 水果類(份) | R36: 1 | S36: =R36*60 -> 60 | W36: 水果類(份) | Y36: 0 | Z36: =Y36*60 -> 0 | AD36: 水果類(份) | AF36: 0 | AG36: =AF36*60 -> 0
B37: 乳製品(份) | D37: 0 | E37: =D37*120 -> 0 | I37: 乳製品(份) | K37: 0 | L37: =K37*120 -> 0 | P37: 乳製品(份) | R37: 0 | S37: =R37*120 -> 0 | W37: 乳製品(份) | Y37: 0 | Z37: =Y37*120 -> 0 | AD37: 乳製品(份) | AF37: 0 | AG37: =AF37*120 -> 0
B38: 熱量 | E38: =SUM(E32:E37) -> 664.46635 | I38: 熱量 | L38: =SUM(L32:L37) -> 739.98063 | P38: 熱量 | S38: =SUM(S32:S37) -> 708.73974 | W38: 熱量 | Z38: =SUM(Z32:Z37) -> 687.34484 | AD38: 熱量 | AG38: =SUM(AG32:AG36) -> 719.85753
A39: 廠商營養師: 趙英茹 午餐秘書: 主任: 校長:
A40: 備註:本廠使用的豬肉及其製品原料產地皆為國產豬肉。

Sheet 1219-1223
A1: 屏東縣東寧國小111年12月第四週學生午餐食譜設計表
A2: 供應人數： | C2: 694人+10備份 (份數的備份+30) | P2: 本校/園一律使用國產 豬、牛肉食材 | X2: 食材供應商:芳味香食品企業有限公司 07-7037855
A3: 日期 | B3: 12月19日星期一 | I3: 12月20日星期二 | P3: 12月21日星期三 | W3: 12月22日星期四 | AD3: 12月23日星期五
A4: 項目 | B4: 菜名/烹調法 | C4: 材料 | D4: 每人(g) | E4: 學校採購量(kg) | F4: C | G4: P | H4: V | I4: 菜名/烹調法 | J4: 材料 | K4: 每人(g) | L4: 學校採購量(kg) | M4: C | N4: P | O4: V | P4: 菜名/烹調法 | Q4: 材料 | R4: 每人(g) | S4: 學校採購量(kg) | T4: C | U4: P | V4: V | W4: 菜名/烹調法 | X4: 材料 | Y4: 每人(g) | Z4: 學校採購量(kg) | AA4: C | AB4: P | AC4: V | AD4: 菜名/烹調法 | AE4: 材料 | AF4: 每人(g) | AG4: 學校採購量(kg) | AH4: C | AI4: P | AJ4: V
A5: 主食 | B5: 白米飯 | C5: 白米 | D5: 71 | E5: 50 | F5: 4.5 | I5: 糙米飯 | J5: 白米 | K5: 52 | L5: 35 | M5: 4.5 | P5: 白米飯 | Q5: 白米 | R5: 71 | S5: 50 | T5: 4.5 | W5: 糙米飯 | X5: 白米 | Y5: 52 | Z5: 35 | AA5: 4.5 | AD5: 白米飯 | AE5: 白米 | AF5: 71 | AG5: 50 | AH5: 4.5
J6: 糙米 | K6: 22 | L6: 15 | X6: 糙米 | Y6: 22 | Z6: 15
A8: 副 食一 | B8: ='12月菜單'!E18 -> 打拋豬肉 | C8: 絞肉 | D8: =E8/701*1000 -> 78.459344 | E8: 55 | G8: =D8/35 -> 2.2416955 | I8: ='12月菜單'!E19 -> 蜜汁雞 | J8: 雞腿丁 | K8: =L8/701*1000 -> 78.459344 | L8: 55 | N8: =K8/40*0.85 -> 1.6672611 | P8: 蘑菇鐵板肉片 | Q8: 肉片 | R8: =S8/701*1000 -> 78.459344 | S8: 55 | U8: =R8/35 -> 2.2416955 | W8: ='12月菜單'!E21 -> 香酥雞翅*1 | X8: 三節雞翅 | Y8: 85 | Z8: 730支 | AB8: =Y8/40*0.85 -> 1.80625 | AD8: ='12月菜單'!E22 -> 紅燒雞丁 | AE8: 雞腿丁 | AF8: =AG8/701*1000 -> 79.885877 | AG8: 56 | AI8: =AF8/40*0.6 -> 1.1982882
C9: 洋蔥 | D9: =E9/701*1000 -> 25.677603 | E9: 18 | H9: =D9/100 -> 0.25677603 | J9: 地瓜 | K9: =L9/701*1000 -> 31.383738 | L9: 22 | M9: =K9/55 -> 0.57061341 | Q9: 洋蔥 | R9: =S9/701*1000 -> 14.265335 | S9: 10 | V9: =R9/100 -> 0.14265335 | X9: 麵粉 | Y9: - | Z9: 6 | AE9: 紅蘿蔔 | AF9: =AG9/701*1000 -> 11.412268 | AG9: 8 | AJ9: =AF9/100 -> 0.11412268 | AL9: 東寧雜貨
C10: 九層塔 | D10: =E10/670*1000 -> 2.238806 | E10: 1.5 | H10: =D10/100 -> 0.02238806 | J10: 白芝麻 | L10: 1包 | Q10: 豆芽菜 | R10: =S10/701*1000 -> 9.9857347 | S10: 7 | V10: =R10/100 -> 0.099857347 | X10: 地瓜粉 | Y10: - | Z10: 6 | AE10: 麵腸 | AF10: =AG10/701*1000 -> 14.265335 | AG10: 10 | AI10: =AF10/30 -> 0.47551117
Q11: 蔥 | R11: =S11/670*1000 -> 2.238806 | S11: 1.5 | X11: 椒鹽粉 | Y11: - | Z11: 1盒
Q12: 蘑菇醬 | R12: - | S12: 1桶
Q13: 黑胡椒醬 | R13: - | S13: 1桶
A16: 副 食二 | B16: ='12月菜單'!F18 -> 杏鮑菇炒黃瓜 | C16: 大黃瓜 | D16: =E16/701*1000 -> 59.914408 | E16: 42 | H16: =D16/100 -> 0.59914408 | I16: ='12月菜單'!F19 -> 肉燥拌銀芽 | J16: 絞肉 | K16: =L16/701*1000 -> 8.5592011 | L16: 6 | N16: =K16/35 -> 0.2445486 | P16: 炒雙色花菜 | Q16: 白花菜 | R16: =S16/701*1000 -> 35.663338 | S16: 25 | V16: =R16/100 -> 0.35663338 | W16: ='12月菜單'!F21 -> 麻婆豆腐 | X16: 豆腐 | Y16: =Z16/701*1000 -> 64.194009 | Z16: 45 | AB16: =Y16/80 -> 0.80242511 | AD16: ='12月菜單'!F22 -> 蔥爆肉絲高麗菜 | AE16: 肉絲 | AF16: =AG16/701*1000 -> 12.838802 | AG16: 9 | AI16: =AF16/35 -> 0.36682291
C17: 杏鮑菇 | D17: =E17/701*1000 -> 12.838802 | E17: 9 | H17: =D17/100 -> 0.12838802 | J17: 豆芽菜 | K17: =L17/701*1000 -> 39.942939 | L17: 28 | O17: =K17/100 -> 0.39942939 | Q17: 青花菜 | R17: =S17/701*1000 -> 28.53067 | S17: 20 | V17: =R17/100 -> 0.2853067 | X17: 絞肉 | Y17: =Z17/701*1000 -> 4.2796006 | Z17: 3 | AB17: =Y17/35 -> 0.1222743 | AE17: 高麗菜 | AF17: =AG17/701*1000 -> 57.061341 | AG17: 40 | AJ17: =AF17/100 -> 0.57061341
C18: 紅蘿蔔 | D18: =E18/701*1000 -> 7.1326676 | E18: 5 | H18: =D18/100 -> 0.071326676 | J18: 韭菜 | K18: =L18/701*1000 -> 4.2796006 | L18: 3 | O18: =K18/100 -> 0.042796006 | Q18: 紅蘿蔔 | R18: =S18/701*1000 -> 7.1326676 | S18: 5 | V18: =R18/100 -> 0.071326676 | AE18: 紅蘿蔔 | AF18: =AG18/701*1000 -> 7.1326676 | AG18: 5 | AJ18: =AF18/100 -> 0.071326676
Q19: 木耳 | R19: =S19/701*1000 -> 4.2796006 | S19: 3 | V19: =R19/100 -> 0.042796006 | AE19: 蔥 | AF19: - | AG19: 0.6
A22: 副食三 | B22: 時蔬 | C22: 油菜 | D22: =E22/701*1000 -> 71.326676 | E22: 50 | H22: =D22/100 -> 0.71326676 | I22: 時蔬 | J22: 有機蔬菜 | K22: =L22/701*1000 -> 77.03281 | L22: 54 | O22: =K22/100 -> 0.7703281 | P22: 時蔬 | Q22: 高麗菜 | R22: =S22/701*1000 -> 64.194009 | S22: 45 | V22: =R22/100 -> 0.64194009 | W22: 時蔬 | X22: 青江菜 | Y22: =Z22/701*1000 -> 71.326676 | Z22: 50 | AC22: =Y22/100 -> 0.71326676 | AD22: 時蔬 | AE22: 有機蔬菜 | AF22: =AG22/701*1000 -> 71.326676 | AG22: 50 | AJ22: =AF22/100 -> 0.71326676
J23: 蝦皮 | K23: - | L23: 0.6 | Q23: 紅蘿蔔 | R23: =S23/701*1000 -> 2.853067 | S23: 2 | V23: =R23/100 -> 0.02853067 | X23: 木耳 | Y23: =Z23/701*1000 -> 0.85592011 | Z23: 0.6 | AC23: =Y23/100 -> 0.0085592011
Q24: 香菇 | R24: =S24/701*1000 -> 4.2796006 | S24: 3 | V24: =R24/100 -> 0.042796006
A25: 湯類 | B25: ='12月菜單'!H18 -> 豆薯蛋花湯 | C25: 雞蛋 | D25: =E25/701*1000 -> 14.265335 | E25: 10 | G25: =D25/35 -> 0.40758101 | I25: ='12月菜單'!H19 -> 味噌湯 | J25: 乾海芽 | K25: 15 | L25: 1包 | O25: =K25/100 -> 0.15 | P25: 四神蘿蔔湯 | Q25: 白蘿蔔 | R25: =S25/701*1000 -> 25.677603 | S25: 18 | V25: =R25/100 -> 0.25677603 | W25: ='12月菜單'!H21 -> 紫菜針菇湯 | X25: 紫菜-包 | Z25: 2包 | AB25: =Y25/80 -> 0 | AD25: ='12月菜單'!H22 -> 冬瓜玉米湯 | AE25: 玉米粒 | AF25: =AG25/701*1000 -> 14.265335 | AG25: 10 | AH25: =AF25/85 -> 0.16782747
C26: 豆薯 | D26: =E26/701*1000 -> 17.118402 | E26: 12 | F26: =D26/210 -> 0.081516201 | J26: 大白菜 | K26: =L26/701*1000 -> 11.412268 | L26: 8 | O26: =K26/100 -> 0.11412268 | Q26: 肉絲 | R26: =S26/701*1000 -> 8.5592011 | S26: 6 | U26: =R26/35 -> 0.2445486 | X26: 金針菇 | Y26: =Z26/701*1000 -> 5.7061341 | Z26: 4 | AC26: 0.1 | AE26: 冬瓜 | AF26: =AG26/701*1000 -> 28.53067 | AG26: 20 | AJ26: =AF26/100 -> 0.2853067
J27: 味噌 | K27: - | L27: 2盒 | Q27: 薏仁 | R27: =S27/701*1000 -> 2.853067 | S27: 2 | T27: =R27/20 -> 0.14265335 | AE27: 大骨 | AF27: =AG27/701*1000 -> 8.5592011 | AG27: 6
Q28: 龍骨 | R28: =S28/701*1000 -> 8.5592011 | S28: 6 | AJ28: =AF28/100 -> 0
Q29: 蒜碎 | S29: 0.4 | X29: 蒜碎 | Z29: 0.5 | AE29: 蒜碎 | AG29: 0.8
A30: 水果 | C30: 蒜碎 | E30: 0.8 | I30: 水果 | J30: 蒜碎 | L30: 0.6 | P30: 水果 | Q30: 季節水果 | S30: 694份 | W30: 水果 | X30: ='12月菜單'!I21 -> 鮮奶 | Z30: 694份 | AD30: 水果
A31: 其他 | I31: 其他 | P31: 其他 | W31: 加菜 | AD31: 其他
A32: 營養供應比例 | B32: 油脂類(份) | D32: 3 | E32: =D32*45 -> 135 | I32: 油脂類(份) | K32: 3 | L32: =K32*45 -> 135 | P32: 油脂類(份) | R32: 2.5 | S32: =R32*45 -> 112.5 | W32: 油脂類(份) | Y32: 3 | Z32: =Y32*45 -> 135 | AD32: 油脂類(份) | AF32: 3 | AG32: =AF32*45 -> 135
B33: 全榖雜糧類(份) | D33: =SUM(F5:F29) -> 4.5815162 | E33: =D33*70 -> 320.70613 | I33: 全榖雜糧類(份) | K33: =SUM(M5:M29) -> 5.0706134 | L33: =K33*70 -> 354.94294 | P33: 全榖雜糧類(份) | R33: =SUM(T5:T29) -> 4.6426534 | S33: =R33*70 -> 324.98573 | W33: 全榖雜糧類(份) | Y33: =SUM(AA5:AA29) -> 4.5 | Z33: =Y33*70 -> 315 | AD33: 全榖雜糧類(份) | AF33: =SUM(AH5:AH29) -> 4.6678275 | AG33: =AF33*70 -> 326.74792
B34: 豆魚蛋肉類(份) | D34: =SUM(G5:G31) -> 2.6492765 | E34: =D34*75 -> 198.69574 | I34: 豆魚蛋肉類(份) | K34: =SUM(N5:N31) -> 1.9118097 | L34: =K34*75 -> 143.38572 | P34: 豆魚蛋肉類(份) | R34: =SUM(U5:U31) -> 2.4862441 | S34: =R34*75 -> 186.46831 | W34: 豆魚蛋肉類(份) | Y34: =SUM(AB5:AB31) -> 2.7309494 | Z34: =Y34*75 -> 204.82121 | AD34: 豆魚蛋肉類(份) | AF34: =SUM(AI5:AI31) -> 2.0406222 | AG34: =AF34*75 -> 153.04667
B35: 蔬菜類(份) | D35: =SUM(H5:H29) -> 1.7912896 | E35: =D35*25 -> 44.782241 | I35: 蔬菜類(份) | K35: =SUM(O5:O29) -> 1.4766762 | L35: =K35*25 -> 36.916904 | P35: 蔬菜類(份) | R35: =SUM(V5:V29) -> 1.9686163 | S35: =R35*25 -> 49.215407 | W35: 蔬菜類(份) | Y35: =SUM(AC5:AC29) -> 0.82182596 | Z35: =Y35*25 -> 20.545649 | AD35: 蔬菜類(份) | AF35: =SUM(AJ5:AJ29) -> 1.7546362 | AG35: =AF35*25 -> 43.865906
B36: 水果類(份) | D36: 0 | E36: =D36*60 -> 0 | I36: 水果類(份) | K36: 0 | L36: =K36*60 -> 0 | P36: 水果類(份) | R36: 1 | S36: =R36*60 -> 60 | W36: 水果類(份) | Y36: 0 | Z36: =Y36*60 -> 0 | AD36: 水果類(份) | AF36: 0 | AG36: =AF36*60 -> 0
B37: 乳製品(份) | D37: 0 | E37: =D37*120 -> 0 | I37: 乳製品(份) | K37: 0 | L37: =K37*120 -> 0 | P37: 乳製品(份) | R37: 0 | S37: =R37*120 -> 0 | W37: 乳製品(份) | Y37: 1 | Z37: =Y37*120 -> 120 | AD37: 乳製品(份) | AF37: 0 | AG37: =AF37*120 -> 0
B38: 熱量 | E38: =SUM(E32:E37) -> 699.18412 | I38: 熱量 | L38: =SUM(L32:L37) -> 670.24557 | P38: 熱量 | S38: =SUM(S32:S37) -> 733.16945 | W38: 熱量 | Z38: =SUM(Z32:Z37) -> 795.36685 | AD38: 熱量 | AG38: =SUM(AG32:AG37) -> 658.6605
A39: 廠商營養師: 趙英茹 午餐秘書: 主任: 校長:
A40: 備註:本廠使用的豬肉及其製品原料產地皆為國產豬肉。

Sheet 1226-1230
A1: 屏東縣東寧國小111年12月第五週學生午餐食譜設計表
A2: 供應人數： | C2: 694人+10備份 (份數的備份+30) | P2: 本校/園一律使用國產 豬、牛肉食材 | X2: 食材供應商:芳味香食品企業有限公司 07-7037855
A3: 日期 | B3: 12月24日星期六 校慶490人 | I3: 12月27日 星期二 | P3: 12月28日 星期三 | W3: 12月29日星期四 | AD3: 12月30日 星期五
A4: 項目 | B4: 菜名/烹調法 | C4: 材料 | D4: 每人(g) | E4: 學校採購量(kg) | F4: C | G4: P | H4: V | I4: 菜名/烹調法 | J4: 材料 | K4: 每人(g) | L4: 學校採購量(kg) | M4: C | N4: P | O4: V | P4: 菜名/烹調法 | Q4: 材料 | R4: 每人(g) | S4: 學校採購量(kg) | T4: C | U4: P | V4: V | W4: 菜名/烹調法 | X4: 材料 | Y4: 每人(g) | Z4: 學校採購量(kg) | AA4: C | AB4: P | AC4: V | AD4: 菜名/烹調法 | AE4: 材料 | AF4: 每人(g) | AG4: 學校採購量(kg) | AH4: C | AI4: P | AJ4: V
A5: 主食 | B5: 炒油飯 | C5: 白米 | D5: 100 | E5: 105 | F5: 5 | I5: ='12月菜單'!D24 -> 糙米飯 | J5: 白米 | K5: 52 | L5: 35 | M5: 4.5 | P5: 榨醬拌麵 | Q5: 白油麵 | R5: =S5/701*1000 -> 154.06562 | S5: 108 | T5: =R5/30 -> 5.1355207 | W5: ='12月菜單'!D26 -> 糙米飯 | X5: 白米 | Y5: =Z5/670*1000 -> 52.238806 | Z5: 35 | AA5: 4.5 | AD5: ='12月菜單'!D27 -> 白米飯 | AE5: 白米 | AF5: 71 | AG5: 50 | AH5: 4.5
C6: 長糯米-公司叫 | D6: =E6/670*1000 -> 41.791045 | E6: 28 | J6: 糙米 | K6: 22 | L6: 15 | Q6: 絞肉 | R6: =S6/701*1000 -> 38.516405 | S6: 27 | U6: =R6/35 -> 1.1004687 | X6: 糙米 | Y6: =Z6/670*1000 -> 22.38806 | Z6: 15
C7: 肉絲 | D7: =E7/701*1000 -> 51.355207 | E7: 36 | G7: =D7/35 -> 1.4672916 | Q7: 洋蔥 | R7: =S7/701*1000 -> 21.398003 | S7: 15 | V7: =R7/100 -> 0.21398003
A8: 副 食一 | C8: 乾香菇 | D8: =E8/701*1000 -> 1.1412268 | E8: 0.8 | H8: =D8/100 -> 0.011412268 | I8: ='12月菜單'!E24 -> 咖哩雞 | J8: 雞腿丁 | K8: =L8/701*1000 -> 78.459344 | L8: 55 | N8: =K8/40*0.85 -> 1.6672611 | Q8: 紅蘿蔔 | R8: =S8/701*1000 -> 11.412268 | S8: 8 | V8: =R8/100 -> 0.11412268 | W8: ='12月菜單'!E26 -> 糖醋魚丁 | X8: 新鮮魚丁 | Y8: =Z8/701*1000 -> 114.12268 | Z8: 80 | AB8: =Y8/35*0.6 -> 1.9563888 | AD8: ='12月菜單'!E27 -> 壽喜燒豬柳 | AE8: 豬柳 | AF8: =AG8/701*1000 -> 78.459344 | AG8: 55 | AI8: =AF8/35 -> 2.2416955
C9: 桶筍切丁 | D9: =E9/701*1000 -> 21.398003 | E9: 15 | H9: =D9/100 -> 0.21398003 | J9: 馬鈴薯 | K9: =L9/701*1000 -> 25.677603 | L9: 18 | M9: =K9/90 -> 0.2853067 | Q9: 小黃瓜 | R9: =S9/701*1000 -> 17.118402 | S9: 12 | V9: =R9/100 -> 0.17118402 | X9: 洋蔥 | Y9: =Z9/701*1000 -> 14.265335 | Z9: 10 | AC9: =Y9/100 -> 0.14265335 | AE9: 洋蔥 | AF9: =AG9/701*1000 -> 17.118402 | AG9: 12 | AJ9: =AF9/100 -> 0.17118402
C10: 蝦皮 | D10: =E10/701*1000 -> 0.85592011 | E10: 0.6 | H10: =D10/100 -> 0.0085592011 | J10: 紅蘿蔔 | K10: =L10/701*1000 -> 11.412268 | L10: 8 | O10: =K10/100 -> 0.11412268 | Q10: 甜麵醬 | R10: - | S10: 2桶 | X10: 紅蘿蔔 | Y10: =Z10/701*1000 -> 7.1326676 | Z10: 5 | AC10: =Y10/100 -> 0.071326676 | AE10: 紅蘿蔔 | AF10: =AG10/701*1000 -> 7.1326676 | AG10: 5 | AJ10: =AF10/100 -> 0.071326676
C11: 油蔥酥 | E11: 2包 | J11: 咖哩粉 | K11: - | L11: 2盒 | X11: 青椒 | Y11: =Z11/701*1000 -> 5.7061341 | Z11: 4 | AC11: =Y11/100 -> 0.057061341 | AE11: 柴魚片 | AF11: - | AG11: 1包
C12: 乾魷魚 | E12: 0.8
A16: 副 食二 | B16: 小兔包 | C16: 小兔包 | D16: 30 | E16: 520粒 | F16: 1 | I16: ='12月菜單'!F24 -> 筍絲炒蛋 | J16: 雞蛋 | K16: =L16/701*1000 -> 39.942939 | L16: 28 | N16: =K16/55 -> 0.72623525 | P16: ='12月菜單'!F25 -> 豆干滷味 | Q16: 大溪豆干 | R16: =S16/701*1000 -> 28.53067 | S16: 20 | U16: =R16/40 -> 0.71326676 | W16: ='12月菜單'!F26 -> 筍乾滷白菜 | X16: 筍乾 | Y16: =Z16/701*1000 -> 14.265335 | Z16: 10 | AC16: =Y16/100 -> 0.14265335 | AD16: ='12月菜單'!F27 -> 五更燴什錦 | AE16: 油豆腐 | AF16: =AG16/701*1000 -> 28.53067 | AG16: 20 | AI16: =AF16/55 -> 0.51873946
J17: 鮮筍絲 | K17: =L17/701*1000 -> 25.677603 | L17: 18 | O17: =K17/100 -> 0.25677603 | Q17: 肉片 | R17: =S17/701*1000 -> 12.838802 | S17: 9 | U17: =R17/35 -> 0.36682291 | X17: 大白菜 | Y17: =Z17/701*1000 -> 49.928673 | Z17: 35 | AC17: =Y17/100 -> 0.49928673 | AE17: 麵腸 | AF17: =AG17/701*1000 -> 14.265335 | AG17: 10 | AI17: =AF17/35 -> 0.40758101
H18: =D18/100 -> 0 | J18: 紅蘿蔔 | K18: =L18/701*1000 -> 9.9857347 | L18: 7 | O18: =K18/100 -> 0.099857347 | Q18: 高麗菜 | R18: =S18/701*1000 -> 28.53067 | S18: 20 | V18: =R18/100 -> 0.2853067 | X18: 肉片 | Y18: =Z18/701*1000 -> 8.5592011 | Z18: 6 | AC18: =Y18/100 -> 0.085592011 | AE18: 金針菇 | AF18: =AG18/701*1000 -> 11.412268 | AG18: 8 | AJ18: =AF18/100 -> 0.11412268
H19: =D19/100 -> 0 | J19: 木耳 | K19: =L19/701*1000 -> 4.2796006 | L19: 3 | O19: =K19/100 -> 0.042796006 | Q19: 海帶結 | R19: =S19/701*1000 -> 7.1326676 | S19: 5 | V19: =R19/100 -> 0.071326676 | X19: 蔥 | Z19: 1 | AE19: 鮑魚菇 | AF19: =AG19/701*1000 -> 8.5592011 | AG19: 6 | AJ19: =AF19/100 -> 0.085592011
H20: =D20/100 -> 0 | AE20: 木耳 | AF20: =AG20/701*1000 -> 5.7061341 | AG20: 4 | AJ20: =AF20/100 -> 0.057061341
AE21: 辣椒 | AF21: 0.3
A22: 副食三 | I22: 時蔬 | J22: 有機蔬菜 | K22: =L22/701*1000 -> 77.03281 | L22: 54 | O22: =K22/100 -> 0.7703281 | W22: 時蔬 | X22: 大陸妹 | Y22: =Z22/701*1000 -> 71.326676 | Z22: 50 | AC22: =Y22/100 -> 0.71326676 | AD22: 時蔬 | AE22: 有機蔬菜 | AF22: =AG22/701*1000 -> 71.326676 | AG22: 50 | AJ22: =AF22/100 -> 0.71326676
X23: 油蔥酥 | Y23: - | Z23: 1包
AC24: =Y24/100 -> 0
A25: 湯類 | B25: 海芽蛋花湯 | C25: 雞蛋 | D25: =E25/525*1000 -> 13.333333 | E25: 7 | G25: =D25/55 -> 0.24242424 | I25: ='12月菜單'!H24 -> 榨菜肉絲湯 | J25: 肉絲 | K25: =L25/701*1000 -> 8.5592011 | L25: 6 | N25: =K25/35 -> 0.2445486 | P25: ='12月菜單'!H25 -> 關東煮 | Q25: 白蘿蔔 | R25: =S25/701*1000 -> 25.677603 | S25: 18 | V25: =R25/100 -> 0.25677603 | W25: ='12月菜單'!H26 -> 豆腐蛋花湯 | X25: 豆腐 | Y25: =Z25/701*1000 -> 14.265335 | Z25: 10 | AB25: =Y25/80 -> 0.17831669 | AD25: ='12月菜單'!H27 -> 紅豆麥片湯 | AE25: 紅豆-履歷 | AF25: =AG25/701*1000 -> 17.118402 | AG25: 12 | AH25: =AF25/25 -> 0.68473609
C26: 乾海帶芽 | E26: 0.8包 | H26: 0.1 | J26: 榨菜絲 | K26: =L26/701*1000 -> 17.118402 | L26: 12 | O26: =K26/100 -> 0.17118402 | Q26: 玉米塊 | R26: =S26/701*1000 -> 14.265335 | S26: 10 | T26: =R26/90 -> 0.15850372 | X26: 雞蛋 | Y26: =Z26/701*1000 -> 8.5592011 | Z26: 6 | AB26: =Y26/55 -> 0.15562184 | AE26: 麥片 | AF26: =AG26/701*1000 -> 4.2796006 | AG26: 3 | AH26: =AF26/20 -> 0.21398003
Q27: 米血 | R27: =S27/701*1000 -> 8.5592011 | S27: 6 | T27: =R27/35 -> 0.2445486 | X27: 金針菇 | Y27: =Z27/701*1000 -> 5.7061341 | Z27: 4 | AC27: =Y27/100 -> 0.057061341 | AE27: 糖
M28: =K28/85 -> 0 | Q28: 虱目魚丸 | R28: =S28/701*1000 -> 8.5592011 | S28: 6 | U28: =R28/50 -> 0.17118402
C29: 蒜碎 | E29: 0.4 | O29: =K29/100 -> 0 | Q29: 蒜碎 | S29: 0.6 | X29: 蒜碎 | Z29: 0.8 | AE29: 蒜碎 | AG29: 0.6
A30: 水果 | J30: 蒜碎 | L30: 0.8 | Q30: 季節水果 | S30: 694份
A31: 其他 | I31: 其他 | P31: 其他 | W31: 其他 | AD31: 其他
A32: 營養供應比例 | B32: 油脂類(份) | D32: 3 | E32: =D32*45 -> 135 | I32: 油脂類(份) | K32: 3 | L32: =K32*45 -> 135 | P32: 油脂類(份) | R32: 3 | S32: =R32*45 -> 135 | W32: 油脂類(份) | Y32: 3 | Z32: =Y32*45 -> 135 | AD32: 油脂類(份) | AF32: 3 | AG32: =AF32*45 -> 135
B33: 全榖雜糧類(份) | D33: =SUM(#REF!) -> #REF! | E33: =D33*70 -> #REF! | I33: 全榖雜糧類(份) | K33: =SUM(M5:M29) -> 4.7853067 | L33: =K33*70 -> 334.97147 | P33: 全榖雜糧類(份) | R33: =SUM(T5:T29) -> 5.538573 | S33: =R33*70 -> 387.70011 | W33: 全榖雜糧類(份) | Y33: =SUM(AA5:AA29) -> 4.5 | Z33: =Y33*70 -> 315 | AD33: 全榖雜糧類(份) | AF33: =SUM(AH5:AH29) -> 5.3987161 | AG33: =AF33*70 -> 377.91013
B34: 豆魚蛋肉類(份) | D34: =SUM(G5:G31) -> 1.7097159 | E34: =D34*75 -> 128.22869 | I34: 豆魚蛋肉類(份) | K34: =SUM(N5:N31) -> 2.6380449 | L34: =K34*75 -> 197.85337 | P34: 豆魚蛋肉類(份) | R34: =SUM(U5:U31) -> 2.3517424 | S34: =R34*75 -> 176.38068 | W34: 豆魚蛋肉類(份) | Y34: =SUM(AB5:AB31) -> 2.2903274 | Z34: =Y34*75 -> 171.77455 | AD34: 豆魚蛋肉類(份) | AF34: =SUM(AI5:AI31) -> 3.168016 | AG34: =AF34*75 -> 237.6012
B35: 蔬菜類(份) | D35: =SUM(#REF!) -> #REF! | E35: =D35*25 -> #REF! | I35: 蔬菜類(份) | K35: =SUM(O5:O29) -> 1.4550642 | L35: =K35*25 -> 36.376605 | P35: 蔬菜類(份) | R35: =SUM(V5:V29) -> 1.1126961 | S35: =R35*25 -> 27.817404 | W35: 蔬菜類(份) | Y35: =SUM(AC5:AC29) -> 1.7689016 | Z35: =Y35*25 -> 44.222539 | AD35: 蔬菜類(份) | AF35: =SUM(AJ5:AJ29) -> 1.2125535 | AG35: =AF35*25 -> 30.313837
B36: 水果類(份) | D36: 0 | E36: =D36*60 -> 0 | I36: 水果類(份) | K36: 0 | L36: =K36*60 -> 0 | P36: 水果類(份) | R36: 0 | S36: =R36*60 -> 0 | W36: 水果類(份) | Y36: 0 | Z36: =Y36*60 -> 0 | AD36: 水果類(份) | AF36: 0 | AG36: =AF36*60 -> 0
B37: 乳製品(份) | D37: 0 | E37: =D37*120 -> 0 | I37: 乳製品(份) | K37: 0 | L37: =K37*120 -> 0 | P37: 乳製品(份) | R37: 0 | S37: =R37*120 -> 0 | W37: 乳製品(份) | Y37: 0 | Z37: =Y37*120 -> 0 | AD37: 乳製品(份) | AF37: 0 | AG37: =AF37*120 -> 0
B38: 熱量 | E38: =SUM(E32:E37) -> #REF! | I38: 熱量 | L38: =SUM(L32:L37) -> 704.20144 | P38: 熱量 | S38: =SUM(S32:S37) -> 726.8982 | W38: 熱量 | Z38: =SUM(Z32:Z37) -> 665.99709 | AD38: 熱量 | AG38: =SUM(AG32:AG37) -> 780.82517
A39: 廠商營養師: 趙英茹 午餐秘書: 主任: 校長:
A40: 備註:本廠使用的豬肉及其製品原料產地皆為國產豬肉。

Sheet 工作表
A1: 屏東縣東寧國小111年10月第五週學生午餐食譜設計表
A2: 供應人數： | C2: 694人+10備份 (份數的備份+30) | P2: 本校/園一律使用國產 豬、牛肉食材 | X2: 食材供應商:芳味香食品企業有限公司 07-7037855
A3: 日期 | B3: 10月 31 日 星期一 | I3: 月 日 星期二 | P3: 月 日 星期三 | W3: 月 日 星期四 | AD3: 月 日 星期五
A4: 項目 | C4: 材料 | D4: 每人(g) | E4: 學校採購量(kg) | F4: C | G4: P | H4: V | J4: 材料 | K4: 每人(g) | L4: 學校採購量(kg) | M4: C | N4: P | O4: V | P4: 菜名/烹調法 | Q4: 材料 | R4: 每人(g) | S4: 學校採購量(kg) | T4: C | U4: P | V4: V | W4: 菜名/烹調法 | X4: 材料 | Y4: 每人(g) | Z4: 學校採購量(kg) | AA4: C | AB4: P | AC4: V | AD4: 菜名/烹調法 | AE4: 材料 | AF4: 每人(g) | AG4: 學校採購量(kg) | AH4: C | AI4: P | AJ4: V
A5: 主食 | B5: ='12月菜單'!D8 -> 白米飯 | C5: 白米 | D5: 71 | E5: 50 | F5: 4.5 | I5: 糙米飯 | J5: 白米 | K5: 52 | L5: 35 | M5: 4.5 | P5: 什錦飯湯 | Q5: 白米 | R5: =S5/690*1000 -> 36.231884 | S5: 25 | T5: =R5/20 -> 1.8115942 | W5: 糙米飯 | X5: 白米 | Z5: 35 | AA5: 4.5 | AD5: 白米飯 | AE5: 白米 | AF5: 71 | AG5: 50 | AH5: 4.5
J6: 糙米 | K6: 22 | L6: 15 | Q6: 肉絲 | R6: =S6/670*1000 -> 40.298507 | S6: 27 | U6: =R6/35 -> 1.1513859 | X6: 糙米 | Z6: 15
Q7: 雞蛋 | R7: =S7/670*1000 -> 26.865672 | S7: 18 | U7: =R7/50 -> 0.53731343 | AL7: 東寧雜貨送校
A8: 副 食一 | B8: ='12月菜單'!E28 -> 麵輪燒雞 | C8: 雞腿丁 | D8: =E8/670*1000 -> 83.58209 | E8: 56 | G8: =D8/40*0.85 -> 1.7761194 | I8: ='12月菜單'!E9 -> 油蔥蒸魚 | J8: 新鮮魚丁 | K8: =L8/670*1000 -> 119.40299 | L8: 80 | N8: =K8/40*0.85 -> 2.5373134 | Q8: 洋蔥 | R8: =S8/670*1000 -> 17.910448 | S8: 12 | V8: =R8/100 -> 0.17910448 | W8: ='12月菜單'!E6 -> 魚丸滷肉燥 | X8: 絞肉 | Y8: =Z8/670*1000 -> 58.208955 | Z8: 39 | AB8: =Y8/35 -> 1.663113 | AD8: ='12月菜單'!E7 -> 五味醬雞丁 | AE8: 雞腿丁 | AF8: =AG8/670*1000 -> 83.58209 | AG8: 56 | AI8: =AF8/40*0.85 -> 1.7761194
C9: 紅蘿蔔 | D9: =E9/670*1000 -> 22.38806 | E9: 15 | H9: =D9/100 -> 0.2238806 | J9: 洋蔥 | K9: =L9/670*1000 -> 14.925373 | L9: 10 | O9: =K9/100 -> 0.14925373 | Q9: 紅蘿蔔 | R9: =S9/670*1000 -> 11.940299 | S9: 8 | V9: =R9/100 -> 0.11940299 | X9: 魚丸Q | Y9: =Z9/670*1000 -> 17.910448 | Z9: 12 | AB9: =Y9/50 -> 0.35820896 | AE9: 油豆腐 | AF9: =AG9/670*1000 -> 17.910448 | AG9: 12 | AI9: =AF9/55 -> 0.3256445
C10: 麵輪 | D10: =E10/670*1000 -> 8.9552239 | E10: 6 | H10: =D10/100 -> 0.089552239 | J10: 青椒 | K10: =L10/670*1000 -> 7.4626866 | L10: 5 | O10: =K10/100 -> 0.074626866 | Q10: 毛豆 | R10: =S10/670*1000 -> 4.4776119 | S10: 3 | V10: =R10/100 -> 0.044776119 | X10: 洋蔥 | Y10: =Z10/670*1000 -> 17.910448 | Z10: 12 | AC10: =Y10/100 -> 0.17910448 | AE10: 九層塔 | AF10: =AG10/690*1000 -> 0.72463768 | AG10: 0.5
H11: =D11/100 -> 0 | J11: 紅椒 | K11: =L11/670*1000 -> 5.9701493 | L11: 4 | Q11: 香腸CAS | R11: =S11/670*1000 -> 13.432836 | S11: 9 | X11: 油蔥酥 | Y11: - | Z11: 1包 | AE11: 薑片 | AF11: - | AG11: 0.5
AE12: 麻油 | AF12: - | AG12: 1桶
AE13: 醬油 | AF13: - | AG13: 1桶
AE14: 米酒 | AF14: - | AG14: 適量
AF15: -
A16: 副 食二 | B16: ='12月菜單'!F28 -> 玉米蛋 | C16: 雞蛋 | D16: =E16/670*1000 -> 44.776119 | E16: 30 | G16: =D16/55 -> 0.81411126 | I16: ='12月菜單'!F9 -> 肉末玉米 | J16: 豆皮 | K16: =L16/690*1000 -> 8.6956522 | L16: 6 | N16: =K16/55 -> 0.15810277 | P16: ='12月菜單'!F5 -> 肉包*1 | Q16: CAS肉包 | R16: 30 | S16: 700粒 | T16: 0.8 | U16: 0.3 | W16: ='12月菜單'!F6 -> 香菇高麗菜 | X16: 豆腐 | Y16: =Z16/670*1000 -> 67.164179 | Z16: 45 | AB16: =Y16/80 -> 0.83955224 | AD16: ='12月菜單'!F7 -> 西魯肉 | AE16: 肉絲 | AF16: =AG16/670*1000 -> 8.9552239 | AG16: 6 | AI16: =AF16/35 -> 0.25586354
C17: 玉米粒 | D17: =E17/670*1000 -> 26.865672 | E17: 18 | F17: =D17/85 -> 0.31606673 | J17: 大黃瓜 | K17: =L17/690*1000 -> 60.869565 | L17: 42 | O17: =K17/100 -> 0.60869565 | X17: 三色丁CAS | Y17: =Z17/670*1000 -> 11.940299 | Z17: 8 | AA17: 0.1 | AC17: 0.1 | AE17: 蝦皮 | AF17: - | AG17: 0.6
C18: 紅蘿蔔 | D18: =E18/670*1000 -> 7.4626866 | E18: 5 | H18: =D18/100 -> 0.074626866 | J18: 紅蘿蔔 | K18: - | L18: 5 | AE18: 大白菜 | AF18: =AG18/670*1000 -> 62.686567 | AG18: 42 | AJ18: =AF18/100 -> 0.62686567
AE19: 紅蘿蔔 | AF19: =AG19/670*1000 -> 7.4626866 | AG19: 5 | AJ19: =AF19/100 -> 0.074626866
A22: 副食三 | B22: 時蔬 | C22: 小白菜 | D22: =E22/670*1000 -> 74.626866 | E22: 50 | H22: =D22/100 -> 0.74626866 | I22: 時蔬 | J22: 青江菜 | K22: =L22/690*1000 -> 0 | O22: =K22/100 -> 0 | W22: 時蔬 | X22: 青江菜 | Y22: =Z22/670*1000 -> 74.626866 | Z22: 50 | AC22: =Y22/100 -> 0.74626866 | AD22: 時蔬 | AE22: 有機蔬菜 | AF22: =AG22/670*1000 -> 74.626866 | AG22: 50 | AJ22: =AF22/100 -> 0.74626866
C23: 薑絲 | D23: - | E23: 0.2 | J23: 枸杞 | X23: 香菇 | Y23: =Z23/670*1000 -> 2.9850746 | Z23: 2
A25: 湯類 | B25: ='12月菜單'!H28 -> 茶壺湯 | C25: 金針菇 | D25: =E25/670*1000 -> 8.9552239 | E25: 6 | H25: =D25/100 -> 0.089552239 | I25: ='12月菜單'!H9 -> 紫菜蛋花湯 | J25: 大白菜 | K25: =L25/690*1000 -> 28.985507 | L25: 20 | O25: =K25/100 -> 0.28985507 | W25: ='12月菜單'!H6 -> 海芽龍骨湯 | X25: 海帶結 | Y25: =Z25/670*1000 -> 7.4626866 | Z25: 5 | AC25: =Y25/100 -> 0.074626866 | AD25: ='12月菜單'!H7 -> 綠豆西米露 | AE25: 山粉圓 | AF25: =AG25/670*1000 -> 2.9850746 | AG25: 2 | AH25: =AF25/15 -> 0.19900498
C26: 豆皮 | D26: =E26/670*1000 -> 8.9552239 | E26: 6 | G26: =D26/15 -> 0.59701493 | J26: 金針菇 | K26: =L26/690*1000 -> 5.7971014 | L26: 4 | N26: =K26/35 -> 0.16563147 | X26: 白蘿蔔 | Y26: =Z26/670*1000 -> 29.850746 | Z26: 20 | AC26: =Y26/100 -> 0.29850746 | AE26: 冬瓜磚 | AF26: - | AG26: 2箱
C27: 白蘿蔔 | D27: =E27/670*1000 -> 26.865672 | E27: 18 | H27: =D27/100 -> 0.26865672 | J27: 鮑魚菇 | K27: =L27/690*1000 -> 4.3478261 | L27: 3 | N27: =K27/35 -> 0.1242236 | X27: 肉絲 | Y27: =Z27/670*1000 -> 8.9552239 | Z27: 6 | AB27: =Y27/35 -> 0.25586354 | AF27: =AG27/690*1000 -> 0
C28: 海帶結 | D28: =E28/670*1000 -> 5.9701493 | E28: 4 | H28: =D28/100 -> 0.059701493 | J28: 紅蘿蔔 | K28: - | L28: 2 | X28: 龍骨 | Y28: =Z28/670*1000 -> 8.9552239 | Z28: 6 | AF28: -
J29: 味噌 | L29: 2盒 | Q29: 蒜碎 | S29: 0.4 | X29: 薑絲 | Y29: - | Z29: 0.1 | AE29: 蒜碎 | AG29: 0.5
A30: 水果 | I30: 水果 | P30: 水果 | Q30: 季節水果 | S30: 670份 | W30: 水果 | X30: 蒜碎 | Z30: 0.8 | AD30: 水果
A31: 其他 | B31: 其他 | I31: 其他 | P31: 其他 | W31: 其他 | AD31: 其他
A32: 營養供應比例 | B32: 油脂類(份) | D32: 3 | E32: =D32*45 -> 135 | I32: 油脂類(份) | K32: 3 | L32: =K32*45 -> 135 | P32: 油脂類(份) | R32: 3 | S32: =R32*45 -> 135 | W32: 油脂類(份) | Y32: 3 | Z32: =Y32*45 -> 135 | AD32: 油脂類(份) | AF32: 3 | AG32: =AF32*45 -> 135
B33: 五榖類(份) | D33: =SUM(F5:F29) -> 4.8160667 | E33: =D33*70 -> 337.12467 | I33: 五榖類(份) | K33: =SUM(M5:M29) -> 4.5 | L33: =K33*70 -> 315 | P33: 五榖類(份) | R33: =SUM(T5:T29) -> 2.6115942 | S33: =R33*70 -> 182.81159 | W33: 五榖類(份) | Y33: =SUM(AA5:AA29) -> 4.6 | Z33: =Y33*70 -> 322 | AD33: 五榖類(份) | AF33: =SUM(AH5:AH29) -> 4.699005 | AG33: =AF33*70 -> 328.93035
B34: 豆魚肉蛋類(份) | D34: =SUM(G5:G31) -> 3.1872456 | E34: =D34*75 -> 239.04342 | I34: 豆魚肉蛋類(份) | K34: =SUM(N5:N31) -> 2.9852713 | L34: =K34*75 -> 223.89535 | P34: 豆魚肉蛋類(份) | R34: =SUM(U5:U31) -> 1.9886994 | S34: =R34*75 -> 149.15245 | W34: 豆魚肉蛋類(份) | Y34: =SUM(AB5:AB31) -> 3.1167377 | Z34: =Y34*75 -> 233.75533 | AD34: 豆魚肉蛋類(份) | AF34: =SUM(AI5:AI31) -> 2.3576274 | AG34: =AF34*75 -> 176.82206
B35: 蔬菜類(份) | D35: =SUM(H5:H29) -> 1.5522388 | E35: =D35*25 -> 38.80597 | I35: 蔬菜類(份) | K35: =SUM(O5:O29) -> 1.1224313 | L35: =K35*25 -> 28.060783 | P35: 蔬菜類(份) | R35: =SUM(V5:V29) -> 0.34328358 | S35: =R35*25 -> 8.5820896 | W35: 蔬菜類(份) | Y35: =SUM(AC5:AC29) -> 1.3985075 | Z35: =Y35*25 -> 34.962687 | AD35: 蔬菜類(份) | AF35: =SUM(AJ5:AJ29) -> 1.4477612 | AG35: =AF35*25 -> 36.19403
B36: 水果類(份) | D36: 0 | E36: =D36*60 -> 0 | I36: 水果類(份) | K36: 0 | L36: =K36*60 -> 0 | P36: 水果類(份) | R36: 1 | S36: =R36*60 -> 60 | W36: 水果類(份) | Y36: 0 | Z36: =Y36*60 -> 0 | AD36: 水果類(份) | AF36: 0 | AG36: =AF36*60 -> 0
B37: 乳製品(份) | D37: 0 | E37: =D37*120 -> 0 | I37: 乳製品(份) | K37: 0 | L37: =K37*120 -> 0 | P37: 乳製品(份) | R37: 0 | S37: =R37*120 -> 0 | W37: 乳製品(份) | Y37: 0 | Z37: =Y37*120 -> 0 | AD37: 乳製品(份) | AF37: 0 | AG37: =AF37*120 -> 0
B38: 熱量 | E38: =SUM(E32:E37) -> 749.97406 | I38: 熱量 | L38: =SUM(L32:L37) -> 701.95613 | P38: 熱量 | S38: =SUM(S32:S37) -> 535.54614 | W38: 熱量 | Z38: =SUM(Z32:Z37) -> 725.71802 | AD38: 熱量 | AG38: =SUM(AG32:AG37) -> 676.94644
A39: 廠商營養師: 趙英茹 午餐秘書: 主任: 校長:
A40: 備註:本廠使用的豬肉及其製品原料產地皆為國產豬肉。
